Workbook
Name _GrafikDaten_6.1: Titelblatt!$C$20:$E$30
Name _GrafikDaten_6.2: 'Überblick in Grafiken'!$D$3:$F$13
Name _GrafikDaten_6.3: 'Überblick in Grafiken'!$H$3:$J$13
Name _GrafikDaten_6.4: 'Überblick in Grafiken'!$D$23:$E$41
Name _GrafikDaten_6.5: '6.2.1'!$K$16:$M$38
Name _GrafikDaten_6.6: '6.5.1+6.5.2'!$L$32:$O$50
Name _Tabelle_6.1.1: '6.1.1-6.1.3'!$A$3:$J$15
Name _Tabelle_6.1.2: '6.1.1-6.1.3'!$A$18:$J$29
Name _Tabelle_6.1.3: '6.1.1-6.1.3'!$A$32:$E$50
Name _Tabelle_6.10.1: '[1]5.8.1+5.8.2'!$A$3:$J$36
Name _Tabelle_6.10.2: '[1]5.8.1+5.8.2'!$A$39:$J$49
Name _Tabelle_6.2.1: '6.2.1'!$A$3:$I$14
Name _Tabelle_6.3.1: '6.3.1+6.3.2'!$A$3:$J$29
Name _Tabelle_6.3.2: '6.3.1+6.3.2'!$A$32:$J$39
Name _Tabelle_6.4.1: '6.4.1+6.4.2'!$A$3:$J$13
Name _Tabelle_6.4.2: '6.4.1+6.4.2'!$A$16:$J$26
Name _Tabelle_6.5.1: '6.5.1+6.5.2'!$A$3:$E$15
Name _Tabelle_6.5.2: '6.5.1+6.5.2'!$A$18:$J$30
Name _Tabelle_6.5.3: '6.5.3+6.5.4, 6.6.1'!$A$3:$E$12
Name _Tabelle_6.5.4: '6.5.3+6.5.4, 6.6.1'!$A$15:$J$24
Name _Tabelle_6.6.1: '6.5.3+6.5.4, 6.6.1'!$A$29:$F$44
Name _Tabelle_6.7.1: '6.7.1'!$A$3:$J$44
Name _Tabelle_6.7.2: '6.7.2+6.7.3'!$A$3:$J$18
Name _Tabelle_6.7.3: '6.7.2+6.7.3'!$A$21:$E$39
Name _Tabelle_6.7.4: '6.7.4+6.7.5'!$A$3:$J$10
Name _Tabelle_6.7.5: '6.7.4+6.7.5'!$A$13:$J$20
Name _Tabelle_6.8.1: '6.8.1+6.8.2'!$A$3:$J$28
Name _Tabelle_6.8.2: '6.8.1+6.8.2'!$A$31:$J$40
Name _Tabelle_6.9.1: '[1]5.7.1'!$A$3:$I$46
Name _Tabelle_6.9.2: '[1]5.7.2'!$A$3:$J$25
Name Print_Titles: Inhalt!$2:$3

Sheet Titelblatt
A1: Titelblatt des Kapitels 6 "Öffentliche Sozialleistungen": Link zum Inhaltsverzeichnis
A2: 6 | Öffentliche Sozialleistungen
A20: Grafik 6.1 | C20: Daten der Grafik 6.1 "Nettoausgaben der Sozialhilfe je Einwohner 2024 nach Kreisen"
C21: Kreise | D21: EUR je Einwohner | E21: Nachrichtlich: Bevölkerung am 31.12.2024
C22: Rostock | D22: ='6.4.1+6.4.2'!C22/GrafikDaten_6.1[[#This Row],[Nachrichtlich: Bevölkerung am 31.12.2024]]*1000 -> 126.18177 | E22: 205307
C23: Schwerin | D23: ='6.4.1+6.4.2'!D22/GrafikDaten_6.1[[#This Row],[Nachrichtlich: Bevölkerung am 31.12.2024]]*1000 -> 193.34134 | E23: 98308
C24: Mecklenburgische Seenplatte | D24: ='6.4.1+6.4.2'!E22/GrafikDaten_6.1[[#This Row],[Nachrichtlich: Bevölkerung am 31.12.2024]]*1000 -> 129.49927 | E24: 246318
C25: Landkreis Rostock | D25: ='6.4.1+6.4.2'!F22/GrafikDaten_6.1[[#This Row],[Nachrichtlich: Bevölkerung am 31.12.2024]]*1000 -> 73.719487 | E25: 218721
C26: Vorpommern-Rügen | D26: ='6.4.1+6.4.2'!G22/GrafikDaten_6.1[[#This Row],[Nachrichtlich: Bevölkerung am 31.12.2024]]*1000 -> 115.71865 | E26: 215203
C27: Nordwestmecklenburg | D27: ='6.4.1+6.4.2'!H22/GrafikDaten_6.1[[#This Row],[Nachrichtlich: Bevölkerung am 31.12.2024]]*1000 -> 92.659485 | E27: 156692
C28: Vorpommern-Greifswald | D28: ='6.4.1+6.4.2'!I22/GrafikDaten_6.1[[#This Row],[Nachrichtlich: Bevölkerung am 31.12.2024]]*1000 -> 108.87018 | E28: 224956
C29: Ludwigslust-Parchim | D29: ='6.4.1+6.4.2'!J22/GrafikDaten_6.1[[#This Row],[Nachrichtlich: Bevölkerung am 31.12.2024]]*1000 -> 71.636584 | E29: 208092
C30: Mecklenburg-Vorpommern | D30: ='6.4.1+6.4.2'!B22/GrafikDaten_6.1[[#This Row],[Nachrichtlich: Bevölkerung am 31.12.2024]]*1000 -> 109.14802 | E30: 1573597

Sheet Inhalt
A1: Inhaltsverzeichnis des Kapitels 6 "Öffentliche Sozialleistungen": Die Gliederungen und Überschriften auf dieser Seite sind Links zum Inhalt.
A2: Inhaltsverzeichnis | C2: Seite
A3: Überblick | B3: Überblick in Grafiken | C3: =D3+176 -> 179 | D3: 3
B4: Überblick in Worten | C4: =D4+176 -> 180 | D4: 4
A5: Ergebnisse in Tabellen
A6: 6.1 | B6: Empfängerinnen und Empfänger von Hilfe zum Lebensunterhalt
A7: 6.1.1 | B7: Empfängerinnen und Empfänger von Hilfe zum Lebensunterhalt am 31. Dezember im Zeitvergleich nach dem Ort der Leistungserbringung und Altersgruppen | C7: =D7+176 -> 181 | D7: 5
A8: 6.1.2 | B8: Empfängerinnen und Empfänger von Hilfe zum Lebensunterhalt am 31. Dezember 2025 nach Kreisen | C8: =D8+176 -> 181 | D8: 5
A9: 6.1.3 | B9: Empfängerinnen und Empfänger von Leistungen für Bildung und Teilhabe 2025 nach dem 3. Kapitel SGB XII | C9: =D9+176 -> 181 | D9: 5
A10: 6.2 | B10: Empfängerinnen und Empfänger von Grundsicherung im Alter und bei Erwerbsminderung
A11: 6.2.1 | B11: Empfängerinnen und Empfänger von Grundsicherung im Alter und bei Erwerbsminderung im Zeitvergleich nach dem Ort der Leistungserbringung | C11: =D11+176 -> 182 | D11: 6
A12: 6.3 | B12: Empfängerinnen und Empfänger von Leistungen nach dem 5. - 9. Kapitel SGB XII
A13: 6.3.1 | B13: Empfängerinnen und Empfänger von Leistungen nach dem 5. - 9. Kapitel SGB XII im Zeitvergleich nach dem Ort der Leistungserbringung und Hilfearten | C13: =D13+176 -> 183 | D13: 7
A14: 6.3.2 | B14: Empfängerinnen und Empfänger von Leistungen nach dem 5. - 9. Kapitel SGB XII 2024 nach Kreisen | C14: =D14+176 -> 183 | D14: 7
A15: 6.4 | B15: Ausgaben und Einnahmen der Sozialhilfe
A16: 6.4.1 | B16: Ausgaben und Einnahmen der Sozialhilfe im Zeitvergleich nach Hilfearten und Ort der Leistungserbringung | C16: =D16+176 -> 184 | D16: 8
A17: 6.4.2 | B17: Ausgaben und Einnahmen der Sozialhilfe 2024 nach Kreisen | C17: =D17+176 -> 184 | D17: 8
A18: 6.5 | B18: Leistungen der Eingliederungshilfe nach dem SGB IX
A19: 6.5.1 | B19: Empfängerinnen und Empfänger von Eingliederungshilfe nach dem SGB IX im Zeitvergleich | C19: =D19+176 -> 185 | D19: 9
A20: 6.5.2 | B20: Empfängerinnen und Empfänger von Eingliederungshilfe nach dem SGB IX 2024 nach Kreisen | C20: =D20+176 -> 185 | D20: 9
A21: 6.5.3 | B21: Ausgaben und Einnahmen der Eingliederungshilfe nach dem SGB IX im Zeitvergleich | C21: =D21+176 -> 186 | D21: 10
A22: 6.5.4 | B22: Ausgaben und Einnahmen der Eingliederungshilfe nach dem SGB IX 2024 nach Kreisen | C22: =D22+176 -> 186 | D22: 10
A23: 6.6 | B23: Prostituiertenschutz
A24: 6.6.1 | B24: Gültig angemeldete Prostituierte am 31. Dezember im Zeitvergleich nach Altersgruppen und Staatsangehörigkeit | C24: =D24+176 -> 186 | D24: 10
A25: 6.7 | B25: Leistungen nach dem Asylbewerberleistungsgesetz
A26: 6.7.1 | B26: Empfängerinnen und Empfänger von Regelleistungen am 31. Dezember im Zeitvergleich nach Art der Unterbringung und Leistung sowie Altersgruppen | C26: =D26+176 -> 187 | D26: 11
A27: 6.7.2 | B27: Leistungsempfängerinnen und -empfänger nach dem Asylbewerberleistungsgesetz am 31. Dezember 2024 nach Art der Unterbringung und Leistung sowie nach Kreisen | C27: =D27+176 -> 188 | D27: 12
A28: 6.7.3 | B28: Empfängerinnen und Empfänger von Leistungen für Bildung und Teilhabe 2025 nach dem Asylbewerberleistungsgesetz | C28: =D28+176 -> 188 | D28: 12
A29: 6.7.4 | B29: Ausgaben und Einnahmen im Zeitvergleich | C29: =D29+176 -> 189 | D29: 13
A30: 6.7.5 | B30: Ausgaben und Einnahmen 2024 nach Kreisen | C30: =D30+176 -> 189 | D30: 13
A31: 6.8 | B31: Wohngeld
A32: 6.8.1 | B32: Wohngeldhaushalte am 31. Dezember im Zeitvergleich nach Haushaltsgröße und sozialer Stellung der Haupteinkommensbezieherin bzw. des Haupteinkommensbeziehers | C32: =D32+176 -> 190 | D32: 14
A33: 6.8.2 | B33: Wohngeldhaushalte am 31. Dezember 2025 nach Kreisen | C33: =D33+176 -> 190 | D33: 14
A34: Ergebnisse in Grafiken
A35: 6.1 | B35: Nettoausgaben der Sozialhilfe je Einwohnerin bzw. Einwohner 2024 nach Kreisen | C35: =D35+176 -> 177 | D35: 1
A36: 6.2 | B36: Empfängerinnen und Empfänger von Hilfe zum Lebensunterhalt je 1.000 Einwohnerinnen bzw. Einwohner am 31. Dezember 2025 nach Kreisen | C36: =D36+176 -> 179 | D36: 3
A37: 6.3 | B37: Empfängerinnen und Empfänger von Leistungen nach dem 5. - 9. Kapitel SGB XII je 1.000 Einwohnerinnen bzw. Einwohner 2024 nach Kreisen | C37: =D37+176 -> 179 | D37: 3
A38: 6.4 | B38: Durchschnittlicher monatlicher Wohngeldanspruch reiner Wohngeldhaushalte am 31. Dezember 2024 im Ländervergleich | C38: =D38+176 -> 179 | D38: 3
A39: 6.5 | B39: Empfängerinnen und Empfänger von Grundsicherung im Alter und bei Erwerbsminderung im Zeitvergleich | C39: =D39+176 -> 182 | D39: 6
A40: 6.6 | B40: Empfängerinnen und Empfänger von Eingliederungshilfe nach dem SGB IX je 1.000 Einwohnerinnen bzw. Einwohner am 31. Dezember 2024 im Ländervergleich | C40: =D40+176 -> 185 | D40: 9
...

Sheet Überblick in Grafiken
A1: Link zum Inhaltsverzeichnis
A2: Überblick in Grafiken
A3: Grafik 6.2 | B3: Grafik 6.3 | D3: Daten der Grafik 6.2 "Empfänger von Hilfe zum Lebensunterhalt je 1.000 Einwohner am 31.12.2025 nach Kreisen" | H3: Daten der Grafik 6.3 " Empfänger von Leistungen nach dem 5. - 9. Kapitel SGB XII je 1.000 Einwohner 2024 nach Kreisen"
D4: Kreise | E4: Hilfeempfänger je 1.000 EW | F4: Nachrichtlich: Bevölkerung am 31.12.2025 | H4: Kreise | I4: Leistungsempfänger je 1.000 EW | J4: Nachrichtlich: Bevölkerung am 31.12.2024
D5: Rostock | E5: ='6.1.1-6.1.3'!C20/GrafikDaten_6.2[[#This Row],[Nachrichtlich: Bevölkerung am 31.12.2025]]*1000 -> 4.3185689 | F5: 204929 | H5: Rostock | I5: ='6.3.1+6.3.2'!C34/GrafikDaten_6.3[[#This Row],[Nachrichtlich: Bevölkerung am 31.12.2024]]*1000 -> 12.810084 | J5: 205307
D6: Schwerin | E6: ='6.1.1-6.1.3'!D20/GrafikDaten_6.2[[#This Row],[Nachrichtlich: Bevölkerung am 31.12.2025]]*1000 -> 4.3401891 | F6: 97922 | H6: Schwerin | I6: ='6.3.1+6.3.2'!D34/GrafikDaten_6.3[[#This Row],[Nachrichtlich: Bevölkerung am 31.12.2024]]*1000 -> 11.341905 | J6: 98308
D7: Mecklenburgische Seenplatte | E7: ='6.1.1-6.1.3'!E20/GrafikDaten_6.2[[#This Row],[Nachrichtlich: Bevölkerung am 31.12.2025]]*1000 -> 4.4309303 | F7: 245998 | H7: Mecklenburgische Seenplatte | I7: ='6.3.1+6.3.2'!E34/GrafikDaten_6.3[[#This Row],[Nachrichtlich: Bevölkerung am 31.12.2024]]*1000 -> 10.37277 | J7: 246318
D8: Landkreis Rostock | E8: ='6.1.1-6.1.3'!F20/GrafikDaten_6.2[[#This Row],[Nachrichtlich: Bevölkerung am 31.12.2025]]*1000 -> 2.6361273 | F8: 218123 | H8: Landkreis Rostock | I8: ='6.3.1+6.3.2'!F34/GrafikDaten_6.3[[#This Row],[Nachrichtlich: Bevölkerung am 31.12.2024]]*1000 -> 6.5608698 | J8: 218721
D9: Vorpommern-Rügen | E9: ='6.1.1-6.1.3'!G20/GrafikDaten_6.2[[#This Row],[Nachrichtlich: Bevölkerung am 31.12.2025]]*1000 -> 4.0400887 | F9: 217817 | H9: Vorpommern-Rügen | I9: ='6.3.1+6.3.2'!G34/GrafikDaten_6.3[[#This Row],[Nachrichtlich: Bevölkerung am 31.12.2024]]*1000 -> 9.432954 | J9: 215203
D10: Nordwestmecklenburg | E10: ='6.1.1-6.1.3'!H20/GrafikDaten_6.2[[#This Row],[Nachrichtlich: Bevölkerung am 31.12.2025]]*1000 -> 4.1060121 | F10: 155869 | H10: Nordwestmecklenburg | I10: ='6.3.1+6.3.2'!H34/GrafikDaten_6.3[[#This Row],[Nachrichtlich: Bevölkerung am 31.12.2024]]*1000 -> 8.6156281 | J10: 156692
D11: Vorpommern-Greifswald | E11: ='6.1.1-6.1.3'!I20/GrafikDaten_6.2[[#This Row],[Nachrichtlich: Bevölkerung am 31.12.2025]]*1000 -> 4.1396043 | F11: 225867 | H11: Vorpommern-Greifswald | I11: ='6.3.1+6.3.2'!I34/GrafikDaten_6.3[[#This Row],[Nachrichtlich: Bevölkerung am 31.12.2024]]*1000 -> 9.6241043 | J11: 224956
D12: Ludwigslust-Parchim | E12: ='6.1.1-6.1.3'!J20/GrafikDaten_6.2[[#This Row],[Nachrichtlich: Bevölkerung am 31.12.2025]]*1000 -> 3.5479822 | F12: 207160 | H12: Ludwigslust-Parchim | I12: ='6.3.1+6.3.2'!J34/GrafikDaten_6.3[[#This Row],[Nachrichtlich: Bevölkerung am 31.12.2024]]*1000 -> 6.65571 | J12: 208092
D13: Mecklenburg-Vorpommern | E13: ='6.1.1-6.1.3'!B20/GrafikDaten_6.2[[#This Row],[Nachrichtlich: Bevölkerung am 31.12.2025]]*1000 -> 3.9207338 | F13: =SUBTOTAL(109,F5:F12) -> 1573685 | H13: Mecklenburg-Vorpommern | I13: ='6.3.1+6.3.2'!B34/GrafikDaten_6.3[[#This Row],[Nachrichtlich: Bevölkerung am 31.12.2024]]*1000 -> 9.3225902 | J13: 1573597
A23: Grafik 6.4 | D23: Daten der Grafik 6.4 "Durchnschnittlicher monatlicher Wohngeldanspruch reiner Wohngeldhaushalte am 31.12.2024 im Ländervergleich"
D24: Bundesland | E24: Wohngeld in EUR
D25: Baden-Württemberg | E25: 318
D26: Bayern | E26: 289
D27: Berlin | E27: 279
D28: Brandenburg | E28: 229
D29: Bremen | E29: 316
D30: Hamburg | E30: 311
D31: Hessen | E31: 334
D32: Mecklenburg-Vorpommern | E32: 213
D33: Niedersachsen | E33: 301
D34: Nordrhein-Westfalen | E34: 311
D35: Rheinland-Pfalz | E35: 298
D36: Saarland | E36: 299
... D41: Deutschland | E41: 287

Sheet Überblick in Worten
A1: Link zum Inhaltsverzeichnis
A2: Überblick in Worten
A3: § | B3: Minderjährige Empfängerinnen und Empfänger von Hilfe zum Lebensunterhalt erhalten bei Bedarf eine finanzielle Unter- stützung für Bildung und Teilhabe am sozialen und kulturellen Leben in der Gemeinschaft. 70,5 Prozent der dafür im Jahr 2025 abgerufenen Gelder in Höhe von 431.290 EUR entfielen auf die gemeinschaftliche Mittagsverpflegung in Kinder- tagesstätten, Kindertagespflege und Schulen.
A4: § | B4: Rund 24.180 Menschen erhielten Ende 2025 Leistungen der Grundsicherung im Alter und bei Erwerbsminderung. 59,0 Prozent der Empfängerinnen und Empfänger hatten das Renteneintrittsalter noch nicht erreicht. Sie erhielten die Leistungen aufgrund einer dauerhaft vollen Erwerbsminderung infolge einer Krankheit oder Behinderung.
A5: § | B5: 2024 wurden in Mecklenburg-Vorpommern rund 172 Millionen EUR netto für Sozialhilfeleistungen ausgegeben. Gegenüber 2023 bedeutete dies einen Anstieg um rund 22 Prozent. Zu beachten ist dabei, dass die Eingliederungshilfe seit 2020 im SGB IX geregelt ist statt wie vorher im SGB XII.
A6: § | B6: 2024 erhielten 24.975 Personen Leistungen der Eingliederungshilfe nach dem SGB IX, davon waren 15.130 Männer und 9.845 Frauen. Gegenüber dem Vorjahr haben mit 0,6 Prozent weniger Menschen Eingliederungshilfen in Mecklenburg- Vorpommern erhalten.
A7: § | B7: Die reinen Ausgaben (netto) für Leistungen der Eingliederungshilfe nach dem SGB IX beliefen sich 2024 insgesamt auf rund 560 Millionen EUR. Das entspricht einer Steigerung um 16,0 Prozent gegenüber dem Vorjahr (2023: 482,5 Millionen EUR).
A8: § | B8: 121,5 Millionen EUR brutto wurden 2024 für Leistungen nach dem Asylbewerberleistungsgesetz aufgewendet. Im Vergleich zum Vorjahr haben sich die Ausgaben um 21,0 Prozent erhöht.
A9: § | B9: 45.485 Haushalte erhielten Ende 2025 Wohngeld. Das waren 3,9 Prozent mehr als 2024. Differenziert nach der sozialen Stellung der Haupteinkommensbezieherin bzw. des Haupteinkommensbeziehers stieg die Anzahl bei den Erwerbstätigen um 2,1 Prozent, bei den Arbeitslosen 5,1 Prozent und bei den Rentnerinnen und Rentnern 4,9 Prozent.
A10: § | B10: Der durchschnittliche monatliche Wohngeldanspruch stieg um 1,9 Prozent von 213 EUR in 2024 auf 217 EUR im Jahr 2025.

Sheet 6.1.1-6.1.3
A1: Link zum Inhaltsverzeichnis
A2: 6.1 Empfängerinnen und Empfänger von Hilfe zum Lebensunterhalt
A3: 6.1.1 Empfängerinnen und Empfänger von Hilfe zum Lebensunterhalt am 31. Dezember im Zeitvergleich nach dem Ort der
A4: Leistungserbringung und Altersgruppen
A5: Merkmal | B5: 1995 1) | C5: 2000 1) | D5: 2005 | E5: 2010 | F5: 2015 | G5: 2020 2) | H5: 2023 | I5: 2024 | J5: 2025
A6: Insgesamt | B6: 34770 | C6: 52315 | D6: 7659 | E6: 9272 | F6: 11734 | G6: 5870 | H6: 5730 | I6: 6040 | J6: 6170
A7: männlich 3) | B7: 15787 | C7: 24034 | D7: 4322 | E7: 5411 | F7: 6883 | G7: 3570 | H7: 3265 | I7: 3365 | J7: 3450
A8: weiblich 3) | B8: 18983 | C8: 28281 | D8: 3337 | E8: 3861 | F8: 4851 | G8: 2300 | H8: 2465 | I8: 2675 | J8: 2720
A9: außerhalb von Einrichtungen | B9: 34518 | C9: 51215 | D9: 1357 | E9: 2833 | F9: 4209 | G9: 3380 | H9: 3260 | I9: 3345 | J9: 3485
A10: in Einrichtungen | B10: 252 | C10: 1100 | D10: 6302 | E10: 6439 | F10: 7525 | G10: 2485 | H10: 2470 | I10: 2695 | J10: 2685
A11: Alter von … bis unter … Jahren
A12: unter 18 | B12: 15088 | C12: 18739 | D12: 552 | E12: 807 | F12: 1195 | G12: 730 | H12: 800 | I12: 800 | J12: 760
A13: 18 bis unter 65 | B13: 19070 | C13: 31190 | D13: 5564 | E13: 6936 | F13: 8473 | G13: 4040 | H13: 3665 | I13: 3665 | J13: 3750
A14: 65 und mehr | B14: 612 | C14: 2386 | D14: 1543 | E14: 1529 | F14: 2066 | G14: 1100 | H14: 1265 | I14: 1575 | J14: 1660
A15: Durchschnittsalter | B15: 23.2 | C15: 26.8 | D15: 46.3 | E15: 45.8 | F15: 48.3 | G15: 48.2 | H15: 49.3 | I15: 50.8 | J15: 50.7
A18: 6.1.2 Empfängerinnen und Empfänger von Hilfe zum Lebensunterhalt am 31. Dezember 2025 nach Kreisen
A19: Merkmal | B19: Mecklen- burg-Vor- pommern | C19: Kreisfreie Stadt Rostock | D19: Kreisfreie Stadt Schwerin | E19: Mecklen- burgische Seenplatte | F19: Landkreis Rostock | G19: Vor- pommern- Rügen | H19: Nordwest- mecklen- burg | I19: Vor- pommern- Greifswald | J19: Ludwigs- lust- Parchim
A20: Insgesamt | B20: 6170 | C20: 885 | D20: 425 | E20: 1090 | F20: 575 | G20: 880 | H20: 640 | I20: 935 | J20: 735
A21: männlich 3) | B21: 3450 | C21: 465 | D21: 220 | E21: 620 | F21: 305 | G21: 505 | H21: 365 | I21: 555 | J21: 410
A22: weiblich 3) | B22: 2720 | C22: 420 | D22: 205 | E22: 465 | F22: 270 | G22: 375 | H22: 275 | I22: 380 | J22: 330
A23: außerhalb von Einrichtungen | B23: 3485 | C23: 545 | D23: 285 | E23: 570 | F23: 280 | G23: 505 | H23: 360 | I23: 505 | J23: 450
A24: in Einrichtungen | B24: 2685 | C24: 340 | D24: 145 | E24: 520 | F24: 300 | G24: 380 | H24: 285 | I24: 430 | J24: 290
A25: Alter von … bis unter … Jahren
A26: unter 18 | B26: 760 | C26: 105 | D26: 45 | E26: 150 | F26: 75 | G26: 75 | H26: 100 | I26: 95 | J26: 115
A27: 18 bis unter 65 | B27: 3750 | C27: 560 | D27: 260 | E27: 630 | F27: 330 | G27: 615 | H27: 360 | I27: 575 | J27: 420
A28: 65 und mehr | B28: 1660 | C28: 220 | D28: 120 | E28: 315 | F28: 170 | G28: 190 | H28: 180 | I28: 260 | J28: 200
A29: Durchschnittsalter | B29: 50.7 | C29: 50.1 | D29: 51.9 | E29: 50.6 | F29: 52.4 | G29: 50.2 | H29: 49.2 | I29: 52.4 | J29: 49.9
A32: 6.1.3 Empfängerinnen und Empfänger von Leistungen für Bildung und
A33: Teilhabe 2025 nach dem 3. Kapitel SGB XII
A34: Merkmal | B34: 1. Viertel- jahr | C34: 2. Viertel- jahr | D34: 3. Viertel- jahr | E34: 4. Viertel- jahr
A35: Insgesamt 4) | B35: 505 | C35: 315 | D35: 475 | E35: 305
A36: Schulausflüge | B36: 85 | C36: 90 | D36: 90 | E36: 95
A37: mehrtägige Klassenfahrten | B37: 10 | C37: 25 | D37: 10 | E37: 5
A38: Schulbedarf | B38: 325 | C38: - | D38: 340 | E38: 10
A39: Schülerbeförderung | B39: - | C39: - | D39: - | E39: -
A40: Lernförderung | B40: 5 | C40: 10 | D40: 5 | E40: -
A41: Mittagsverpflegung | B41: 270 | C41: 285 | D41: 280 | E41: 280
A42: Teilhabe am sozialen und kulturellen Leben in der Gemeinschaft | B42: 140 | C42: 140 | D42: 145 | E42: 130
A43: Leistungen in EUR | B43: 108693 | C43: 100780 | D43: 131362 | E43: 90455
A44: Schulausflüge | B44: 2737 | C44: 2897 | D44: 3500 | E44: 3199
...

Sheet 6.2.1
A1: Link zum Inhaltsverzeichnis
A2: 6.2 Empfängerinnen und Empfänger von Grundsicherung im Alter und bei Erwerbsminderung
A3: 6.2.1 Empfängerinnen und Empfänger von Grundsicherung im Alter und bei Erwerbsminderung im Zeitvergleich nach dem Ort der
A4: Leistungserbringung
A5: Merkmal | B5: 31.12. 2005 | C5: 31.12. 2010 | D5: Dezember 2015 | E5: Dezember 2020 2) | F5: Dezember 2022 | G5: Dezember 2023 | H5: Dezember 2024 | I5: Dezember 2025
A6: Insgesamt | B6: 14246 | C6: 16901 | D6: 22233 | E6: 20945 | F6: 22650 | G6: 23050 | H6: 23820 | I6: 24180
A7: männlich 3) | B7: 6909 | C7: 9051 | D7: 12736 | E7: 12815 | F7: 13460 | G7: 13620 | H7: 13960 | I7: 14050
A8: weiblich 3) | B8: 7337 | C8: 7850 | D8: 9497 | E8: 8130 | F8: 9190 | G8: 9425 | H8: 9855 | I8: 10125
A9: außerhalb von Einrichtungen | B9: 9362 | C9: 11966 | D9: 16521 | E9: 18750 | F9: 20685 | G9: 21060 | H9: 21780 | I9: 22170
A10: in Einrichtungen | B10: 4884 | C10: 4935 | D10: 5712 | E10: 2195 | F10: 1965 | G10: 1985 | H10: 2035 | I10: 2010
A11: 18 Jahre bis unter der Altersgrenze zum Renteneintrittsalter nach § 41 Absatz 2 SGB XII | B11: 8874 | C11: 11536 | D11: 15612 | E11: 14780 | F11: 14550 | G11: 14480 | H11: 14375 | I11: 14260
A12: Durchschnittsalter | B12: x | C12: 40.2 | D12: 44.6 | E12: 44.4 | F12: 44.8 | G12: 44.9 | H12: 44.8 | I12: 44.9
A13: Altersgrenze zum Renteneintrittsalter nach § 41 Absatz 2 SGB XII und mehr | B13: 5372 | C13: 5365 | D13: 6621 | E13: 6160 | F13: 8100 | G13: 8565 | H13: 9440 | I13: 9920
A14: Durchschnittsalter | B14: x | C14: 74.5 | D14: 74.5 | E14: 73.4 | F14: 73 | G14: 73.1 | H14: 73.2 | I14: 73.3
A16: Grafik 6.5 | K16: Daten der Grafik 6.5 "Empfänger von Grundsicherung im Alter und bei Erwerbsminderung im Zeitvergleich"
K17: Jahr | L17: 18 Jahre bis unter der Altersgrenze zum Renteneintrittsalter nach § 41 Absatz 2 SGB XII | M17: Altersgrenze zum Renteneintrittsalter nach § 41 Absatz 2 SGB XII und mehr
K18: 2005 | L18: 8874 | M18: 5372
K19: 2006 | L19: 9245 | M19: 5618
K20: 2007 | L20: 9861 | M20: 5774
K21: 2008 | L21: 10789 | M21: 5993
K22: 2009 | L22: 10931 | M22: 5388
K23: 2010 | L23: 11536 | M23: 5365
K24: 2011 | L24: 12244 | M24: 5605
K25: 2012 | L25: 13147 | M25: 5933
K26: 2013 | L26: 14492 | M26: 6517
K27: 2014 | L27: 15301 | M27: 6564
K28: 2015 | L28: 15612 | M28: 6621
K29: 2016 | L29: 14930 | M29: 5935
... K37: 2024 | L37: 14375 | M37: 9440
K38: 2025 | L38: =I11 -> 14260 | M38: =I13 -> 9920

Sheet 6.3.1+6.3.2
A1: Link zum Inhaltsverzeichnis
A2: 6.3 Empfängerinnen und Empfänger von Leistungen nach dem 5. - 9. Kapitel SGB XII
A3: 6.3.1 Empfängerinnen und Empfänger von Leistungen nach dem 5. - 9. Kapitel SGB XII im Zeitvergleich nach dem Ort der Leistungs-
A4: erbringung und Hilfearten 4) 5)
A5: Merkmal | B5: 2005 | C5: 2010 | D5: 2015 | E5: 2018 | F5: 2019 | G5: 2020 2) | H5: 2022 | I5: 2023 | J5: 2024
A6: Insgesamt | B6: 25721 | C6: 35456 | D6: 38491 | E6: 38233 | F6: 38577 | G6: 12430 | H6: 11800 | I6: 13750 | J6: 14670
A7: männlich 3) | B7: 14840 | C7: 20251 | D7: 21987 | E7: 22252 | F7: 22451 | G7: 6065 | H7: 5815 | I7: 6500 | J7: 6795
A8: weiblich 3) | B8: 10881 | C8: 15205 | D8: 16504 | E8: 15981 | F8: 16126 | G8: 6365 | H8: 5985 | I8: 7250 | J8: 7875
A9: außerhalb von Einrichtungen | B9: 8248 | C9: 13273 | D9: 14991 | E9: 15822 | F9: 15505 | G9: 3790 | H9: 3985 | I9: 4400 | J9: 4585
A10: in Einrichtungen | B10: 18107 | C10: 22546 | D10: 23582 | E10: 23316 | F10: 23604 | G10: 8850 | H10: 8025 | I10: 9635 | J10: 10405
A11: Durchschnittsalter | B11: 41.1 | C11: 40.6 | D11: 41.8 | E11: 41.7 | F11: 42.3 | G11: 67.8 | H11: 67.9 | I11: 70.3 | J11: 71.4
A12: Empfängerinnen und Empfänger von Hilfe zur Gesundheit 6) | B12: 1038 | C12: 708 | D12: 54 | E12: 130 | F12: 76 | G12: 75 | H12: 10 | I12: - | J12: -
A13: männlich 3) | B13: 620 | C13: 357 | D13: 26 | E13: 61 | F13: 50 | G13: 40 | H13: 5 | I13: - | J13: -
A14: weiblich 3) | B14: 418 | C14: 351 | D14: 28 | E14: 69 | F14: 26 | G14: 35 | H14: 5 | I14: - | J14: -
A15: außerhalb von Einrichtungen | B15: 868 | C15: 503 | D15: 24 | E15: 114 | F15: 62 | G15: 55 | H15: 5 | I15: - | J15: -
A16: in Einrichtungen | B16: 179 | C16: 206 | D16: 30 | E16: 16 | F16: 20 | G16: 25 | H16: 5 | I16: - | J16: -
A17: Durchschnittsalter | B17: 51.3 | C17: 48.4 | D17: 54.9 | E17: 64.4 | F17: 52.7 | G17: 62.3 | H17: / | I17: / | J17: /
A18: Empfängerinnen und Empfänger von Hilfe zur Pflege | B18: 5953 | C18: 8724 | D18: 10016 | E18: 8881 | F18: 9048 | G18: 10025 | H18: 9490 | I18: 11575 | J18: 12620
A19: männlich 3) | B19: 2259 | C19: 3878 | D19: 4667 | E19: 4211 | F19: 4243 | G19: 4590 | H19: 4390 | I19: 5185 | J19: 5525
A20: weiblich 3) | B20: 3694 | C20: 4846 | D20: 5349 | E20: 4670 | F20: 4805 | G20: 5435 | H20: 5100 | I20: 6395 | J20: 7095
A21: außerhalb von Einrichtungen | B21: 1652 | C21: 2271 | D21: 2690 | E21: 1650 | F21: 1579 | G21: 1605 | H21: 1885 | I21: 2400 | J21: 2775
A22: in Einrichtungen | B22: 4314 | C22: 6464 | D22: 7335 | E22: 7275 | F22: 7506 | G22: 8585 | H22: 7795 | I22: 9430 | J22: 10155
A23: Durchschnittsalter | B23: 67.8 | C23: 67.8 | D23: 69.2 | E23: 70.3 | F23: 70.9 | G23: 72.2 | H23: 72.4 | I23: 74.2 | J23: 75
A24: Empfängerinnen und Empfänger von Hilfe zur Überwindung besonderer sozialer Schwierigkeiten und Hilfe in anderen Lebenslagen | B24: 1744 | C24: 2425 | D24: 2235 | E24: 2777 | F24: 2790 | G24: 2485 | H24: 2395 | I24: 2250 | J24: 2110
A25: männlich 3) | B25: 1159 | C25: 1468 | D25: 1343 | E25: 1682 | F25: 1714 | G25: 1500 | H25: 1465 | I25: 1355 | J25: 1305
A26: weiblich 3) | B26: 585 | C26: 957 | D26: 892 | E26: 1095 | F26: 1076 | G26: 980 | H26: 930 | I26: 900 | J26: 810
A27: außerhalb von Einrichtungen | B27: 1250 | C27: 1979 | D27: 1921 | E27: 2404 | F27: 2447 | G27: 2235 | H27: 2170 | I27: 2060 | J27: 1865
A28: in Einrichtungen | B28: 498 | C28: 457 | D28: 318 | E28: 376 | F28: 347 | G28: 270 | H28: 240 | I28: 215 | J28: 260
A29: Durchschnittsalter | B29: 45.4 | C29: 44.3 | D29: 46.1 | E29: 49.4 | F29: 49.3 | G29: 49.9 | H29: 49.8 | I29: 49.8 | J29: 49.6
A32: 6.3.2 Empfängerinnen und Empfänger von Leistungen nach dem 5. - 9. Kapitel SGB XII 2024 nach Kreisen
A33: Merkmal | B33: Mecklen- burg-Vor- pommern | C33: Kreisfreie Stadt Rostock | D33: Kreisfreie Stadt Schwerin | E33: Mecklen- burgische Seen- platte | F33: Landkreis Rostock | G33: Vor- pommern- Rügen | H33: Nordwest- mecklen- burg | I33: Vor- pommern- Greifs- wald | J33: Ludwigs- lust- Parchim
A34: Insgesamt | B34: 14670 | C34: 2630 | D34: 1115 | E34: 2555 | F34: 1435 | G34: 2030 | H34: 1350 | I34: 2165 | J34: 1385
A35: männlich 3) | B35: 6795 | C35: 1315 | D35: 455 | E35: 1220 | F35: 650 | G35: 915 | H35: 595 | I35: 1040 | J35: 605
A36: weiblich 3) | B36: 7875 | C36: 1315 | D36: 660 | E36: 1335 | F36: 785 | G36: 1115 | H36: 750 | I36: 1125 | J36: 785
A37: außerhalb von Einrichtungen | B37: 4585 | C37: 1235 | D37: 445 | E37: 850 | F37: 380 | G37: 465 | H37: 340 | I37: 680 | J37: 200
A38: in Einrichtungen | B38: 10405 | C38: 1480 | D38: 695 | E38: 1795 | F38: 1105 | G38: 1565 | H38: 1055 | I38: 1505 | J38: 1200
A39: Durchschnittsalter | B39: 71.4 | C39: 67.2 | D39: 73.6 | E39: 69.3 | F39: 73.1 | G39: 73.7 | H39: 74.8 | I39: 71.3 | J39: 73.8

Sheet 6.4.1+6.4.2
A1: Link zum Inhaltsverzeichnis
A2: 6.4 Ausgaben und Einnahmen der Sozialhilfe
A3: 6.4.1 Ausgaben und Einnahmen der Sozialhilfe im Zeitvergleich nach Hilfearten und Ort der Leistungserbringung 7)
A4: Merkmal | B4: 2005 in 1.000 EUR | C4: 2010 in 1.000 EUR | D4: 2015 in 1.000 EUR | E4: 2019 in 1.000 EUR | F4: 2020 in 1.000 EUR | G4: 2021 in 1.000 EUR | H4: 2022 in 1.000 EUR | I4: 2023 in 1.000 EUR | J4: 2024 in 1.000 EUR
A5: Bruttoausgaben 8) 9) | B5: 335655 | C5: 402367 | D5: 523928 | E5: 469928 | F5: 116566 | G5: 127876 | H5: 109060 | I5: 146166 | J5: 177864
A6: außerhalb von Einrichtungen | B6: 74016 | C6: 105452 | D6: 166533 | E6: 102253 | F6: 42229 | G6: 45251 | H6: 47047 | I6: 63705 | J6: 76804
A7: in Einrichtungen | B7: 253814 | C7: 287337 | D7: 347537 | E7: 357100 | F7: 64510 | G7: 75015 | H7: 54270 | I7: 73220 | J7: 87584
A8: Einnahmen | B8: 40114 | C8: 35475 | D8: 41037 | E8: 32682 | F8: 5124 | G8: 5395 | H8: 5706 | I8: 5795 | J8: 6110
A9: Nettoausgaben | B9: 295541 | C9: 366892 | D9: 482891 | E9: 437246 | F9: 111443 | G9: 122482 | H9: 103353 | I9: 140371 | J9: 171755
A10: Hilfe zum Lebensunterhalt | B10: 9319 | C10: 24285 | D10: 30953 | E10: 31558 | F10: 27192 | G10: 25686 | H10: 26736 | I10: 30505 | J10: 34549
A11: Hilfe zur Pflege | B11: 24678 | C11: 35913 | D11: 47919 | E11: 55573 | F11: 67574 | G11: 81774 | H11: 61530 | I11: 93134 | J11: 115528
A12: Hilfe zur Gesundheit 10) | B12: 19290 | C12: 9979 | D12: 9859 | E12: 11067 | F12: 9662 | G12: 7545 | H12: 7707 | I12: 8896 | J12: 13460
A13: Hilfe zur Überwindung be- sonderer sozialer Schwie- rigkeiten und Hilfe in an- deren Lebenslagen | B13: 9135 | C13: 4551 | D13: 5145 | E13: 7085 | F13: 7015 | G13: 7477 | H13: 7380 | I13: 7836 | J13: 8217
A16: 6.4.2 Ausgaben und Einnahmen der Sozialhilfe 2024 nach Kreisen
A17: Merkmal | B17: Mecklen- burg-Vor- pommern in 1.000 EUR | C17: Kreisfreie Stadt Rostock in 1.000 EUR | D17: Kreisfreie Stadt Schwerin in 1.000 EUR | E17: Mecklen- burgische Seenplatte in 1.000 EUR | F17: Landkreis Rostock in 1.000 EUR | G17: Vor- pommern- Rügen in 1.000 EUR | H17: Nordwest- mecklen- burg in 1.000 EUR | I17: Vor- pommern- Greifswald in 1.000 EUR | J17: Ludwigs- lust- Parchim in 1.000 EUR
A18: Bruttoausgaben 8) 9) | B18: 177864 | C18: 26859 | D18: 19403 | E18: 32767 | F18: 17154 | G18: 25492 | H18: 15105 | I18: 25380 | J18: 15705
A19: außerhalb von Einrichtungen | B19: 76804 | C19: 10811 | D19: 9437 | E19: 15194 | F19: 6623 | G19: 11858 | H19: 6384 | I19: 11999 | J19: 4498
A20: in Einrichtungen | B20: 87584 | C20: 12540 | D20: 6896 | E20: 14874 | F20: 10090 | G20: 11881 | H20: 8593 | I20: 12799 | J20: 9910
A21: Einnahmen | B21: 6110 | C21: 954 | D21: 396 | E21: 869 | F21: 1029 | G21: 589 | H21: 586 | I21: 889 | J21: 798
A22: Nettoausgaben | B22: 171755 | C22: 25906 | D22: 19007 | E22: 31898 | F22: 16124 | G22: 24903 | H22: 14519 | I22: 24491 | J22: 14907
A23: Hilfe zum Lebensunterhalt | B23: 34549 | C23: 5326 | D23: 3640 | E23: 6075 | F23: 2885 | G23: 5365 | H23: 3516 | I23: 3518 | J23: 4224
A24: Hilfe zur Pflege | B24: 115529 | C24: 13899 | D24: 11597 | E24: 21371 | F24: 12256 | G24: 17497 | H24: 10602 | I24: 19305 | J24: 9003
A25: Hilfe zur Gesundheit 10) | B25: 13460 | C25: 3508 | D25: 3070 | E25: 2699 | F25: 439 | G25: 1739 | H25: 128 | I25: 582 | J25: 1296
A26: Hilfe zur Überwindung be- sonderer sozialer Schwie- rigkeiten und Hilfe in an- deren Lebenslagen | B26: 8218 | C26: 3173 | D26: 700 | E26: 1754 | F26: 544 | G26: 303 | H26: 274 | I26: 1086 | J26: 384

Sheet 6.5.1+6.5.2
A1: Link zum Inhaltsverzeichnis
A2: 6.5 Leistungen der Eingliederungshilfe nach dem SGB IX
A3: 6.5.1 Empfängerinnen und Empfänger von Eingliederungshilfe nach dem SGB IX im Zeitvergleich
A4: Merkmal | B4: 2020 | C4: 2021 | D4: 2022 | E4: 2023 | F4: 2024
A5: Insgesamt | B5: 24735 | C5: 24980 | D5: 24610 | E5: 25115 | F5: 24975
A6: männlich 3) | B6: 15260 | C6: 15380 | D6: 15070 | E6: 15285 | F6: 15130
A7: weiblich 3) | B7: 9475 | C7: 9605 | D7: 9540 | E7: 9830 | F7: 9845
A8: darunter
A9: Nichtdeutsche | B9: 405 | C9: 485 | D9: 500 | E9: 615 | F9: 725
A10: im Alter von … bis unter … Jahren
A11: unter 18 | B11: 7445 | C11: 7260 | D11: 6830 | E11: 6950 | F11: 6615
A12: 18 bis unter 40 | B12: 7185 | C12: 7100 | D12: 6965 | E12: 6865 | F12: 6790
A13: 40 bis unter 65 | B13: 8715 | C13: 9025 | D13: 9095 | E13: 9395 | F13: 9525
A14: 65 und mehr | B14: 1390 | C14: 1595 | D14: 1715 | E14: 1910 | F14: 2045
A15: Durchschnittsalter | B15: 33.5 | C15: 34.3 | D15: 35 | E15: 35.4 | F15: 36
A18: 6.5.2 Empfängerinnen und Empfänger von Eingliederungshilfe nach dem SGB IX 2024 nach Kreisen
A19: Merkmal | B19: Mecklen- burg-Vor- pommern | C19: Kreisfreie Stadt Rostock | D19: Kreisfreie Stadt Schwerin | E19: Mecklen- burgische Seenplatte | F19: Landkreis Rostock | G19: Vor- pommern- Rügen | H19: Nordwest- mecklen- burg | I19: Vor- pommern- Greifs- wald | J19: Ludwigs- lust- Parchim
A20: Insgesamt | B20: 24975 | C20: 3235 | D20: 1470 | E20: 4185 | F20: 3190 | G20: 3655 | H20: 2645 | I20: 3805 | J20: 2790
A21: männlich 3) | B21: 15130 | C21: 2010 | D21: 830 | E21: 2505 | F21: 1905 | G21: 2200 | H21: 1615 | I21: 2380 | J21: 1690
A22: weiblich 3) | B22: 9845 | C22: 1225 | D22: 640 | E22: 1680 | F22: 1290 | G22: 1455 | H22: 1030 | I22: 1425 | J22: 1105
A23: darunter
A24: Nichtdeutsche | B24: 725 | C24: 205 | D24: 70 | E24: 60 | F24: 120 | G24: 85 | H24: 70 | I24: 55 | J24: 60
A25: im Alter von … bis unter … Jahren
A26: unter 18 | B26: 6615 | C26: 1150 | D26: 170 | E26: 1250 | F26: 1045 | G26: 755 | H26: 640 | I26: 1080 | J26: 525
A27: 18 bis unter 40 | B27: 6790 | C27: 760 | D27: 500 | E27: 1110 | F27: 805 | G27: 1065 | H27: 735 | I27: 990 | J27: 830
A28: 40 bis unter 65 | B28: 9525 | C28: 1095 | D28: 670 | E28: 1535 | F28: 1095 | G28: 1495 | H28: 1020 | I28: 1420 | J28: 1195
A29: 65 und mehr | B29: 2045 | C29: 225 | D29: 130 | E29: 290 | F29: 250 | G29: 345 | H29: 250 | I29: 315 | J29: 240
A30: Durchschnittsalter | B30: 36 | C30: 32 | D30: 41.1 | E30: 34.4 | F30: 33.4 | G30: 38.7 | H30: 37 | I30: 35.8 | J30: 39
A32: Grafik 6.6 | L32: Daten der Grafik 6.6 "Empfänger von Eingliederungshilfe nach dem SGB IX je 1.000 Einwohner am 31.12.2024 im Ländervergleich"
L33: Bundesland | M33: Je 1.000 EW | N33: Empfänger am 31.12.2024 | O33: Nachrichtlich: EW am 31.12.2024
L34: Baden-Württemberg | M34: 6.8758404 | N34: 77325 | O34: 11245898
L35: Bayern | M35: 10.048738 | N35: 133135 | O35: 13248928
L36: Berlin | M36: 8.8677476 | N36: 32680 | O36: 3685265
L37: Brandenburg | M37: 10.773455 | N37: 27545 | O37: 2556747
L38: Bremen | M38: 9.7534194 | N38: 6875 | O38: 704881
L39: Hamburg | M39: 11.468056 | N39: 21360 | O39: 1862565
L40: Hessen | M40: 10.428619 | N40: 65500 | O40: 6280793
L41: Mecklenburg-Vorpommern | M41: 13.948934 | N41: 21950 | O41: 1573597
L42: Niedersachsen | M42: 11.918937 | N42: 95405 | O42: 8004489
L43: Nordrhein-Westfalen | M43: 12.120134 | N43: 218580 | O43: 18034454
...

Sheet 6.5.3+6.5.4, 6.6.1
A1: Link zum Inhaltsverzeichnis
A2: 6.5 Leistungen der Eingliederungshilfe nach dem SGB IX
A3: 6.5.3 Ausgaben und Einnahmen der Eingliederungshilfe nach dem SGB IX im Zeitvergleich
A4: Merkmal | B4: 2020 in 1.000 EUR | C4: 2021 in 1.000 EUR | D4: 2022 in 1.000 EUR | E4: 2023 in 1.000 EUR | F4: 2024 in 1.000 EUR
A5: Bruttoausgaben | B5: 398664 | C5: 424093 | D5: 451056 | E5: 495810 | F5: 573093
A6: Leistungen zur medizinischen Rehabilitation | B6: 2331 | C6: 2884 | D6: 3316 | E6: 3549 | F6: 4157
A7: Leistungen zur Teilhabe am Arbeitsleben | B7: 128315 | C7: 127157 | D7: 132603 | E7: 142716 | F7: 152430
A8: Leistungen zur Teilhabe an Bildung | B8: 22244 | C8: 28310 | D8: 30564 | E8: 33431 | F8: 43111
A9: Leistungen zur sozialen Teilhabe | B9: 238088 | C9: 253518 | D9: 274445 | E9: 299618 | F9: 347076
A10: sonstige Leistungen der Eingliederungshilfe | B10: 7686 | C10: 12223 | D10: 10128 | E10: 16496 | F10: 26319
A11: Einnahmen | B11: 12400 | C11: 15065 | D11: 15038 | E11: 13326 | F11: 13172
A12: Nettoausgaben | B12: 386264 | C12: 409028 | D12: 436018 | E12: 482484 | F12: 559921
A15: 6.5.4 Ausgaben und Einnahmen der Eingliederungshilfe nach dem SGB IX 2024 nach Kreisen
A16: Merkmal | B16: Mecklen- burg-Vor- pommern in 1.000 EUR | C16: Kreisfreie Stadt Rostock in 1.000 EUR | D16: Kreisfreie Stadt Schwerin in 1.000 EUR | E16: Mecklen- burgische Seenplatte in 1.000 EUR | F16: Landkreis Rostock in 1.000 EUR | G16: Vor- pommern- Rügen in 1.000 EUR | H16: Nordwest- mecklen- burg in 1.000 EUR | I16: Vor- pommern- Greifswald in 1.000 EUR | J16: Ludwigs- lust- Parchim in 1.000 EUR
A17: Bruttoausgaben | B17: 573093 | C17: 70696 | D17: 36896 | E17: 98049 | F17: 68398 | G17: 85793 | H17: 54569 | I17: 91243 | J17: 67449
A18: Leistungen zur medizinischen Rehabilitation | B18: 4157 | C18: 3175 | D18: 74 | E18: 578 | F18: 31 | G18: - | H18: 299 | I18: - | J18: -
A19: Leistungen zur Teilhabe am Arbeitsleben | B19: 152430 | C19: 16227 | D19: 8541 | E19: 23927 | F19: 19574 | G19: 20948 | H19: 13580 | I19: 24866 | J19: 24767
A20: Leistungen zur Teilhabe an Bildung | B20: 43111 | C20: 5009 | D20: 1024 | E20: 7168 | F20: 7030 | G20: 5656 | H20: 2605 | I20: 9851 | J20: 4769
A21: Leistungen zur sozialen Teilhabe | B21: 347076 | C21: 43070 | D21: 25322 | E21: 60665 | F21: 39571 | G21: 56230 | H21: 35853 | I21: 51382 | J21: 34983
A22: sonstige Leistungen der Eingliederungshilfe | B22: 26319 | C22: 3216 | D22: 1934 | E22: 5710 | F22: 2191 | G22: 2959 | H22: 2233 | I22: 5144 | J22: 2930
A23: Einnahmen | B23: 13172 | C23: 935 | D23: 1133 | E23: 1715 | F23: 3173 | G23: 1580 | H23: 983 | I23: 1941 | J23: 1712
A24: Nettoausgaben | B24: 559921 | C24: 69761 | D24: 35764 | E24: 96334 | F24: 65225 | G24: 84213 | H24: 53586 | I24: 89302 | J24: 65737
A28: 6.6 Prostituiertenschutz
A29: 6.6.1 Gültig angemeldete Prostituierte am 31. Dezember im Zeitvergleich
A30: nach Altersgruppen und Staatsangehörigkeit
A31: Merkmal | B31: 2019 | C31: 2020 | D31: 2021 | E31: 2022 | F31: 2023 | G31: 2024
A32: Insgesamt | B32: 289 | C32: 121 | D32: 118 | E32: 157 | F32: 211 | G32: 198
A33: Alter von … bis unter … Jahren
A34: 18 bis unter 21 | B34: 10 | C34: . | D34: . | E34: . | F34: . | G34: .
A35: 21 bis unter 45 | B35: 204 | C35: 86 | D35: 82 | E35: 108 | F35: 136 | G35: 132
A36: 45 und mehr | B36: 75 | C36: . | D36: . | E36: . | F36: . | G36: .
A37: Staatsangehörigkeit
A38: deutsch | B38: 42 | C38: 16 | D38: 15 | E38: 25 | F38: 34 | G38: 42
A39: nicht deutsch | B39: 247 | C39: 105 | D39: 103 | E39: 132 | F39: 177 | G39: 156
A40: darunter
A41: bulgarisch | B41: 30 | C41: 12 | D41: 12 | E41: 22 | F41: 23 | G41: 16
A42: polnisch | B42: 41 | C42: 14 | D42: 10 | E42: 10 | F42: 16 | G42: 13
A43: rumänisch | B43: 34 | C43: 19 | D43: 27 | E43: 32 | F43: 46 | G43: 36
A44: ungarisch | B44: 71 | C44: 34 | D44: 26 | E44: 8 | F44: 40 | G44: 41

Sheet 6.7.1
A1: Link zum Inhaltsverzeichnis
A2: 6.7 Leistungen nach dem Asylbewerberleistungsgesetz
A3: 6.7.1 Empfängerinnen und Empfänger von Regelleistungen am 31. Dezember im Zeitvergleich nach Art der Unterbringung und Leistung
A4: sowie Altersgruppen
A5: Merkmal | B5: 1995 | C5: 2000 | D5: 2005 | E5: 2010 | F5: 2015 | G5: 2020 2) | H5: 2022 | I5: 2023 | J5: 2024
A6: Insgesamt | B6: 4962 | C6: 6405 | D6: 4208 | E6: 2589 | F6: 20332 | G6: 5740 | H6: 8310 | I6: 8920 | J6: 8075
A7: männlich 3) | B7: 3241 | C7: 4359 | D7: 2635 | E7: 1610 | F7: 13762 | G7: 3325 | H7: 5430 | I7: 6335 | J7: 5420
A8: weiblich 3) | B8: 1721 | C8: 2046 | D8: 1573 | E8: 979 | F8: 6570 | G8: 2415 | H8: 2880 | I8: 2585 | J8: 2660
A9: Art der Unterbringung
A10: Aufnahmeeinrichtung | B10: 398 | C10: 566 | D10: 258 | E10: 329 | F10: 1660 | G10: 685 | H10: 995 | I10: 775 | J10: 685
A11: Gemeinschaftsunterkunft | B11: 2265 | C11: 4674 | D11: 2778 | E11: 1345 | F11: 8967 | G11: 3250 | H11: 5260 | I11: 6225 | J11: 5650
A12: Dezentrale Unterbringung | B12: 2299 | C12: 1165 | D12: 1172 | E12: 915 | F12: 9705 | G12: 1805 | H12: 2055 | I12: 1925 | J12: 1745
A13: Art der Leistung
A14: Grundleistungen in Form von 11) | B14: 1928 | C14: 5446 | D14: 3207 | E14: 1938 | F14: 19633 | G14: 3080 | H14: 5620 | I14: 6845 | J14: 6010
A15: Sachleistungen | B15: 1570 | C15: 3946 | D15: 2016 | E15: 1320 | F15: 12219 | G15: 2310 | H15: 3365 | I15: 4175 | J15: 3460
A16: Wertgutscheinen | B16: 1744 | C16: 4794 | D16: 540 | E16: 117 | F16: 15 | G16: 100 | H16: 30 | I16: 20 | J16: 15
A17: Geldleistungen | B17: 19 | C17: 188 | D17: 2445 | E17: 1538 | F17: 17948 | G17: 2365 | H17: 4600 | I17: 6055 | J17: 5990
A18: Hilfe zum Lebensunterhalt | B18: 3034 | C18: 959 | D18: 1001 | E18: 651 | F18: 699 | G18: 2650 | H18: 2275 | I18: 1665 | J18: 1460
A19: Alter von … bis unter … Jahren
A20: unter 18 | B20: 1463 | C20: 1814 | D20: 1331 | E20: 788 | F20: 5916 | G20: 2100 | H20: 2570 | I20: 2100 | J20: 2155
A21: 18 bis unter 21 | B21: 283 | C21: 453 | D21: 216 | E21: 221 | F21: 2241 | G21: 270 | H21: 530 | I21: 725 | J21: 690
A22: 21 bis unter 25 | B22: 574 | C22: 826 | D22: 349 | E22: 240 | F22: 2615 | G22: 510 | H22: 955 | I22: 1245 | J22: 955
A23: 25 bis unter 30 | B23: 855 | C23: 1172 | D23: 599 | E23: 328 | F23: 3110 | G23: 560 | H23: 1050 | I23: 1465 | J23: 1260
A24: 30 bis unter 40 | B24: 1210 | C24: 1484 | D24: 1040 | E24: 497 | F24: 3822 | G24: 1210 | H24: 1765 | I24: 1890 | J24: 1670
A25: 40 bis unter 50 | B25: 368 | C25: 453 | D25: 459 | E25: 317 | F25: 1678 | G25: 655 | H25: 840 | I25: 880 | J25: 815
A26: 50 bis unter 60 | B26: 114 | C26: 133 | D26: 140 | E26: 144 | F26: 677 | G26: 280 | H26: 365 | I26: 380 | J26: 330
A27: 60 bis unter 65 | B27: 47 | C27: 27 | D27: 31 | E27: 23 | F27: 152 | G27: 90 | H27: 115 | I27: 110 | J27: 100
A28: 65 und mehr | B28: 48 | C28: 43 | D28: 43 | E28: 31 | F28: 121 | G28: 60 | H28: 115 | I28: 125 | J28: 100
A29: Durchschnittsalter | B29: 25 | C29: 24.5 | D29: 25.7 | E29: 26.4 | F29: 24.4 | G29: 24.8 | H29: 25.6 | I29: 26.6 | J29: 26
A30: Aufenthaltsrechtlicher Status
A31: Aufenthaltsgestattung | B31: 3019 | C31: 4224 | D31: 1577 | E31: 1188 | F31: 18540 | G31: 3245 | H31: 5805 | I31: 7035 | J31: 6365
A32: vollziehbar zur Ausreise verpflichtet | B32: 124 | C32: 498 | D32: 626 | E32: 173 | F32: 98 | G32: 85 | H32: 80 | I32: 75 | J32: 110
A33: Familienangehörige | B33: 801 | C33: 837 | D33: 561 | E33: 238 | F33: 534 | G33: 380 | H33: 350 | I33: 280 | J33: 215
A34: geduldete Ausländerinnen bzw. Ausländer | B34: 1018 | C34: 844 | D34: 1251 | E34: 732 | F34: 1038 | G34: 1970 | H34: 1650 | I34: 1170 | J34: 1130
A35: Einreise über einen Flughafen | B35: x | C35: - | D35: 150 | E35: - | F35: - | G35: - | H35: - | I35: - | J35: -
A36: Aufenthaltserlaubnis | B36: x | C36: 2 | D36: 39 | E36: 254 | F36: 46 | G36: 15 | H36: 285 | I36: 155 | J36: 125
A37: Folge- oder Zweitantrag | B37: x | C37: x | D37: 4 | E37: 4 | F37: 76 | G37: 30 | H37: 20 | I37: 25 | J37: 10
A38: ohne Angabe | B38: x | C38: x | D38: x | E38: x | F38: - | G38: 10 | H38: 75 | I38: 60 | J38: 95
A39: Staatsangehörigkeit
A40: Europa | B40: 2308 | C40: 2744 | D40: 1422 | E40: 669 | F40: 4699 | G40: 1960 | H40: 2155 | I40: 2655 | J40: 2380
...

Sheet 6.7.2+6.7.3
A1: Link zum Inhaltsverzeichnis
A2: 6.7 Leistungen nach dem Asylbewerberleistungsgesetz
A3: 6.7.2 Leistungsempfängerinnen und -empfänger nach dem Asylbewerberleistungsgesetz am 31. Dezember 2024
A4: nach Art der Unterbringung und Leistung sowie nach Kreisen 2)
A5: Merkmal | B5: Mecklen- burg-Vor- pommern | C5: Kreisfreie Stadt Rostock | D5: Kreisfreie Stadt Schwerin | E5: Mecklen- burgische Seenplatte | F5: Landkreis Rostock | G5: Vor- pommern- Rügen | H5: Nordwest- mecklen- burg | I5: Vor- pommern- Greifswald | J5: Ludwigs- lust- Parchim
A6: Insgesamt | B6: 8075 | C6: 1165 | D6: 165 | E6: 1095 | F6: 1220 | G6: 1125 | H6: 790 | I6: 920 | J6: 1595
A7: männlich 3) | B7: 5420 | C7: 820 | D7: 105 | E7: 755 | F7: 830 | G7: 775 | H7: 515 | I7: 605 | J7: 1010
A8: weiblich 3) | B8: 2660 | C8: 340 | D8: 60 | E8: 335 | F8: 395 | G8: 350 | H8: 275 | I8: 315 | J8: 585
A9: Art der Unterbringung
A10: Aufnahmeeinrichtung | B10: 685 | C10: - | D10: - | E10: - | F10: - | G10: - | H10: - | I10: - | J10: 685
A11: Gemeinschaftsunterkunft | B11: 5650 | C11: 815 | D11: 105 | E11: 720 | F11: 1015 | G11: 885 | H11: 675 | I11: 835 | J11: 595
A12: Dezentrale Unterbringung | B12: 1745 | C12: 345 | D12: 60 | E12: 375 | F12: 205 | G12: 235 | H12: 115 | I12: 85 | J12: 320
A13: Art der Leistung
A14: Grundleistungen in Form von 11) | B14: 6010 | C14: 925 | D14: 105 | E14: 820 | F14: 675 | G14: 825 | H14: 575 | I14: 650 | J14: 1435
A15: Sachleistungen | B15: 3460 | C15: 5 | D15: 90 | E15: 40 | F15: 670 | G15: 820 | H15: 570 | I15: - | J15: 1265
A16: Wertgutscheinen | B16: 15 | C16: - | D16: - | E16: - | F16: - | G16: - | H16: - | I16: - | J16: 15
A17: Geldleistungen | B17: 5990 | C17: 925 | D17: 100 | E17: 820 | F17: 675 | G17: 820 | H17: 575 | I17: 650 | J17: 1430
A18: Hilfe zum Lebensunterhalt | B18: 1460 | C18: 225 | D18: 50 | E18: 110 | F18: 320 | G18: 165 | H18: 215 | I18: 215 | J18: 150
A21: 6.7.3 Empfängerinnen und Empfänger von Leistungen für Bildung und
A22: Teilhabe 2025 nach dem Asylbewerberleistungsgesetz
A23: Merkmal | B23: 1. Viertel- jahr | C23: 2. Viertel- jahr | D23: 3. Viertel- jahr | E23: 4. Viertel- jahr
A24: Insgesamt 12) | B24: 1400 | C24: 800 | D24: 1400 | E24: 735
A25: Schulausflüge | B25: 200 | C25: 210 | D25: 220 | E25: 200
A26: mehrtägige Klassenfahrten | B26: 30 | C26: 50 | D26: 25 | E26: 10
A27: Schulbedarf | B27: 1060 | C27: 5 | D27: 995 | E27: 10
A28: Schülerbeförderung | B28: - | C28: - | D28: - | E28: -
A29: Lernförderung | B29: 45 | C29: 45 | D29: 40 | E29: 35
A30: Mittagsverpflegung | B30: 665 | C30: 685 | D30: 705 | E30: 655
A31: Teilhabe am sozialen und kulturellen Leben in der Gemeinschaft | B31: 365 | C31: 370 | D31: 380 | E31: 290
A32: Leistungen in EUR | B32: 324277 | C32: 266962 | D32: 358471 | E32: 228834
A33: Schulausflüge | B33: 6494 | C33: 7610 | D33: 7526 | E33: 6831
A34: mehrtägige Klassenfahrten | B34: 8184 | C34: 9250 | D34: 4431 | E34: 1672
A35: Schulbedarf | B35: 69413 | C35: 325 | D35: 129350 | E35: 1040
A36: Schülerbeförderung | B36: 232 | C36: 98 | D36: - | E36: -
A37: Lernförderung | B37: 31240 | C37: 30431 | D37: 18516 | E37: 16133
A38: Mittagsverpflegung | B38: 192902 | C38: 203336 | D38: 184296 | E38: 190016
A39: Teilhabe am sozialen und kulturellen Leben in der Gemeinschaft | B39: 15812 | C39: 15912 | D39: 14352 | E39: 13142

Sheet 6.7.4+6.7.5
A1: Link zum Inhaltsverzeichnis
A2: 6.7 Leistungen nach dem Asylbewerberleistungsgesetz
A3: 6.7.4 Ausgaben und Einnahmen im Zeitvergleich
A4: Merkmal | B4: 2000 in 1.000 EUR | C4: 2005 in 1.000 EUR | D4: 2010 in 1.000 EUR | E4: 2015 in 1.000 EUR | F4: 2020 in 1.000 EUR | G4: 2021 in 1.000 EUR | H4: 2022 in 1.000 EUR | I4: 2023 in 1.000 EUR | J4: 2024 in 1.000 EUR
A5: Bruttoausgaben | B5: 28103 | C5: 26822 | D5: 14795 | E5: 101550 | F5: 63772 | G5: 64319 | H5: 118934 | I5: 100406 | J5: 121491
A6: Regelleistungen | B6: 20139 | C6: 18311 | D6: 10321 | E6: 78459 | F6: 46597 | G6: 47959 | H6: 93352 | I6: 74601 | J6: 95046
A7: Grundleistungen (§ 3 Asylbewerber- leistungsgesetz) | B7: 18555 | C7: 14872 | D7: 6987 | E7: 74796 | F7: 26793 | G7: 27571 | H7: 74204 | I7: 56462 | J7: 77584
A8: besondere Leistungen | B8: 7964 | C8: 8512 | D8: 4474 | E8: 23091 | F8: 17175 | G8: 16360 | H8: 25582 | I8: 25806 | J8: 26445
A9: Einnahmen | B9: 406 | C9: 141 | D9: 309 | E9: 670 | F9: 1777 | G9: 1353 | H9: 3859 | I9: 7749 | J9: 6100
A10: Nettoausgaben | B10: 27697 | C10: 26681 | D10: 14486 | E10: 100881 | F10: 61995 | G10: 62966 | H10: 115075 | I10: 92657 | J10: 115391
A13: 6.7.5 Ausgaben und Einnahmen 2024 nach Kreisen
A14: Merkmal | B14: Mecklen- burg-Vor- pommern in 1.000 EUR | C14: Kreisfreie Stadt Rostock in 1.000 EUR | D14: Kreisfreie Stadt Schwerin in 1.000 EUR | E14: Mecklen- burgische Seenplatte in 1.000 EUR | F14: Landkreis Rostock in 1.000 EUR | G14: Vor- pommern- Rügen in 1.000 EUR | H14: Nordwest- mecklen- burg in 1.000 EUR | I14: Vor- pommern- Greifswald in 1.000 EUR | J14: Ludwigs- lust- Parchim in 1.000 EUR
A15: Bruttoausgaben | B15: 121491 | C15: 11117 | D15: 7002 | E15: 16710 | F15: 14288 | G15: 15562 | H15: 6534 | I15: 7851 | J15: 42426
A16: Regelleistungen | B16: 95046 | C16: 7689 | D16: 4729 | E16: 13281 | F16: 10492 | G16: 12731 | H16: 5050 | I16: 5640 | J16: 35434
A17: Grundleistungen (§ 3 Asylbewerber- leistungsgesetz) | B17: 77584 | C17: 5872 | D17: 1339 | E17: 11613 | F17: 6844 | G17: 11632 | H17: 3192 | I17: 3992 | J17: 33101
A18: besondere Leistungen | B18: 26445 | C18: 3428 | D18: 2273 | E18: 3429 | F18: 3797 | G18: 2831 | H18: 1484 | I18: 2211 | J18: 6992
A19: Einnahmen | B19: 6100 | C19: 2076 | D19: 216 | E19: 1322 | F19: 64 | G19: 1483 | H19: 184 | I19: 143 | J19: 613
A20: Nettoausgaben | B20: 115391 | C20: 9041 | D20: 6787 | E20: 15388 | F20: 14224 | G20: 14079 | H20: 6350 | I20: 7709 | J20: 41813

Sheet 6.8.1+6.8.2
A1: Link zum Inhaltsverzeichnis
A2: 6.8 Wohngeld
A3: 6.8.1 Wohngeldhaushalte am 31. Dezember im Zeitvergleich nach Haushaltsgröße und sozialer Stellung der Haupteinkommens-
A4: bezieherin bzw. des Haupteinkommensbeziehers
A5: Merkmal | B5: 1992 13) | C5: 1995 13) | D5: 2000 13) | E5: 2005 1) | F5: 2010 | G5: 2015 14) | H5: 2020 2) | I5: 2024 | J5: 2025
A6: Reine Wohngeldhaushalte insgesamt | B6: 226165 | C6: 75172 | D6: 86268 | E6: 36932 | F6: 38995 | G6: 17906 | H6: 21070 | I6: 43770 | J6: 45485
A7: Mietzuschuss | B7: 179768 | C7: 65948 | D7: 78845 | E7: 32335 | F7: 34516 | G7: 16087 | H7: 19335 | I7: 39895 | J7: 41630
A8: Lastenzuschuss | B8: 46397 | C8: 9224 | D8: 7423 | E8: 4597 | F8: 4479 | G8: 1819 | H8: 1740 | I8: 3875 | J8: 3855
A9: Durchschnittlicher monatlicher Wohn- geldanspruch in EUR | B9: 61 | C9: 76 | D9: 91 | E9: 80 | F9: 108 | G9: 93 | H9: 128 | I9: 213 | J9: 217
A10: Haushaltsgröße
A11: Haushalte
A12: von Alleinstehenden | B12: 101010 | C12: 34823 | D12: 43221 | E12: 22826 | F12: 25480 | G12: 11226 | H12: 14015 | I12: 29685 | J12: 31145
A13: mit 2 Personen | B13: 48864 | C13: 14025 | D13: 17340 | E13: 6686 | F13: 5748 | G13: 2559 | H13: 2985 | I13: 7330 | J13: 7310
A14: mit 3 Personen | B14: 24336 | C14: 9434 | D14: 11382 | E14: 3437 | F14: 2951 | G14: 1493 | H14: 1500 | I14: 2495 | J14: 2555
A15: mit 4 Personen | B15: 36649 | C15: 10767 | D15: 9170 | E15: 2765 | F15: 3308 | G15: 1478 | H15: 1350 | I15: 2225 | J15: 2305
A16: mit 5 Personen | B16: 11417 | C16: 4043 | D16: 3459 | E16: 865 | F16: 1070 | G16: 750 | H16: 725 | I16: 1265 | J16: 1290
A17: mit 6 und mehr Personen | B17: 3889 | C17: 2080 | D17: 1696 | E17: 353 | F17: 438 | G17: 400 | H17: 500 | I17: 775 | J17: 880
A18: Soziale Stellung der Haupt- einkommensbezieherin bzw. des Haupteinkom- mensbeziehers 15)
A19: Erwerbspersonen | B19: 71256 | C19: 18382 | D19: 19204 | E19: 12250 | F19: 11990 | G19: 5499 | H19: 6075 | I19: 11180 | J19: 11415
A20: Arbeitslose | B20: 46584 | C20: 28923 | D20: 33543 | E20: 4584 | F20: 3692 | G20: 1180 | H20: 1155 | I20: 1945 | J20: 2045
A21: Nichterwerbspersonen | B21: 108325 | C21: 27867 | D21: 33521 | E21: 20098 | F21: 23313 | G21: 11227 | H21: 13840 | I21: 30650 | J21: 32030
A22: darunter
A23: Rentnerinnen bzw. Rentner | B23: 94211 | C23: 22295 | D23: 18365 | E23: 16761 | F23: 19590 | G23: 9008 | H23: 12550 | I23: 29125 | J23: 30550
A24: Wohngeldrechtliche Teil- haushalte insgesamt | B24: - | C24: - | D24: - | E24: 1844 | F24: 14390 | G24: 2872 | H24: 1490 | I24: 1210 | J24: 1150
A25: Mietzuschuss | B25: - | C25: - | D25: - | E25: 1506 | F25: 13961 | G25: 2809 | H25: 1455 | I25: 1155 | J25: 1095
A26: Lastenzuschuss | B26: - | C26: - | D26: - | E26: 338 | F26: 429 | G26: 63 | H26: 35 | I26: 55 | J26: 55
A27: Durchschnittlicher monatlicher Wohn- geldanspruch in EUR | B27: - | C27: - | D27: - | E27: 74 | F27: 146 | G27: 126 | H27: 163 | I27: 228 | J27: 226
A28: Ausgezahltes Wohngeld in 1.000 EUR 16) | B28: . | C28: . | D28: 117475 | E28: 42192 | F28: 74260 | G28: 25653 | H28: 36822 | I28: 125305 | J28: 128768
A31: 6.8.2 Wohngeldhaushalte am 31. Dezember 2025 nach Kreisen
A32: Merkmal | B32: Mecklen- burg-Vor- pommern | C32: Kreisfreie Stadt Rostock | D32: Kreisfreie Stadt Schwerin | E32: Mecklen- burgische Seenplatte | F32: Landkreis Rostock | G32: Vor- pommern- Rügen | H32: Nordwest- mecklen- burg | I32: Vor- pommern- Greifswald | J32: Ludwigs- lust- Parchim
A33: Reine Wohngeldhaushalte | B33: 45485 | C33: 5610 | D33: 2725 | E33: 8480 | F33: 5350 | G33: 6945 | H33: 3890 | I33: 7485 | J33: 4995
A34: Mietzuschuss | B34: 41630 | C34: 5565 | D34: 2705 | E34: 7675 | F34: 4780 | G34: 6405 | H34: 3560 | I34: 6660 | J34: 4275
A35: Lastenzuschuss | B35: 3855 | C35: 45 | D35: 25 | E35: 810 | F35: 570 | G35: 540 | H35: 330 | I35: 825 | J35: 715
A36: Durchschnittlicher monat- licher Wohngeldanspruch in EUR | B36: 217 | C36: 225 | D36: 235 | E36: 211 | F36: 214 | G36: 214 | H36: 226 | I36: 214 | J36: 214
A37: Wohngeldrechtliche Teilhaushalte | B37: 1150 | C37: 95 | D37: 85 | E37: 180 | F37: 135 | G37: 120 | H37: 85 | I37: 245 | J37: 195
A38: Mietzuschuss | B38: 1095 | C38: 95 | D38: 85 | E38: 170 | F38: 130 | G38: 120 | H38: 85 | I38: 230 | J38: 180
A39: Lastenzuschuss | B39: 55 | C39: - | D39: - | E39: 10 | F39: 5 | G39: - | H39: 5 | I39: 15 | J39: 15
A40: Durchschnittlicher monat- licher Wohngeldanspruch in EUR | B40: 226 | C40: 270 | D40: 256 | E40: 215 | F40: 215 | G40: 180 | H40: 231 | I40: 231 | J40: 240

Sheet Fußnotenerläuterungen
A1: Link zum Inhaltsverzeichnis
A2: Fußnotenerläuterungen
A3: 1) | B3: Die zeitliche Vergleichbarkeit der Daten ist aufgrund der Neugestaltung des Sozialhilferechts zum 01.01.2005 eingeschränkt bzw. nicht mehr gegeben (siehe Methodik).
A4: 2) | B4: Ab dem Berichtsjahr 2020 erfolgt die Veröffentlichung der Ergebnisse der Statistik unter Einsatz des Geheimhaltungsver- fahrens der 5er-Rundung. Bei der 5er-Rundung werden alle absoluten Werte einer Tabelle mit Empfängerzahlen auf den nächsten durch 5 teilbaren Wert auf- oder abgerundet. Die maximale Abweichung zu den jeweiligen Originalwerten beträgt dadurch für jeden Wert höchstens 2. Zudem werden auch Durchschnittswerte nicht veröffentlicht, sofern diese nur auf einer geringen Fallzahl an Empfängerinnen und Empfängern basieren.
A5: 3) | B5: Personen mit den Geschlechtsangaben "divers" und "ohne Angabe" (nach §22 Absatz 3 PStG) werden aus Gründen der statistischen Geheimhaltung per Zufallsprinzip dem männlichen oder weiblichen Geschlecht zugeordnet.
A6: 4) | B6: Empfängerinnen und Empfänger mehrerer verschiedener Hilfen werden bei jeder Hilfeart (bzw. jedem Ort der Hilfe- gewährung) gezählt.
A7: 5) | B7: Mehrfachzählungen sind nur insoweit ausgeschlossen, als sie aufgrund der Meldungen erkennbar waren.
A8: 6) | B8: Unmittelbar vom Sozialamt erbrachte Leistungen.
A9: 7) | B9: In den Brutto- bzw. Nettoausgaben und Einnahmen sind ab dem Berichtsjahr 2017 die Auszahlungen für die Grundsicherung im Alter und bei Erwerbsminderung nicht mehr enthalten. Der Vergleich mit den Angaben zu den Vorjahren ist für die Gesamtpositionen nicht mehr gegeben. Die einzelnen Hilfearten sind hiervon nicht betroffen.
A10: 8) | B10: In den Ausgaben für die Grundsicherung im Alter und bei Erwerbsminderung sind keine Kosten für abgeschlossene Gut- achten enthalten.
A11: 9) | B11: Erstattungen an Krankenkassen für die Übernahme der Krankenbehandlung können nicht nach Ort der Leistungsgewährung nachgewiesen werden.
A12: 10) | B12: Einschließlich Erstattungen an Krankenkassen für die Übernahme der Krankenbehandlung.
A13: 11) | B13: Einschließlich Mehrfachzählungen – bei der Art der Leistungsgewährung möglich.
A14: 12) | B14: Einschließlich möglicher Mehrfachzählungen.
... A18: 16) | B18: 2000: Inklusive der Leistungen zum Besonderen Mietzuschuss.

Sheet Methodik
A1: Link zum Inhaltsverzeichnis
A2: Methodik
A3: Rechtsgrundlage der Sozialhilfestatistiken sind die §§ 121 bis 129 Zwölftes Buch Sozialgesetzbuch (SGB XII). Das mit Inkrafttreten des SGB XII "Sozialhilfe" zum 1. Januar 2005 grundlegend reformierte Berichtssystem der Sozialhilfestatistik gliedert sich seitdem in folgende Teilerhebungen, die sich jeweils in Erhebungsverfahren, Berichtszeiten und Inhalten voneinander unterscheiden: - Statistik über die Empfängerinnen und Empfänger von Hilfe zum Lebensunterhalt nach dem 3. Kapitel SGB XII, - Statistik über die Empfängerinnen und Empfänger von Grundsicherung im Alter und bei Erwerbsminderung nach dem 4. Kapitel SGB XII, - Statistik über die Empfängerinnen und Empfänger von Leistungen nach dem 5. - 9. Kapitel SGB XII, - Statistik über die Ausgaben und Einnahmen der Sozialhilfe, - Statistik über die Empfängerinnen und Empfänger von Leistungen für Bildung und Teilhabe nach dem 3. Kapitel SGB XII.
A4: Die Erhebung über die Empfängerinnen und Empfänger von Hilfe zum Lebensunterhalt, denen Leistungen für mindestens einen Monat gewährt werden, wird als Sekundärstatistik aus den vorliegenden Verwaltungsdaten als Bestandserhebung (Totalerhebung) jährlich zum 31. Dezember durchgeführt. Darüber hinaus werden die entsprechenden Angaben bei Beginn und Ende der Leistungsgewährung sowie bei Änderung der Zusammensetzung der Personengemeinschaft gemäß § 27 SGB XII (Bedarfsgemeinschaft) erfasst.
A5: Mit der Neugestaltung des Sozialhilferechts zum 1. Januar 2005 hat sich das inhaltliche Erhebungskonzept der Statistik verändert. Erhe- bungsmerkmale und Merkmalsausprägungen wurden im Zuge der Reform neu hinzugefügt (z. B. Migrationshintergrund, Beschäftigung und Höhe des angerechneten Einkommens) bzw. werden ab 2005 nicht mehr erfasst (z. B. Schul- und Berufsausbildung, Erwerbsstatus). Die zeitliche Vergleichbarkeit der aktuellen Erhebungsergebnisse mit den Angaben vor 2005 ist nicht mehr gegeben.
A6: Die Statistik der Empfängerinnen und Empfänger von Grundsicherung im Alter und bei Erwerbsminderung ist eine Sekundärstatistik, die aus den vorliegenden Verwaltungsdaten als Bestandserhebung (Totalerhebung) jährlich zum 31. Dezember des abgelaufenen Kalender­ jahres, letztmalig für das Berichtsjahr 2014, durchgeführt wurde. Ab dem 1. Berichtsvierteljahr 2015 wurde die Statistik von einer dezen- tralen Jahresstatistik auf eine zentrale Vierteljahresstatistik mit einem geänderten und erweiterten Merkmalskatalog umgestellt.
A7: Die Statistik über die Empfängerinnen und Empfänger von Leistungen nach dem 5. - 9. Kapitel SGB XII wird als Sekundärstatistik aus den vorliegenden Verwaltungsdaten als Totalerhebung durchgeführt. Es werden alle Hilfebezieherinnen und Hilfebezieher erfasst, die im Laufe des Berichtsjahres mindestens einmal eine der Hilfen nach dem 5. - 9. Kapitel des SGB XII erhalten haben. Daneben liegen Angaben zum Stichtag 31. Dezember jeden Jahres vor. Die zu erhebenden Merkmale umfassen neben den personenbezogenen oder soziodemografischen Grunddaten (Wohnort, Geschlecht, Geburtsjahr, usw.) den Hilfebezug nach folgenden (Unter-)Hilfearten: - 5. Kapitel SGB XII: Hilfen zur Gesundheit (§§ 47 bis 52), - 7. Kapitel SGB XII: Hilfe zur Pflege (§§ 61 bis 66), - 8. Kapitel SGB XII: Hilfe zur Überwindung besonderer sozialer Schwierigkeiten (§§ 67 bis 69), - 9. Kapitel SGB XII: Hilfe in anderen Lebenslagen (§§ 70 bis 74).
A8: Die Statistik der Empfänger von Leistungen für Bildung und Teilhabe nach dem 3. Kapitel SGB XII ist eine Vollerhebung und eine Sekun- därstatistik, bei der bereits vorliegende Verwaltungsdaten statistisch aufbereitet werden. Es werden Schülerinnen und Schüler, die eine allgemein- oder berufsbildende Schule besuchen sowie Kinder und Jugendliche mit Bedarfen für Bildung und Teilhabe nach § 34 SGB XII, die nach dem 3. Kapitel SGB XII (Hilfe zum Lebensunterhalt) leistungsberechtigt sind, erfasst. Die Erhebung wird quartalsweise durchge- führt.
A9: Die Statistik über die Ausgaben und Einnahmen der Sozialhilfe wird jährlich für das abgelaufene Kalenderjahr aus den vorliegenden Ver- waltungsdaten als Totalerhebung durchgeführt. Dabei erfolgt ein detaillierter Nachweis der einzelnen Leistungen der Sozialhilfe nach dem 3. - 9. Kapitel SGB XII. Ferner werden die Ausgaben der Sozialhilfeträger für Erstattungen an die Krankenkassen für die Übernahme der Krankenbehandlung ge- mäß § 264 Absatz 7 Fünftes Buch Sozialgesetzbuch (SGB V) erfasst.
A10: Die Asylbewerberleistungsstatistik umfasst jährlich folgende Teilerhebungen, die sich jeweils durch Berichtszeiten und Inhalte voneinan- der unterscheiden: - Statistik der Empfängerinnen und Empfänger von Asylbewerberleistungen, - Statistik der Ausgaben und Einnahmen für Asylbewerberleistungen nach dem Asylbewerberleistungsgesetz, - Statistik über die Empfängerinnen und Empfänger von Leistungen für Bildung und Teilhabe nach dem Asylbewerberleistungsgesetz.
A11: Seit 1994 erhalten Asylbewerberinnen und Asylbewerber keine Sozialhilfe mehr, sondern Leistungen nach dem Asylbewerberleistungsge- setz und werden in einer eigenen, von der Sozialhilfestatistik getrennten, ihr aber sehr ähnlichen Statistik erfasst. Dabei werden die Emp- fängerinnen und Empfänger von Regelleistungen und die von besonderen Leistungen erhoben.
A12: Methodik
... A21: Ab dem Berichtsjahr 2020 erfolgt die Veröffentlichung der Ergebnisse der Statistiken von Empfängerinnen und Empfänger unter Einsatz des Geheimhaltungsverfahrens der 5er-Rundung. Bei der 5er-Rundung werden alle absoluten Werte einer Tabelle mit Empfängerzahlen auf den nächsten durch 5 teilbaren Wert auf- oder abgerundet. Die maximale Abweichung zu den jeweiligen Originalwerten beträgt dadurch für jeden Wert höchstens 2. Zudem werden auch Durchschnittswerte nicht veröffentlicht, sofern diese nur auf einer geringen Fallzahl an Empfängerinnen und Empfängern basieren.

Sheet Glossar
A1: Link zum Inhaltsverzeichnis
A2: Glossar
A3: Die Hilfe zum Lebensunterhalt ist eine staatliche Transferleistung. Sie bildet das soziale Auffangnetz für bedürftige Menschen und deckt den Grundbedarf der Empfängerinnen und Empfänger insbesondere an Nahrung, Unterkunft, Kleidung, Körperpflege, Hausrat, Heizung und persönliche Bedürfnisse des täglichen Lebens ab ("soziokulturelles Existenzminimum"). Zum Kreis der Empfängerinnen und Empfänger gehören unter anderem vorübergehend Erwerbsunfähige und längerfristig Erkrankte.
