Workbook
Name _GrafikDaten_25.1: Titelblatt!$C$20:$E$30
Name _GrafikDaten_25.10: '25.4.4'!$L$52:$O$70
Name _GrafikDaten_25.2: 'Überblick in Grafiken'!$C$3:$E$14
Name _GrafikDaten_25.3: 'Überblick in Grafiken'!$C$26:$D$37
Name _GrafikDaten_25.4: 'Überblick in Grafiken'!$C$47:$E$52
Name _GrafikDaten_25.5: '25.1.1-25.1.2'!$L$40:$O$47
Name _GrafikDaten_25.6: '25.1.3'!$N$12:$P$31
Name _GrafikDaten_25.7: '25.2.1-25.2.3'!$K$13:$M$16
Name _GrafikDaten_25.8: '25.3.4'!$H$23:$I$28
Name _GrafikDaten_25.9: '25.4.4'!$L$16:$N$47
Name _Tabelle_25.1.1: '25.1.1-25.1.2'!$A$3:$J$14
Name _Tabelle_25.1.2: '25.1.1-25.1.2'!$A$17:$G$38
Name _Tabelle_25.1.3: '25.1.3'!#REF!
Name _Tabelle_25.1.4: '25.1.3'!$A$3:$L$10
Name _Tabelle_25.2.1: '25.2.1-25.2.3'!$A$3:$I$8
Name _Tabelle_25.2.2: '25.2.1-25.2.3'!$A$11:$E$25
Name _Tabelle_25.2.3: '25.2.1-25.2.3'!$A$28:$E$44
Name _Tabelle_25.3.1: '25.3.1-25.3.3'!$A$3:$J$9
Name _Tabelle_25.3.2: '25.3.1-25.3.3'!$A$12:$J$34
Name _Tabelle_25.3.3: '25.3.1-25.3.3'!$A$37:$J$43
Name _Tabelle_25.3.4: '25.3.4'!$A$3:$F$21
Name _Tabelle_25.4.1: '25.4.1'!$A$3:$J$53
Name _Tabelle_25.4.2: '25.4.2+25.4.3'!$A$3:$K$20
Name _Tabelle_25.4.3: '25.4.2+25.4.3'!$A$23:$J$38
Name _Tabelle_25.4.4: '25.4.4'!$A$3:$J$14

Sheet Titelblatt
A1: Titelblatt des Kapitels 25 "Verkehr": Link zum Inhaltsverzeichnis
A2: 25 | Verkehr
A20: Grafik 25.1 | C20: Daten der Grafik 25.1 "Verunglückte Personen je 1.000 Einwohner bei Straßenverkehrsunfällen 2024 nach Kreisen"
C21: Kreise | D21: Verunglückte je 1.000 Einwohner | E21: Nachrichtlich: Bevölkerung am 31.12.2025
C22: Rostock | D22: ='25.4.4'!C10*1000/GrafikDaten_25.1[[#This Row],[Nachrichtlich: Bevölkerung am 31.12.2025]] -> 3.1035139 | E22: 204929
C23: Schwerin | D23: ='25.4.4'!D10*1000/GrafikDaten_25.1[[#This Row],[Nachrichtlich: Bevölkerung am 31.12.2025]] -> 3.6355467 | E23: 97922
C24: Mecklenburgische Seenplatte | D24: ='25.4.4'!E10*1000/GrafikDaten_25.1[[#This Row],[Nachrichtlich: Bevölkerung am 31.12.2025]] -> 4.191091 | E24: 245998
C25: Landkreis Rostock | D25: ='25.4.4'!F10*1000/GrafikDaten_25.1[[#This Row],[Nachrichtlich: Bevölkerung am 31.12.2025]] -> 4.2269729 | E25: 218123
C26: Vorpommern-Rügen | D26: ='25.4.4'!G10*1000/GrafikDaten_25.1[[#This Row],[Nachrichtlich: Bevölkerung am 31.12.2025]] -> 4.3844144 | E26: 217817
C27: Nordwestmecklenburg | D27: ='25.4.4'!H10*1000/GrafikDaten_25.1[[#This Row],[Nachrichtlich: Bevölkerung am 31.12.2025]] -> 4.5871854 | E27: 155869
C28: Vorpommern-Greifswald | D28: ='25.4.4'!I10*1000/GrafikDaten_25.1[[#This Row],[Nachrichtlich: Bevölkerung am 31.12.2025]] -> 4.8878322 | E28: 225867
C29: Ludwigslust-Parchim | D29: ='25.4.4'!J10*1000/GrafikDaten_25.1[[#This Row],[Nachrichtlich: Bevölkerung am 31.12.2025]] -> 4.523074 | E29: 207160
C30: Mecklenburg-Vorpommern | D30: ='25.4.4'!B10*1000/GrafikDaten_25.1[[#This Row],[Nachrichtlich: Bevölkerung am 31.12.2025]] -> 4.2295631 | E30: 1573685

Sheet Inhalt
A1: Inhaltsverzeichnis des Kapitels 25 "Verkehr": Die Gliederungen und Überschriften auf dieser Seite sind Links zum Inhalt.
A2: Inhaltsverzeichnis
A3: Überblick | B3: Überblick in Grafiken | C3: =D3+572 -> 575 | D3: 3
B4: Überblick in Worten | C4: =D4+572 -> 576 | D4: 4
A5: Ergebnisse in Tabellen
A6: 25.1 | B6: Seeverkehr
A7: 25.1.1 | B7: Güterumschlag in den Seehäfen im Zeitvergleich | C7: =D7+572 -> 577 | D7: 5
A8: 25.1.2 | B8: Güterumschlag 2025 nach ausgewählten Güterhauptgruppen | C8: =D8+572 -> 577 | D8: 5
A9: 25.1.3 | B9: Passagierverkehr über See im Zeitvergleich | C9: =D9+572 -> 578 | D9: 6
A10: 25.2 | B10: Personenbeförderung
A11: 25.2.1 | B11: Verkehrsleistungen im Liniennahverkehr auf Schienen und im gewerblichen Omnibuslinienverkehr im Zeitvergleich | C11: =D11+572 -> 579 | D11: 7
A12: 25.2.2 | B12: Verkehrsleistungen 2024 nach Eigentumsverhältnissen im Schienennahverkehr und gewerblichen Omnibusverkehr | C12: =D12+572 -> 579 | D12: 7
A13: 25.2.3 | B13: Beschäftigte, Fahrzeuge, Platzkapazität und Linienlänge am 31. Dezember 2024 nach Eigentumsverhältnissen im Schienennahverkehr und gewerblichen Omnibusverkehr | C13: =D13+572 -> 579 | D13: 7
A14: 25.3 | B14: Straßen
A15: 25.3.1 | B15: Straßenlängen im Zeitvergleich | C15: =D15+572 -> 580 | D15: 8
A16: 25.3.2 | B16: Länge der überörtlichen Straßen mit Radwegen im Zeitvergleich | C16: =D16+572 -> 580 | D16: 8
A17: 25.3.3 | B17: Straßenlängen 2025 nach Kreisen | C17: =D17+572 -> 580 | D17: 8
A18: 25.3.4 | B18: Länge der überörtlichen Straßen am 1. Januar 2026 im Ländervergleich | C18: =D18+572 -> 581 | D18: 9
A19: 25.4 | B19: Straßenverkehrsunfälle
A20: 25.4.1 | B20: Straßenverkehrsunfälle sowie Straßenverkehrsunfälle mit Personenschaden im Zeitvergleich nach der Art des Unfalls, der Verkehrsteilnahme und dem Alter der Verursacherinnen bzw. Verursacher | C20: =D20+572 -> 582 | D20: 10
A21: 25.4.2 | B21: Verunglückte Personen 2025 nach Ortslage, Alter und Verkehrsbeteiligung | C21: =D21+572 -> 583 | D21: 11
A22: 25.4.3 | B22: Ausgewählte Unfallursachen bei Unfällen mit Personenschaden im Zeitvergleich | C22: =D22+572 -> 583 | D22: 11
A23: 25.4.4 | B23: Straßenverkehrsunfälle und verunglückte Personen 2025 nach Kreisen | C23: =D23+572 -> 584 | D23: 12
A24: Ergebnisse in Grafiken
A25: 25.1 | B25: Verunglückte Personen je 1.000 Einwohnerinnen bzw. Einwohner bei Straßenverkehrsunfällen 2025 nach Kreisen | C25: =D25+572 -> 573 | D25: 1
A26: 25.2 | B26: Straßenverkehrsunfälle mit Personenschaden im Zeitvergleich | C26: =D26+572 -> 575 | D26: 3
A27: 25.3 | B27: Beteiligung an Straßenverkehrsunfällen mit Personenschaden 2025 nach Altersgruppen | C27: =D27+572 -> 575 | D27: 3
A28: 25.4 | B28: Fahrgäste und Fahrleistung im Liniennahverkehr mit Bussen und Bahnen 2024 | C28: =D28+572 -> 575 | D28: 3
A29: 25.5 | B29: Güterumschlag im Seeverkehr 2025 nach ausgewählten Güterhauptgruppen | C29: =D29+572 -> 577 | D29: 5
A30: 25.6 | B30: Passagierverkehr über See im Zeitvergleich | C30: =D30+572 -> 578 | D30: 6
A31: 25.7 | B31: Personenbeförderung 2024 | C31: =D31+572 -> 579 | D31: 7
A32: 25.8 | B32: Anteil der Straßen des überörtlichen Verkehrs am 1. Januar 2026 in Mecklenburg-Vorpommern | C32: =D32+572 -> 581 | D32: 9
A33: 25.9 | B33: Unfälle mit Personenschaden und schwerwiegendem Sachschaden im engeren Sinne im Zeitvergleich | C33: =D33+572 -> 584 | D33: 12
A34: 25.10 | B34: Getötete je 1.000.000 Einwohnerinnen bzw. Einwohner bei Straßenverkehrsunfällen 2025 im Ländervergleich | C34: =D34+572 -> 584 | D34: 12
A35: Erläuterungen
A36: Fußnotenerläuterungen | C36: =D36+572 -> 585 | D36: 13
A37: Methodik | C37: =D37+572 -> 586 | D37: 14
A38: Glossar | C38: =D38+572 -> 587 | D38: 15
A39: Mehr zum Thema | C39: =D39+572 -> 588 | D39: 16

Sheet Überblick in Grafiken
A1: Link zum Inhaltsverzeichnis
A2: Überblick in Grafiken
A3: Grafik 25.2 | C3: Daten der Grafik 25.2 "Straßenverkehrsunfälle mit Personenschaden im Zeitvergleich"
C4: Jahr | D4: Verletzte | E4: Getötete
C5: 2016 | D5: 7045 | E5: 89
C6: 2017 | D6: 6815 | E6: 79
C7: 2018 | D7: 7011 | E7: 86
C8: 2019 | D8: 6913 | E8: 88
C9: 2020 | D9: 6035 | E9: 70
C10: 2021 | D10: 5917 | E10: 68
C11: 2022 | D11: 6249 | E11: 83
C12: 2023 | D12: 6200 | E12: 57
C13: 2024 | D13: 6220 | E13: 93
C14: 2025 | D14: ='25.4.1'!J13 -> 6562 | E14: ='25.4.1'!J12 -> 94
A25: Grafik 25.3
C26: Daten der Grafik 25.3 "Beteiligung an Straßenverkehrsunfällen mit Personenschaden 2025 nach Altersgruppen"
C27: Altersgruppe | D27: Straßenverkehrsunfälle mit Personenschaden = 100 %
C28: Unter 15 | D28: 3.5021956
C29: 15 - 18 | D29: 3.555746
C30: 18 - 25 | D30: 10.570847
C31: 25 - 35 | D31: 10.91357
C32: 35 - 45 | D32: 16.879083
C33: 45 - 55 | D33: 13.880261
C34: 55 - 65 | D34: 16.45068
C35: 65 -75 | D35: 11.524044
C36: 75 und mehr | D36: 8.6644533
C37: Ohne Angabe | D37: 4.0591196
A46: Grafik 25.4
C47: Daten der Grafik 25.4 "Fahrgäste (Unternehmensfahrten) und Fahrleistung im Liniennahverkehr mit Bussen und Bahnen 2024"
C48: Verkehrsmittel | D48: Fahrleistung in Mill. km | E48: Fahrgäste in Mill.
C49: Omnibus | D49: 65.499 | E49: 88.161
C50: Straßenbahn | D50: 4.862 | E50: 42.821
C51: Eisenbahn | D51: 19.218 | E51: 41.359
C52: Insgesamt | D52: 89.579 | E52: 164.585

Sheet Überblick in Worten
A1: Link zum Inhaltsverzeichnis
A2: Überblick in Worten
A3: § | B3: In den Seehäfen Mecklenburg-Vorpommerns wurden im Jahr 2025 insgesamt 32,1 Millionen Tonnen Güter umgeschlagen.
A4: § | B4: Allein auf den Seehafen Rostock entfielen mit 24,9 Millionen Tonnen über drei Viertel der Umschlagmenge. Darunter hatte der Fährverkehr einen Anteil von 8,5 Millionen Tonnen.
A5: § | B5: In der Summe aller Seehäfen waren Kohle, rohes Erdöl und Erdgas mit 8,2 Millionen Tonnen Güterumschlag die bedeutends- te Güterhauptgruppe, gefolgt von Erzeugnissen der Land- und Forstwirtschaft sowie Fischerei mit 5,3 Millionen Tonnen.
A6: § | B6: Der Passagierverkehr über See ist gegenüber dem Vorjahr um 4,0 Prozent auf 3,3 Millionen Personen angestiegen, von denen allein in Rostock 94,3 Prozent abgefertigt wurden.
A7: § | B7: Bei der Personenbeförderung im Liniennahverkehr war nach der Anzahl der Fahrgäste 2025 gegenüber 2024 ein Anstieg von 1,9 Prozent zu verzeichnen; die Beförderungsleistung sank dagegen gegenüber dem Vorjahr um 2,4 Prozent.
A8: § | B8: Die Zahl der Verkehrsunfälle mit Personenschaden ist im Jahr 2025 gegenüber 2024 um 5,7 Prozent auf insgesamt 5.175 Unfälle gestiegen. Verletzt wurden 6.562 Personen, das sind 5,5 Prozent mehr als im Jahr 2024. Die Zahl der bei Verkehrs- unfällen tödlich Verunglückten stieg von 93 im Jahr 2024 auf 94 im Jahr 2025.
A9: § | B9: Mit 4.124 Unfällen wurden die meisten Verkehrsunfälle mit Personenschaden von Fahrerinnen bzw. Fahrern von Kraftfahr- zeugen verursacht, darunter waren 3.165 Unfälle mit Personenkraftwagen. Bei 814 Unfällen mit Personenschaden waren Radfahrerinnen und Radfahrer die Verursacherinnen bzw. Verursacher.

Sheet 25.1.1-25.1.2
A1: Link zum Inhaltsverzeichnis
A2: 25.1 Seeverkehr
A3: 25.1.1 Güterumschlag in den Seehäfen im Zeitvergleich
A4: Merkmal | B4: 1995 in 1.000 t | C4: 2000 in 1.000 t | D4: 2005 in 1.000 t | E4: 2010 in 1.000 t | F4: 2015 in 1.000 t | G4: 2020 in 1.000 t | H4: 2023 in 1.000 t | I4: 2024 in 1.000 t | J4: 2025 in 1.000 t
A5: Insgesamt | B5: 23386 | C5: 26748 | D5: 25713 | E5: 28165 | F5: 27276 | G5: 25427 | H5: 30474 | I5: 29966 | J5: 32135
A6: darunter
A7: Rostock | B7: 16186 | C7: 18634 | D7: 17147 | E7: 19487 | F7: 20328 | G7: 20075 | H7: 24086 | I7: 23372 | J7: 24938
A8: darunter Fährverkehr | B8: 1143 | C8: 5820 | D8: 7499 | E8: 6594 | F8: 8446 | G8: 8598 | H8: 8580 | I8: 8366 | J8: 8535
A9: Sassnitz 1) | B9: 2535 | C9: 2870 | D9: 2623 | E9: 2672 | F9: 1088 | G9: 1200 | H9: 1151 | I9: 1452 | J9: 1310
A10: darunter Fährverkehr | B10: 2528 | C10: 2710 | D10: 2474 | E10: 1603 | F10: 245 | G10: 11 | H10: 0 | I10: 1 | J10: 0
A11: Stralsund | B11: 1045 | C11: 681 | D11: 877 | E11: 808 | F11: 933 | G11: 758 | H11: 880 | I11: 666 | J11: 549
A12: Wismar | B12: 1929 | C12: 2691 | D12: 3750 | E12: 3457 | F12: 3700 | G12: 2290 | H12: 2428 | I12: 2335 | J12: 2225
A13: Vierow | B13: . | C13: 842 | D13: 332 | E13: 772 | F13: 746 | G13: 531 | H13: 582 | I13: 786 | J13: 645
A14: Wolgast | B14: 258 | C14: 748 | D14: 439 | E14: 419 | F14: 214 | G14: 233 | H14: 188 | I14: 267 | J14: 251
A17: 25.1.2 Güterumschlag 2025 nach ausgewählten Güterhauptgruppen
A18: Güterhauptgruppe | E18: Insgesamt in t | F18: Empfang in t | G18: Versand in t
A19: Erzeugnisse der Land- und Forstwirtschaft, Fischerei | E19: 5267469 | F19: 1435812 | G19: 3831657
A20: Kohle, rohes Erdöl und Erdgas | E20: 8240610 | F20: 8128657 | G20: 111953
A21: Erze, Steine, Erden, sonstige Bergbauerzeugnisse | E21: 2019585 | F21: 1246823 | G21: 772762
A22: Nahrungs- und Genussmittel | E22: 1007464 | F22: 279328 | G22: 728136
A23: Textilien, Bekleidung, Leder und Lederwaren | E23: - | F23: - | G23: -
A24: Holzwaren, Papier, Pappe, Druckerzeugnisse | E24: 936484 | F24: 494272 | G24: 442212
A25: Kokerei- und Mineralölerzeugnisse | E25: 2509991 | F25: 2167996 | G25: 341995
A26: Chemische Erzeugnisse, etc. | E26: 1815463 | F26: 762116 | G26: 1053347
A27: Sonstige Mineralerzeugnisse (Glas, Zement, etc.) | E27: 519818 | F27: 30501 | G27: 489317
A28: Metalle und Metallerzeugnisse | E28: 526425 | F28: 295195 | G28: 231230
A29: Maschinen, Ausrüstungen, Haushaltsgeräte etc. | E29: 257317 | F29: 96080 | G29: 161237
A30: Fahrzeuge | E30: 314241 | F30: 22206 | G30: 292035
A31: Möbel, Schmuck, Musikinstrumente, Sportgeräte etc. | E31: - | F31: - | G31: -
A32: Sekundärrohstoffe, Abfälle | E32: 293802 | F32: 147421 | G32: 146381
A33: Post, Pakete | E33: - | F33: - | G33: -
A34: Geräte und Material für die Güterbeförderung | E34: 3775 | F34: 2002 | G34: 1773
A35: Umzugsgut und sonstige nicht marktbestimmte Güter | E35: - | F35: - | G35: -
A36: Sammelgut | E36: 1108864 | F36: 612279 | G36: 496585
A37: Güterart unbekannt 2) | E37: 7268793 | F37: 3654769 | G37: 3614024
A38: Sonstige Güter, a. n. g. | E38: 44907 | F38: 28116 | G38: 16791
A40: Grafik 25.5 | L40: Daten der Grafik 25.5 "Güterumschlag im Seeverkehr 2025 nach ausgewählten Güterhauptgruppen"
L41: Empfang | M41: in Mill. t | N41: Versand | O41: in Mill. t
L42: Kohle, rohes Erdöl und Erdgas | M42: =F20/1000000 -> 8.128657 | N42: Erzeugnisse der Land- u. Forstwirtschaft, Fischerei | O42: =G19/1000000 -> 3.831657
L43: Kokerei- und Mineralölerzeugnisse | M43: =F25/1000000 -> 2.167996 | N43: Chemische Erzeug-nisse, etc. | O43: =G26/1000000 -> 1.053347
...

Sheet 25.1.3
A1: Link zum Inhaltsverzeichnis
A2: 25.1 Seeverkehr
A3: 25.1.3 Passagierverkehr über See im Zeitvergleich
A4: Merkmal | B4: 2000 in 1.000 | C4: 2005 in 1.000 | D4: 2010 in 1.000 | E4: 2015 in 1.000 | F4: 2019 in 1.000 | G4: 2020 in 1.000 | H4: 2021 in 1.000 | I4: 2022 in 1.000 | J4: 2023 in 1.000 | K4: 2024 in 1.000 | L4: 2025 in 1.000
A5: Passagiere | B5: 5445 | C5: 3559 | D5: 2876 | E5: 3328 | F5: 3800 | G5: 1442 | H5: 1894 | I5: 3102 | J5: 3362 | K5: 3217 | L5: 3347
A6: darunter in
A7: Rostock | B7: 1767 | C7: 2417 | D7: 2195 | E7: 2863 | F7: 3394 | G7: 1364 | H7: 1821 | I7: 2709 | J7: 3008 | K7: 2875 | L7: 3156
A8: Sassnitz 1) | B8: 906 | C8: 749 | D8: 556 | E8: 332 | F8: 277 | G8: 14 | H8: - | I8: 306 | J8: 268 | K8: 270 | L8: 116
A9: Ueckermünde am Stettiner Haff | B9: 277 | C9: 32 | D9: 13 | E9: 6 | F9: 5 | G9: 0 | H9: 4 | I9: 4 | J9: 3 | K9: 2 | L9: 2
A10: Usedomer Häfen | B10: 633 | C10: 207 | D10: 106 | E10: 128 | F10: 123 | G10: 63 | H10: 69 | I10: 82 | J10: 82 | K10: 70 | L10: 74
A12: Grafik 25.6 | N12: Daten der Grafik 25.6 "Passagierverkehr über See im Zeitvergleich"
N13: Jahr | O13: Passagiere insgesamt in 1.000 | P13: Darunter in Rostock in 1.000
N14: 2000 | O14: 5445 | P14: 1767
N15: 2005 | O15: 3559 | P15: 2417
N16: 2010 | O16: 2876 | P16: 2195
N17: 2011 | O17: 2916 | P17: 2249
N18: 2012 | O18: 3000 | P18: 2344
N19: 2013 | O19: 2998 | P19: 2300
N20: 2014 | O20: 3060 | P20: 2477
N21: 2015 | O21: 3328 | P21: 2863
N22: 2016 | O22: 3292 | P22: 2833
N23: 2017 | O23: 3620 | P23: 3186
N24: 2018 | O24: 3722 | P24: 3291
N25: 2019 | O25: 3800 | P25: 3394
... N30: 2024 | O30: 3217 | P30: 2875
N31: 2025 | O31: =L5 -> 3347 | P31: =L7 -> 3156

Sheet 25.2.1-25.2.3
A1: Link zum Inhaltsverzeichnis
A2: 25.2 Personenbeförderung
A3: 25.2.1 Verkehrsleistungen im Liniennahverkehr auf Schienen und im gewerblichen Omnibuslinienverkehr im Zeitvergleich
A4: Merkmal | B4: Einheit | C4: 2005 | D4: 2010 | E4: 2015 | F4: 2020 | G4: 2023 | H4: 2024 | I4: 2025
A5: Unternehmen 3) | B5: Anzahl | C5: 31 | D5: 28 | E5: 22 | F5: 14 | G5: 14 | H5: 14 | I5: 14
A6: Fahrgäste | B6: 1000 | C6: 118085 | D6: 109406 | E6: 124750 | F6: 97516 | G6: 166411 | H6: 168318 | I6: 171594
A7: Beförderungsleistung | B7: 1.000 Pkm | C7: 1041762 | D7: 927064 | E7: 1658126 | F7: 1227590 | G7: 2986204 | H7: 3028706 | I7: 2955977
A8: Mittlere Reiseweite | B8: km | C8: 9 | D8: 9 | E8: 13 | F8: 13 | G8: 18 | H8: 18 | I8: 17
A11: 25.2.2 Verkehrsleistungen 2024 nach Eigentumsverhältnissen im Schienennah- | F11: Grafik 25.7
A12: verkehr und gewerblichen Omnibusverkehr 4)
A13: Merkmal | B13: Einheit | C13: Insgesamt davon... | D13: …öffent- liche Unter- nehmen | E13: …private und gemischt- wirtschaft- liche Unter- nehmen | K13: Grafik 25.7 "Personenbeförderung 2024"
A14: Personenbeförderung | K14: Eigentumsverhältnis | L14: Unternehmen (Insgesamt = 100 %) | M14: Fahrgäste (Insgesamt = 100 %)
A15: Unternehmen | B15: Anzahl | C15: 56 | D15: 12 | E15: 44 | K15: Öffentliche Unternehmen | L15: =Tabelle_25.2.2[[#This Row],[…öffent- liche Unter- nehmen]]*100/Tabelle_25.2.2[[#This Row],[Insgesamt davon...]] -> 21.428571 | M15: =D16*100/C16 -> 74.416369
A16: Fahrgäste | B16: 1000 | C16: 165387 | D16: 123075 | E16: 42312 | K16: Private und gemischtwirtschaftliche Unternehmen | L16: =E15*100/C15 -> 78.571429 | M16: =Tabelle_25.2.2[[#This Row],[…private und gemischt- wirtschaft- liche Unter- nehmen]]*100/Tabelle_25.2.2[[#This Row],[Insgesamt davon...]] -> 25.583631
A17: Beförderungsleistung | B17: 1.000 Pkm | C17: 3167950 | D17: 1005891 | E17: 2162058
A18: Fahrleistung | B18: 1.000 Fkm | C18: 97004 | D18: 70760 | E18: 26244
A19: darunter
A20: Personenbeförderung im Liniennahverkehr
A21: Unternehmen | B21: Anzahl | C21: 18 | D21: 12 | E21: 6
A22: Fahrgäste | B22: 1000 | C22: 164585 | D22: 122959 | E22: 41626
A23: Beförderungsleistung | B23: 1.000 Pkm | C23: 2912987 | D23: 985557 | E23: 1927431
A24: Fahrleistung | B24: 1.000 Fkm | C24: 89579 | D24: 69993 | E24: 19586
A25: Beförderungseinnahmen | B25: 1.000 EUR | C25: 220875 | D25: 156691 | E25: 64184
A28: 25.2.3 Beschäftigte, Fahrzeuge, Platzkapazität und Linienlänge am 31. Dezember 2024 nach
A29: Eigentumsverhältnissen im Schienennahverkehr und gewerblichen Omnibusverkehr 5)
A30: Merkmal | B30: Einheit | C30: Insgesamt davon... | D30: …öffent- liche Unter- nehmen | E30: …private und gemischt- wirtschaft- liche Unter- nehmen
A31: Beschäftigte | B31: Anzahl | C31: 4786 | D31: 3212 | E31: 1574
A32: ausschließlich oder über- wiegend eingesetzt
A33: im Fahrdienst | B33: Anzahl | C33: 3358 | D33: 2364 | E33: 994
A34: im technischen Dienst | B34: Anzahl | C34: 628 | D34: 454 | E34: 174
A35: in der Verwaltung | B35: Anzahl | C35: 800 | D35: 394 | E35: 406
A36: Fahrzeuge | B36: Anzahl | C36: 1945 | D36: 1469 | E36: 476
A37: Eisenbahnen und Straßenbahnen | B37: Anzahl | C37: 213 | D37: 103 | E37: 110
A38: Omnibusse | B38: Anzahl | C38: 1732 | D38: 1366 | E38: 366
A39: Sitzplätze | B39: Anzahl | C39: 112395 | D39: 68254 | E39: 44141
A40: Eisenbahnen und Straßenbahnen | B40: Anzahl | C40: 36665 | D40: 8475 | E40: 28190
A41: Omnibusse | B41: Anzahl | C41: 75730 | D41: 59779 | E41: 15951
A42: Linienlänge | B42: km | C42: 23636 | D42: 23195 | E42: 441
A43: Straßenbahnen | B43: km | C43: 120 | D43: 120 | E43: -
A44: Omnibusse | B44: km | C44: 23516 | D44: 23075 | E44: 441

Sheet 25.3.1-25.3.3
A1: Link zum Inhaltsverzeichnis
A2: 25.3 Straßen
A3: 25.3.1 Straßenlängen im Zeitvergleich
A4: Verkehrsweg | B4: 1991 in km | C4: 1996 6) in km | D4: 2000 in km | E4: 2005 in km | F4: 2010 in km | G4: 2015 in km | H4: 2020 in km | I4: 2024 in km | J4: 2025 in km
A5: Bundesautobahnen | B5: 237 | C5: 237 | D5: 336 | E5: 527 | F5: 554 | G5: 568 | H5: 578 | I5: 578 | J5: 578
A6: Bundesstraßen | B6: 2160 | C6: 2079 | D6: 2077 | E6: 2055 | F6: 1992 | G6: 1941 | H6: 1927 | I6: 1927 | J6: 1927
A7: Landesstraßen | B7: 4325 | C7: 3225 | D7: 3242 | E7: 3251 | F7: 3307 | G7: 3360 | H7: 3378 | I7: 3378 | J7: 3377
A8: Kreisstraßen | B8: 3398 | C8: 4183 | D8: 4123 | E8: 4136 | F8: 4158 | G8: 4145 | H8: 4117 | I8: 4120 | J8: 4101
A9: Kommunale Straßen | B9: 10119 | C9: . | D9: 16773 | E9: 17390 | F9: 18007 | G9: 19395 | H9: 20677 | I9: 18937 | J9: 19128
A12: 25.3.2 Länge der überörtlichen Straßen mit Radwegen im Zeitvergleich
A13: Merkmal | B13: 1995 in km | C13: 2000 7) in km | D13: 2005 in km | E13: 2010 in km | F13: 2015 in km | G13: 2020 in km | H13: 2023 in km | I13: 2024 in km | J13: 2025 in km
A14: Bundesstraßen
A15: freie Strecke
A16: Radwege | B16: 96 | C16: 95 | D16: 185 | E16: 189 | F16: 165 | G16: 151 | H16: 148 | I16: 146 | J16: 146
A17: andere 8) | B17: 49 | C17: 150 | D17: 265 | E17: 338 | F17: 436 | G17: 591 | H17: 649 | I17: 636 | J17: 602
A18: Ortsdurchfahrt
A19: Radwege | B19: 54 | C19: 48 | D19: 94 | E19: 92 | F19: 84 | G19: 80 | H19: 78 | I19: 78 | J19: 77
A20: andere 8) | B20: 83 | C20: 140 | D20: 163 | E20: 174 | F20: 178 | G20: 181 | H20: 182 | I20: 181 | J20: 168
A21: Landesstraßen
A22: freie Strecke
A23: Radwege | B23: 19 | C23: 29 | D23: 157 | E23: 192 | F23: 213 | G23: 197 | H23: 194 | I23: 187 | J23: 188
A24: andere 8) | B24: 37 | C24: 92 | D24: 185 | E24: 322 | F24: 453 | G24: 563 | H24: 594 | I24: 600 | J24: 599
A25: Ortsdurchfahrt
A26: Radwege | B26: 27 | C26: 23 | D26: 117 | E26: 116 | F26: 113 | G26: 108 | H26: 108 | I26: 108 | J26: 106
A27: andere 8) | B27: 29 | C27: 78 | D27: 134 | E27: 164 | F27: 185 | G27: 212 | H27: 214 | I27: 218 | J27: 199
A28: Kreisstraßen
A29: freie Strecke
A30: Radwege | B30: 19 | C30: 34 | D30: 44 | E30: 39 | F30: 173 | G30: 54 | H30: 65 | I30: 64 | J30: 62
A31: andere 8) | B31: 72 | C31: 168 | D31: 324 | E31: 432 | F31: 233 | G31: 390 | H31: 397 | I31: 403 | J31: 431
A32: Ortsdurchfahrt
A33: Radwege | B33: 7 | C33: 16 | D33: 21 | E33: 24 | F33: 22 | G33: 21 | H33: 29 | I33: 31 | J33: 32
A34: andere 8) | B34: 34 | C34: 86 | D34: 113 | E34: 148 | F34: 79 | G34: 127 | H34: 128 | I34: 129 | J34: 126
A37: 25.3.3 Straßenlängen 2025 nach Kreisen
A38: Verkehrsweg | B38: Mecklen- burg-Vor- pommern in km | C38: Kreisfreie Stadt Rostock in km | D38: Kreisfreie Stadt Schwerin in km | E38: Mecklen- burgische Seenplatte in km | F38: Landkreis Rostock in km | G38: Vor- pommern- Rügen in km | H38: Nordwest- mecklen- burg in km | I38: Vor- pommern- Greifswald in km | J38: Ludwigslust- Parchim in km
A39: Bundesautobahnen | B39: 578 | C39: 10 | D39: - | E39: 93 | F39: 121 | G39: 41 | H39: 94 | I39: 69 | J39: 150
A40: Bundesstraßen | B40: 1927 | C40: 16 | D40: 37 | E40: 453 | F40: 216 | G40: 207 | H40: 191 | I40: 374 | J40: 432
A41: Landesstraßen | B41: 3377 | C41: 39 | D41: 7 | E41: 619 | F41: 617 | G41: 665 | H41: 354 | I41: 455 | J41: 620
A42: Kreisstraßen | B42: 4101 | C42: 13 | D42: 7 | E42: 990 | F42: 607 | G42: 325 | H42: 377 | I42: 808 | J42: 975
A43: Kommunale Straßen | B43: 19128 | C43: 517 | D43: 366 | E43: 3821 | F43: 3117 | G43: 2808 | H43: 2404 | I43: 2697 | J43: 3397

Sheet 25.3.4
A1: Link zum Inhaltsverzeichnis
A2: 25.3 Straßen
A3: 25.3.4 Länge der überörtlichen Straßen am 1. Januar 2026 im Ländervergleich
A4: Land | B4: Straßen des über- örtlichen Verkehrs in km | C4: Bundesautobahnen in km | D4: Bundesstraßen in km | E4: Land(es)-, Staatsstraßen in km | F4: Kreisstraßen in km
A5: Deutschland | B5: 229307 | C5: 13259 | D5: 37654 | E5: 86563 | F5: 91831
A6: Baden-Württemberg | B6: 27405 | C6: 1057 | D6: 4193 | E6: 10065 | F6: 12091
A7: Bayern | B7: 41851 | C7: 2554 | D7: 5963 | E7: 14537 | F7: 18797
A8: Berlin | B8: 239 | C8: 76 | D8: 163 | E8: - | F8: -
A9: Brandenburg | B9: 12071 | C9: 806 | D9: 2731 | E9: 5521 | F9: 3013
A10: Bremen | B10: 100 | C10: 66 | D10: 34 | E10: - | F10: -
A11: Hamburg | B11: 190 | C11: 74 | D11: 116 | E11: - | F11: -
A12: Hessen | B12: 16076 | C12: 1049 | D12: 2952 | E12: 7185 | F12: 4890
A13: Mecklenburg-Vorpommern | B13: 9984 | C13: 578 | D13: 1927 | E13: 3377 | F13: 4101
A14: Niedersachsen | B14: 27998 | C14: 1454 | D14: 4645 | E14: 8244 | F14: 13655
A15: Nordrhein-Westfalen | B15: 29495 | C15: 2252 | D15: 4418 | E15: 13056 | F15: 9769
A16: Rheinland-Pfalz | B16: 18264 | C16: 881 | D16: 2865 | E16: 7103 | F16: 7415
A17: Saarland | B17: 2044 | C17: 240 | D17: 310 | E17: 872 | F17: 623
A18: Sachsen | B18: 13358 | C18: 584 | D18: 2282 | E18: 4765 | F18: 5726
A19: Sachsen-Anhalt | B19: 10951 | C19: 522 | D19: 2021 | E19: 4085 | F19: 4323
A20: Schleswig-Holstein | B20: 9873 | C20: 545 | D20: 1534 | E20: 3672 | F20: 4122
A21: Thüringen | B21: 9408 | C21: 521 | D21: 1500 | E21: 4081 | F21: 3306
A23: Grafik 25.8 | H23: Daten der Grafik 25.8 "Anteil der Straßen des überörtlichen Verkehrs am 1. Januar 2026 in Mecklenburg-Vorpommern"
H24: Straßenart | I24: Insgesamt = 100 %
H25: Bundesautobahn | I25: =C13*100/B13 -> 5.7892628
H26: Bundesstraßen | I26: =D13*100/B13 -> 19.300881
H27: Land(es)-, Staatsstraßen | I27: =E13*100/B13 -> 33.824119
H28: Kreisstraßen | I28: =F13*100/B13 -> 41.075721

Sheet 25.4.1
A1: Link zum Inhaltsverzeichnis
A2: 25.4 Straßenverkehrsunfälle
A3: 25.4.1 Straßenverkehrsunfälle sowie Straßenverkehrsunfälle mit Personenschaden im Zeitvergleich nach der Art des Unfalls,
A4: der Verkehrsteilnahme und dem Alter der Verursacherinnen bzw. Verursacher
A5: Merkmal | B5: 1990 | C5: 1995 | D5: 2000 | E5: 2005 | F5: 2010 | G5: 2015 | H5: 2020 | I5: 2024 | J5: 2025
A6: Insgesamt 9) | B6: 7866 | C6: 17903 | D6: 14169 | E6: 11109 | F6: 7804 | G6: 7124 | H6: 6144 | I6: 6393 | J6: 6734
A7: darunter
A8: Verkehrsunfälle mit Personenschaden | B8: 5773 | C8: 10646 | D8: 9698 | E8: 7463 | F8: 5301 | G8: 5407 | H8: 4758 | I8: 4895 | J8: 5175
A9: Verkehrsunfälle mit Getöteten | B9: 432 | C9: 445 | D9: 320 | E9: 181 | F9: 98 | G9: 89 | H9: 64 | I9: 88 | J9: 88
A10: Verkehrsunfälle mit Verletzten | B10: 5341 | C10: 10201 | D10: 9378 | E10: 7282 | F10: 5203 | G10: 5318 | H10: 4694 | I10: 4807 | J10: 5087
A11: Verunglückte Personen | B11: 7884 | C11: 14515 | D11: 12992 | E11: 9567 | F11: 6800 | G11: 7023 | H11: 6105 | I11: 6313 | J11: 6656
A12: Getötete 10) | B12: 518 | C12: 500 | D12: 365 | E12: 198 | F12: 108 | G12: 93 | H12: 70 | I12: 93 | J12: 94
A13: Verletzte | B13: 7366 | C13: 14015 | D13: 12627 | E13: 9369 | F13: 6692 | G13: 6930 | H13: 6035 | I13: 6220 | J13: 6562
A14: Verkehrsunfälle mit Personenschaden nach der Art des Unfalls
A15: Zusammenstoß mit einem Fahrzeug, das
A16: anfährt, anhält oder im ruhenden Verkehr steht | B16: 91 | C16: 268 | D16: 489 | E16: 196 | F16: 357 | G16: 367 | H16: 229 | I16: 276 | J16: 308
A17: vorausfährt oder wartet | B17: 341 | C17: 1534 | D17: 1480 | E17: 1193 | F17: 634 | G17: 766 | H17: 663 | I17: 618 | J17: 662
A18: seitlich in gleicher Richtung fährt | B18: 27 | C18: 457 | D18: 332 | E18: 260 | F18: 206 | G18: 226 | H18: 225 | I18: 245 | J18: 270
A19: entgegenkommt | B19: 662 | C19: 1116 | D19: 893 | E19: 600 | F19: 408 | G19: 401 | H19: 309 | I19: 394 | J19: 427
A20: einbiegt oder kreuzt | B20: 1386 | C20: 2352 | D20: 2379 | E20: 1980 | F20: 1369 | G20: 1513 | H20: 1291 | I20: 1312 | J20: 1315
A21: Zusammenstoß zwischen Fahrzeug und Fußgängerin bzw. Fußgänger | B21: 1013 | C21: 1106 | D21: 844 | E21: 663 | F21: 422 | G21: 469 | H21: 394 | I21: 418 | J21: 458
A22: Aufprall auf Hindernis auf der Fahrbahn | B22: 125 | C22: 111 | D22: 105 | E22: 109 | F22: 111 | G22: 100 | H22: 153 | I22: 158 | J22: 160
A23: Abkommen von der Fahrbahn | B23: 1408 | C23: 2897 | D23: 2267 | E23: 1803 | F23: 1262 | G23: 1049 | H23: 889 | I23: 952 | J23: 1019
A24: Unfall anderer Art | B24: 720 | C24: 805 | D24: 909 | E24: 659 | F24: 532 | G24: 516 | H24: 605 | I24: 522 | J24: 556
A25: Verkehrsunfälle mit Personenschaden nach dem Straßenzustand
A26: trocken | B26: 4242 | C26: 6952 | D26: 6419 | E26: 4815 | F26: 3456 | G26: 3896 | H26: 3461 | I26: 3623 | J26: 3944
A27: nass/feucht/schlüpfrig (Öl, Laub, usw.) | B27: 1359 | C27: 2894 | D27: 3019 | E27: 2042 | F27: 1186 | G27: 1386 | H27: 1234 | I27: 1165 | J27: 1111
A28: winterglatt | B28: 172 | C28: 800 | D28: 260 | E28: 606 | F28: 659 | G28: 125 | H28: 63 | I28: 107 | J28: 120
A29: Verursacherinnen bzw. Verursacher von Verkehrs- unfällen mit Personenschaden nach der Art der Verkehrsteilnahme
A30: Kraftfahrzeuge | B30: 4320 | C30: 9504 | D30: 8718 | E30: 6583 | F30: 4612 | G30: 4574 | H30: 3744 | I30: 3910 | J30: 4124
A31: Krafträder (mit Versicherungs- und amtlichem Kennzeichen) 11) | B31: 1008 | C31: 662 | D31: 699 | E31: 564 | F31: 322 | G31: 360 | H31: 337 | I31: 387 | J31: 387
A32: Personenkraftwagen | B32: 2964 | C32: 7895 | D32: 7111 | E32: 5330 | F32: 3735 | G32: 3732 | H32: 2993 | I32: 3016 | J32: 3165
A33: Güterkraftfahrzeuge | B33: 268 | C33: 842 | D33: 795 | E33: 597 | F33: 479 | G33: 389 | H33: 324 | I33: 365 | J33: 372
A34: Busse | B34: 20 | C34: 38 | D34: 36 | E34: 27 | F34: 24 | G34: 17 | H34: 13 | I34: 32 | J34: 38
A35: landwirtschaftliche Zugmaschinen | B35: 48 | C35: 33 | D35: 38 | E35: 24 | F35: 25 | G35: 35 | H35: 36 | I35: 28 | J35: 27
A36: übrige Kraftfahrzeuge | B36: 12 | C36: 34 | D36: 39 | E36: 41 | F36: 27 | G36: 41 | H36: 41 | I36: 82 | J36: 135
A37: Fahrräder 12) | B37: 316 | C37: 693 | D37: 722 | E37: 722 | F37: 556 | G37: 677 | H37: 835 | I37: 769 | J37: 814
A38: Fußgängerinnen und Fußgänger 13) | B38: 797 | C38: 329 | D38: 238 | E38: 140 | F38: 92 | G38: 100 | H38: 94 | I38: 116 | J38: 139
A39: sonstige Fahrzeuge/andere Personen | B39: 9 | C39: 120 | D39: 20 | E39: 18 | F39: 41 | G39: 56 | H39: 85 | I39: 100 | J39: 98
A40: Verursacherinnen bzw. Verursacher von Verkehrs- unfällen mit Personenschaden im Alter von … bis unter … Jahren
...

Sheet 25.4.2+25.4.3
A1: Link zum Inhaltsverzeichnis
A2: 25.4 Straßenverkehrsunfälle
A3: 25.4.2 Verunglückte Personen 2025 nach Ortslage, Alter und Verkehrsbeteiligung
A4: Merkmal | B4: Ver- unglückte insgesamt innerorts | C4: Ver- unglückte insgesamt außerorts | D4: In Perso- nenkraft- wagen innerorts | E4: In Perso- nenkraft- wagen außerorts | F4: Auf Kraft- rädern (mit Ver- sicherungs- und amt- lichen Kenn- zeichen) innerorts | G4: Auf Kraft- rädern (mit Ver- sicherungs- und amt- lichen Kenn- zeichen) außerorts | H4: Als Fahr- radfah- rer/in (einschl. Pedelecs) innerorts | I4: Als Fahr- radfah- rer/in (einschl. Pedelecs) außerorts | J4: Als Fuß- gänger/in (einschl. Fußgän- ger/in mit Sport- oder Spiel- geräten) innerorts | K4: Als Fuß- gänger/in (einschl. Fußgän- ger/in mit Sport- oder Spiel- geräten) außerorts
A5: Insgesamt | B5: 3814 | C5: 2842 | D5: 1276 | E5: 2011 | F5: 370 | G5: 255 | H5: 1420 | I5: 229 | J5: 449 | K5: 32
A6: davon
A7: Getötete 10) | B7: 23 | C7: 71 | D7: 3 | E7: 37 | F7: 2 | G7: 13 | H7: 6 | I7: 5 | J7: 12 | K7: 6
A8: Schwerverletzte | B8: 490 | C8: 571 | D8: 98 | E8: 362 | F8: 74 | G8: 91 | H8: 180 | I8: 58 | J8: 100 | K8: 7
A9: Leichtverletzte | B9: 3301 | C9: 2200 | D9: 1175 | E9: 1612 | F9: 294 | G9: 151 | H9: 1234 | I9: 166 | J9: 337 | K9: 19
A10: Alter von … bis unter … Jahren
A11: unter 6 | B11: 46 | C11: 46 | D11: 21 | E11: 44 | F11: - | G11: - | H11: 4 | I11: - | J11: 16 | K11: 1
A12: 6 bis unter 15 | B12: 373 | C12: 123 | D12: 66 | E12: 95 | F12: 10 | G12: 2 | H12: 181 | I12: 11 | J12: 80 | K12: 2
A13: 15 bis unter 18 | B13: 256 | C13: 136 | D13: 24 | E13: 50 | F13: 122 | G13: 69 | H13: 81 | I13: 7 | J13: 12 | K13: 3
A14: 18 bis unter 25 | B14: 401 | C14: 438 | D14: 167 | E14: 324 | F14: 59 | G14: 46 | H14: 112 | I14: 18 | J14: 21 | K14: -
A15: 25 bis unter 30 | B15: 197 | C15: 188 | D15: 67 | E15: 132 | F15: 8 | G15: 15 | H15: 76 | I15: 9 | J15: 23 | K15: 1
A16: 30 bis unter 40 | B16: 455 | C16: 418 | D16: 194 | E16: 308 | F16: 41 | G16: 31 | H16: 133 | I16: 25 | J16: 40 | K16: 4
A17: 40 bis unter 50 | B17: 489 | C17: 412 | D17: 176 | E17: 280 | F17: 42 | G17: 31 | H17: 172 | I17: 29 | J17: 50 | K17: -
A18: 50 bis unter 65 | B18: 741 | C18: 592 | D18: 283 | E18: 415 | F18: 54 | G18: 41 | H18: 300 | I18: 66 | J18: 71 | K18: 11
A19: 65 und mehr | B19: 843 | C19: 486 | D19: 278 | E19: 362 | F19: 34 | G19: 19 | H19: 351 | I19: 64 | J19: 135 | K19: 10
A20: ohne Angabe | B20: 13 | C20: 3 | D20: - | E20: 1 | F20: - | G20: 1 | H20: 10 | I20: - | J20: 1 | K20: -
A23: 25.4.3 Ausgewählte Unfallursachen bei Unfällen mit Personenschaden im Zeitvergleich
A24: Unfallursache | B24: Unfälle 2023 | C24: Innerorts 2023 | D24: Außerorts 2023 | E24: Unfälle 2024 | F24: Innerorts 2024 | G24: Außerorts 2024 | H24: Unfälle 2025 | I24: Innerorts 2025 | J24: Außerorts 2025
A25: Fehlverhalten von
A26: Kraftfahrzeugführerin- nen und Kraftfahrzeug- führern | B26: 4645 | C26: 2580 | D26: 2065 | E26: 4505 | F26: 2628 | G26: 1877 | H26: 4810 | I26: 2752 | J26: 2058
A27: darunter
A28: Alkoholeinfluss | B28: 216 | C28: 107 | D28: 109 | E28: 206 | F28: 106 | G28: 100 | H28: 238 | I28: 119 | J28: 119
A29: Geschwindigkeit | B29: 734 | C29: 223 | D29: 511 | E29: 568 | F29: 194 | G29: 374 | H29: 645 | I29: 187 | J29: 458
A30: Nichtbeachten der Vorfahrt | B30: 613 | C30: 439 | D30: 174 | E30: 653 | F30: 487 | G30: 166 | H30: 639 | I30: 480 | J30: 159
A31: Radfahrerinnen und Radfahrern | B31: 1181 | C31: 1045 | D31: 136 | E31: 1089 | F31: 953 | G31: 136 | H31: 1108 | I31: 960 | J31: 148
A32: darunter
A33: Alkoholeinfluss | B33: 112 | C33: 101 | D33: 11 | E33: 107 | F33: 94 | G33: 13 | H33: 89 | I33: 79 | J33: 10
A34: Nichtbeachten der Vorfahrt | B34: 75 | C34: 63 | D34: 12 | E34: 84 | F34: 71 | G34: 13 | H34: 87 | I34: 77 | J34: 10
A35: Fußgängerinnen und Fußgängern | B35: 156 | C35: 140 | D35: 16 | E35: 168 | F35: 158 | G35: 10 | H35: 200 | I35: 187 | J35: 13
A36: darunter
A37: Verkehrstüchtigkeit | B37: 10 | C37: 6 | D37: 4 | E37: 11 | F37: 11 | G37: - | H37: 16 | I37: 14 | J37: 2
A38: falsches Verhalten beim Überschreiten der Fahrbahn | B38: 112 | C38: 103 | D38: 9 | E38: 120 | F38: 112 | G38: 8 | H38: 132 | I38: 125 | J38: 7

Sheet 25.4.4
A1: Link zum Inhaltsverzeichnis
A2: 25.4 Straßenverkehrsunfälle
A3: 25.4.4 Straßenverkehrsunfälle und verunglückte Personen 2025 nach Kreisen
A4: Merkmal | B4: Mecklen- burg-Vor- pommern | C4: Kreisfreie Stadt Rostock | D4: Kreisfreie Stadt Schwerin | E4: Mecklen- burgische Seenplatte | F4: Landkreis Rostock | G4: Vor- pommern- Rügen | H4: Nordwest- mecklen- burg | I4: Vor- pommern- Greifswald | J4: Ludwigs- lust- Parchim
A5: Insgesamt | B5: 6734 | C5: 691 | D5: 383 | E5: 1022 | F5: 977 | G5: 945 | H5: 706 | I5: 1043 | J5: 967
A6: davon
A7: mit Personenschaden | B7: 5175 | C7: 553 | D7: 309 | E7: 779 | F7: 705 | G7: 735 | H7: 555 | I7: 830 | J7: 709
A8: mit schwerwiegendem Sach- schaden im engeren Sinne | B8: 1225 | C8: 83 | D8: 52 | E8: 202 | F8: 228 | G8: 158 | H8: 114 | I8: 173 | J8: 215
A9: sonstige Unfälle unter dem Einfluss berauschender Mittel | B9: 334 | C9: 55 | D9: 22 | E9: 41 | F9: 44 | G9: 52 | H9: 37 | I9: 40 | J9: 43
A10: Verunglückte Personen | B10: 6656 | C10: 636 | D10: 356 | E10: 1031 | F10: 922 | G10: 955 | H10: 715 | I10: 1104 | J10: 937
A11: davon
A12: Getötete 10) | B12: 94 | C12: 4 | D12: 3 | E12: 17 | F12: 15 | G12: 7 | H12: 9 | I12: 20 | J12: 19
A13: Schwerverletzte | B13: 1061 | C13: 48 | D13: 40 | E13: 200 | F13: 156 | G13: 174 | H13: 95 | I13: 203 | J13: 145
A14: Leichtverletzte | B14: 5501 | C14: 584 | D14: 313 | E14: 814 | F14: 751 | G14: 774 | H14: 611 | I14: 881 | J14: 773
A16: Grafik 25.9 | L16: Daten der Grafik 25.9 "Unfälle mit Personenschaden und schwerwiegendem Sachschaden im engeren Sinne im Zeitvergleich"
L17: Jahr | M17: Unfälle mit Personenschaden | N17: Unfälle mit schwerwiegendem Sachschaden
L18: 1995 | M18: 10646 | N18: 5868
L19: 1996 | M19: 10506 | N19: 5258
L20: 1997 | M20: 10746 | N20: 4415
L21: 1998 | M21: 10470 | N21: 4169
L22: 1999 | M22: 10702 | N22: 4019
L23: 2000 | M23: 9698 | N23: 3463
L24: 2001 | M24: 9111 | N24: 3783
L25: 2002 | M25: 8550 | N25: 3679
L26: 2003 | M26: 8236 | N26: 3381
L27: 2004 | M27: 7530 | N27: 3153
L28: 2005 | M28: 7463 | N28: 2993
L29: 2006 | M29: 6903 | N29: 2685
... L31: 2008 | M31: 6421 | N31: 2262
A32: Grafik 25.10 | L32: 2009 | M32: 6229 | N32: 2254
L33: 2010 | M33: 5301 | N33: 2042
L34: 2011 | M34: 5469 | N34: 1573
L35: 2012 | M35: 5212 | N35: 1605
L36: 2013 | M36: 5189 | N36: 1632
L37: 2014 | M37: 5100 | N37: 1401
L38: 2015 | M38: 5407 | N38: 1331
L39: 2016 | M39: 5422 | N39: 1222
L40: 2017 | M40: 5258 | N40: 1393
L41: 2018 | M41: 5328 | N41: 1309
L42: 2019 | M42: 5366 | N42: 1280
...

Sheet Fußnotenerläuterungen
A1: Link zum Inhaltsverzeichnis
A2: Fußnotenerläuterungen
A3: 1) | B3: Ab 2000: Stadthafen und Fährhafen.
A4: 2) | B4: Nicht näher klassifizierbare Güter, die vorwiegend in geschlossenen Ladeeinheiten, wie Lkw und Eisenbahnwagen, transportiert werden.
A5: 3) | B5: Unternehmen, die mindestens 250.000 Fahrgäste im Jahr der Totalerhebung 2024 befördert haben.
A6: 4) | B6: Hochgerechnete Ergebnisse der jährlichen Erhebung.
A7: 5) | B7: Fünfjährliche Totalerhebung 2024.
A8: 6) | B8: 1995 erfolgte eine Umwidmung von Landes- und Kreisstraßen.
A9: 7) | B9: Ab 2000: Stand 01.01. des Folgejahres.
A10: 8) | B10: Radwege, die auch von Fußgängerinnen und Fußgängern mitbenutzt werden, und Mehrzweckstreifen, die auch von Radfahrerinnen und Radfahrern mitbenutzt werden.
A11: 9) | B11: 1990: Mit Personenschaden und Sachschaden ab 800 DDR-Mark (im 2. Halbjahr 1990 = DM).
A12: 10) | B12: Einschließlich der innerhalb von 30 Tagen nach dem Unfall an den Unfallfolgen Verstorbenen.
A13: 11) | B13: Ab 2014: Einschließlich E-Bikes.
A14: 12) | B14: Ab 2014: Einschließlich Pedelecs.
A15: 13) | B15: Ab 2014: Einschließlich Fußgängerinnen und Fußgänger mit Sport- oder Spielgeräten.

Sheet Methodik
A1: Link zum Inhaltsverzeichnis
A2: Methodik
A3: Seeverkehr: Als Seeverkehr gilt jede Fahrt, die entweder ganz außerhalb der Seegrenzen stattfindet oder bei der diese überschritten werden. Das Gewicht der beförderten Güter von und nach Häfen wird zuzüglich der Verpackungsgewichte der Güter als Bruttogewicht in Tonnen ausgewiesen, jedoch ohne die Eigengewichte der Ladungsträger. Der Passagierverkehr über See erfasst die Anzahl der Personen, die eine Reise beginnen oder beenden.
A4: Die Personenverkehrsstatistiken erfassen Unternehmen, die als Betriebsführerin bzw. Betriebsführer oder beauftragte Beförderin bzw. Beförderer öffentlichen Personennahverkehr mit Eisenbahnen oder Straßenbahnen (Schienennahverkehr) oder Personennah- oder Perso- nenfernverkehr mit Omnibussen betreiben. In der vierteljährlichen Erhebung wird die Verkehrsleistung von den Unternehmen ermittelt, die mindestens 250.000 Fahrgäste im Jahr befördert haben. In der jährlichen Strukturerhebung werden zusätzlich als Stichprobe auch Unternehmen erfasst, die weniger als 250.000 Fahrgäste im Jahr befördert haben. Mit der fünfjährlichen Erhebung mit einem erweiterten Merkmalskatalog werden alle Unternehmen erfasst.
A5: Straßenverkehrsunfälle: Die Straßenverkehrsunfallstatistik erfasst alle Unfälle, bei denen infolge des Fahrverkehrs auf öffentlichen Wegen und Plätzen Personen getötet oder verletzt wurden oder Sachschaden verursacht worden ist und zu denen die Polizei hinzugezogen wurde. In die Auswertung einbezogen werden alle Unfälle mit Personenschaden, schwerwiegende Unfälle mit Sachschaden im engeren Sinne (ein Straftatbestand oder eine Ordnungswidrigkeit lagen vor und mindestens ein Kraftfahrzeug musste abgeschleppt werden) und sonstige Unfälle unter dem Einfluss berauschender Mittel (bis 2007 sonstige Alkoholunfälle). Nicht detailliert erfasst sind sonstige Sachschadens- unfälle (Bagatellunfälle), bei denen kein Straftatbestand oder eine Ordnungswidrigkeit (Bußgeld) vorliegt.

Sheet Glossar
A1: Link zum Inhaltsverzeichnis
A2: Glossar
A3: Beförderte Fahrgäste: Als Fahrgäste werden Beförderungsfälle gezählt. Als Beförderungsfall gilt eine nicht unterbrochene Fahrt auf dem Netz eines Unternehmens mit einem verkauften Fahrausweis, aus unentgeltlicher Beförderungsleistung oder mit Freifahrausweis.
A4: Zu den Beförderungseinnahmen zählen alle Einnahmen im Schienen- und Liniennahverkehr und Einnahmen aus dem freigestellten Omni- busverkehr (z. B. Schülerverkehr). Berücksichtigt werden alle Zahlungseingänge mit direktem Bezug zur Personenbeförderung.
A5: Die Beförderungsleistung wird in Personen-Kilometern (Pkm) gemessen und durch Multiplikation der Zahl der Fahrgäste mit den von ihnen zurückgelegten Kilometern (Fahrtweiten) errechnet.
A6: Die Fahrleistung bezeichnet die in einem bestimmten Zeitraum von den Verkehrsmitteln im Einsatz für den Personenverkehr zurückgelegte Distanz.
A7: Der Güterverkehr über See bezeichnet die Beförderung von Gütern durch Seeschiffe auf Reisen, die ganz oder teilweise auf See stattfin- den. Erfasst werden Art und Anzahl der beförderten Güter im Einladehafen und im Ausladehafen. Der Güterumschlag umfasst sämtliche Ein- und Ausladungen von Gütern in den Seehäfen, jedoch nicht ihren Transport innerhalb des Hafengeländes.
A8: Linienfernverkehr mit Omnibussen: In der Regel ist das Überlandlinienverkehr mit einer regelmäßigen Verkehrsverbindung zwischen bestimmten Ausgangs- und Endpunkten, auf der Fahrgäste an bestimmten Haltestellen ein- und aussteigen können. Im Unterschied zum Liniennahverkehr zählen zum Linienfernverkehr Verkehre, bei denen in der Mehrzahl der Beförderungsfälle die gesamte Reiseweite 50 Kilo- meter oder die gesamte Reisezeit eine Stunde übersteigt. Auch der Verkehr mit Fernreisebussen gehört dazu.
A9: Zum Liniennahverkehr gehört der Linienverkehr mit Straßenbahnen und Omnibussen, der überwiegend dazu bestimmt ist, die Verkehrs- nachfrage im Stadt-, Vorort- oder Regionalverkehr zu befriedigen.
A10: Der Passagierverkehr über See bezeichnet die Beförderung von Personen durch Seeschiffe auf Reisen, die ganz oder teilweise auf See stattfinden. Erfasst wird die Anzahl der Personen, die eine Reise beginnen oder beenden. Nicht berücksichtigt werden die an Bord ver- bleibenden Passagiere einer Rundreise u. Ä.
A11: Unternehmensformen: Die Zuordnung erfolgt nach dem Eigentumsverhältnis des Unternehmens und ist abhängig von seiner Rechtsform.
A12: Verkehrsunfall: Im Sinne der Unfallaufnahme ist das ein plötzliches, d. h. für mindestens eine Beteiligte bzw. einen Beteiligten ungewolltes Ereignis im öffentlichen Straßenverkehr, das zur Tötung oder Verletzung von Menschen oder zu Sachschäden geführt hat. Verkehrsunfälle werden nach der Schwere der Unfallfolgen unterschieden.
A14: Abkürzungsverzeichnis a. n. g. Anderweitig nicht genannt Fkm Fahrzeugkilometer Pkm Personenkilometer

Sheet Mehr zum Thema
A1: Link zum Inhaltsverzeichnis
A2: Mehr zum Thema
A3: Weitere Informationen zum Thema finden Sie auf der Website des Statistischen Amtes Mecklenburg-Vorpommern
A4: > https:// www.laiv-mv.de/statistik/
A5: Statistische Berichte Mecklenburg-Vorpommern
A6: > H113 | B6: Straßenverkehrsunfälle
A7: > H113J | B7: Straßenverkehrsunfälle (Jahresbericht)
A8: > H143J | B8: Personenbeförderung im Schienennahverkehr und im gewerblichen Omnibusverkehr (Jahresbericht)
A9: > H223 | B9: Seeschifffahrt – Schiffs- und Güterverkehr –
A10: Qualitätsberichte Statistisches Bundesamt
A11: > Verkehr
A12: > Verkehrsunfälle
A13: Fachliche Informationen
A14: Darlin Victoria Böhme, Telefon: 0385 588-56431, darlin-victoria.boehme@statistik-mv.de
A15: Quellenangaben
A16: Tabelle 25.3.4: Bundesministerium für Verkehr, Fernstraßen-Bundesamt
A17: Tabellen 25.3.1, 25.3.2, 25.3.3: Landesamt für Straßenbau und Verkehr Mecklenburg-Vorpommern
A18: Grafik 25.10: Statistisches Bundesamt, GENESIS-Online, Code 46241 und 12411
