Workbook
Name _GrafikDaten_24.1: Titelblatt!$C$20:$E$30
Name _GrafikDaten_24.2: 'Überblick in Grafiken'!$C$3:$D$9
Name _GrafikDaten_24.3: 'Überblick in Grafiken'!$C$21:$D$31
Name _GrafikDaten_24.4: 'Überblick in Grafiken'!$C$46:$E$64
Name _GrafikDaten_24.5: '24.1.1+24.1.2'!$J$28:$K$77
Name _GrafikDaten_24.6: '24.2.1'!$K$38:$M$71
Name _GrafikDaten_24.7: '24.2.3'!$H$23:$I$41
Name _GrafikDaten_24.8: '24.2.7'!$I$23:$J$41
Name _Tabelle_24.1.1: '24.1.1+24.1.2'!$A$3:$G$13
Name _Tabelle_24.1.2: '24.1.1+24.1.2'!$A$16:$H$26
Name _Tabelle_24.2.1: '24.2.1'!$A$3:$I$36
Name _Tabelle_24.2.2: '24.2.2'!$A$3:$G$42
Name _Tabelle_24.2.3: '24.2.3'!$A$3:$F$21
Name _Tabelle_24.2.4: '24.2.4'!$A$3:$G$42
Name _Tabelle_24.2.5: '24.2.5'!$A$3:$F$39
Name _Tabelle_24.2.6: '24.2.6'!$A$3:$F$65
Name _Tabelle_24.2.7: '24.2.7'!$A$3:$G$21

Sheet Titelblatt
A1: Titelblatt des Kapitels 24 "Gastgewerbe und Tourismus": Link zum Inhaltsverzeichnis
A2: 24 | Gastgewerbe und Tourismus
A20: Grafik 24.1 | C20: Daten der Grafik 24.1 "Tourismusintensität 2025 nach Kreisen"
C21: Kreise | D21: Übernachtungen je Einwohner | E21: Nachrichtlich: Bevölkerung am 31.12.2025
C22: Rostock | D22: ='24.2.4'!D30/GrafikDaten_24.1[[#This Row],[Nachrichtlich: Bevölkerung am 31.12.2025]] -> 11.309737 | E22: 204929
C23: Schwerin | D23: ='24.2.4'!D31/GrafikDaten_24.1[[#This Row],[Nachrichtlich: Bevölkerung am 31.12.2025]] -> 4.5265109 | E23: 97922
C24: Mecklenburgische Seenplatte | D24: ='24.2.4'!D32/GrafikDaten_24.1[[#This Row],[Nachrichtlich: Bevölkerung am 31.12.2025]] -> 15.557041 | E24: 245998
C25: Landkreis Rostock | D25: ='24.2.4'!D33/GrafikDaten_24.1[[#This Row],[Nachrichtlich: Bevölkerung am 31.12.2025]] -> 25.230008 | E25: 218123
C26: Vorpommern-Rügen | D26: ='24.2.4'!D34/GrafikDaten_24.1[[#This Row],[Nachrichtlich: Bevölkerung am 31.12.2025]] -> 48.702301 | E26: 217817
C27: Nordwestmecklenburg | D27: ='24.2.4'!D35/GrafikDaten_24.1[[#This Row],[Nachrichtlich: Bevölkerung am 31.12.2025]] -> 17.832642 | E27: 155869
C28: Vorpommern-Greifswald | D28: ='24.2.4'!D36/GrafikDaten_24.1[[#This Row],[Nachrichtlich: Bevölkerung am 31.12.2025]] -> 29.795074 | E28: 225867
C29: Ludwigslust-Parchim | D29: ='24.2.4'!D37/GrafikDaten_24.1[[#This Row],[Nachrichtlich: Bevölkerung am 31.12.2025]] -> 5.2175999 | E29: 207160
C30: Mecklenburg-Vorpommern | D30: ='24.2.4'!D5/GrafikDaten_24.1[[#This Row],[Nachrichtlich: Bevölkerung am 31.12.2025]] -> 21.153872 | E30: =SUBTOTAL(109,E22:E29) -> 1573685

Sheet Inhalt
A1: Inhaltsverzeichnis des Kapitels 24"Gastgewerbe und Tourismus": Die Gliederungen und Überschriften auf dieser Seite sind Links zum Inhalt.
A2: Inhaltsverzeichnis | C2: Seite
A3: Überblick | B3: Überblick in Grafiken | C3: =D3+554 -> 557 | D3: 3
B4: Überblick in Worten | C4: =D4+554 -> 558 | D4: 4
A5: Ergebnisse in Tabellen
A6: 24.1 | B6: Gastgewerbe
A7: 24.1.1 | B7: Strukturdaten der Erhebungseinheiten im Gastgewerbe mit Sitz in Mecklenburg-Vorpommern 2024 | C7: =D7+554 -> 559 | D7: 5
A8: 24.1.2 | B8: Umsatzentwicklung im Zeitvergleich | C8: =D8+554 -> 559 | D8: 5
A9: 24.2 | B9: Tourismus
A10: 24.2.1 | B10: Ankünfte und Übernachtungen in Beherbergungsbetrieben im Zeitvergleich | C10: =D10+554 -> 560 | D10: 6
A11: 24.2.2 | B11: Beherbergungsbetriebe, Schlafgelegenheiten und Kapazitätsauslastung 2025 | C11: =D11+554 -> 561 | D11: 7
A12: 24.2.3 | B12: Beherbergungsbetriebe, Schlafgelegenheiten und Kapazitätsauslastung 2025 im Ländervergleich | C12: =D12+554 -> 562 | D12: 8
A13: 24.2.4 | B13: Ankünfte, Übernachtungen und durchschnittliche Aufenthaltsdauer 2025 | C13: =D13+554 -> 563 | D13: 9
A14: 24.2.5 | B14: Ankünfte und Übernachtungen in den Seebädern und Seeheilbädern 2025 | C14: =D14+554 -> 564 | D14: 10
A15: 24.2.6 | B15: Ankünfte und Übernachtungen 2025 nach dem Herkunftsgebiet der Gäste | C15: =D15+554 -> 565 | D15: 11
A16: 24.2.7 | B16: Ankünfte und Übernachtungen 2025 im Ländervergleich | C16: =D16+554 -> 566 | D16: 12
A17: Ergebnisse in Grafiken
A18: 24.1 | B18: Tourismusintensität 2025 nach Kreisen | C18: =D18+554 -> 555 | D18: 1
A19: 24.2 | B19: Im Gastgewerbe tätige Personen am 30. September 2024 | C19: =D19+554 -> 557 | D19: 3
A20: 24.3 | B20: Gästeankünfte 2025 nach Kreisen | C20: =D20+554 -> 557 | D20: 3
A21: 24.4 | B21: Übernachtungen je Einwohnerin bzw. Einwohner 2025 im Ländervergleich | C21: =D21+554 -> 557 | D21: 3
A22: 24.5 | B22: Reale konjunkturelle Entwicklung im Gastgewerbe | C22: =D22+554 -> 559 | D22: 5
A23: 24.6 | B23: Ankünfte und Übernachtungen in Beherbergungsbetrieben im Zeitvergleich | C23: =D23+554 -> 560 | D23: 6
A24: 24.7 | B24: Durchschnittliche Auslastung der angebotenen Schlafgelegenheiten Januar bis Dezember 2025 im Ländervergleich | C24: =D24+554 -> 562 | D24: 8
A25: 24.8 | B25: Durchschnittliche Aufenthaltsdauer in Beherbergungsbetrieben 2025 im Ländervergleich | C25: =D25+554 -> 566 | D25: 12
A26: Erläuterungen
A27: Fußnotenerläuterungen | C27: =D27+554 -> 567 | D27: 13
A28: Methodik | C28: =D28+554 -> 568 | D28: 14
A29: Glossar | C29: =D29+554 -> 569 | D29: 15
A30: Mehr zum Thema | C30: =D30+554 -> 571 | D30: 17

Sheet Überblick in Grafiken
A1: Link zum Inhaltsverzeichnis
A2: Überblick in Grafiken
A3: Grafik 24.2 | C3: Daten der Grafik 24.2 "Im Gastgewerbe tätige Personen am 30. September 2024"
C4: Merkmal | D4: Insgesamt = 100 %
C5: Hotels, Gasthöfe und Pensionen | D5: ='24.1.1+24.1.2'!D8*100/Tabelle_24.1.1[[#This Row],[ Tätige Personen am 30.09.]] -> 36.411416
C6: Sonstiges Beherbergungsgewerbe | D6: =('24.1.1+24.1.2'!D5-'24.1.1+24.1.2'!D9-'24.1.1+24.1.2'!D8)*100/'24.1.1+24.1.2'!D5 -> 12.401964
C7: Restaurants, Gaststätten, Imbisstuden, Cafés, Eissalons und Ähnliches | D7: ='24.1.1+24.1.2'!D11*100/'24.1.1+24.1.2'!D5 -> 37.918882
C8: Catering und Erbringung sonstiger Verpflegungsdienstleistungen | D8: ='24.1.1+24.1.2'!D12*100/'24.1.1+24.1.2'!D5 -> 9.5601866
C9: Ausschank von Getränken | D9: ='24.1.1+24.1.2'!D13*100/'24.1.1+24.1.2'!D5 -> 3.7075516
A21: Grafik 24.3 | C21: Daten der Grafik 24.3 "Gästeankünfte 2025 nach Kreisen"
C22: Kreise | D22: Ankünfte
C23: Rostock | D23: ='24.2.4'!B30 -> 908800
C24: Schwerin | D24: ='24.2.4'!B31 -> 236399
C25: Mecklenburgische Seenplatte | D25: ='24.2.4'!B32 -> 1053092
C26: Landkreis Rostock | D26: ='24.2.4'!B33 -> 1200334
C27: Vorpommern-Rügen | D27: ='24.2.4'!B34 -> 2277298
C28: Nordwestmecklenburg | D28: ='24.2.4'!B35 -> 713345
C29: Vorpommern-Greifswald | D29: ='24.2.4'!B36 -> 1438748
C30: Ludwigslust-Parchim | D30: ='24.2.4'!B37 -> 351347
C31: Mecklenburg-Vorpommern | D31: ='24.2.4'!B5 -> 8179363
A46: Grafik 24.4 | C46: Daten der Grafik 24.4 "Übernachtungen je Einwohner 2025 im Ländervergleich"
C47: Bundesland | D47: Übernachtungen je Einwohner | E47: Nachrichtlich: Bevölkerung am 31.12.2025
C48: Baden-Württemberg | D48: ='24.2.7'!E6/GrafikDaten_24.4[[#This Row],[Nachrichtlich: Bevölkerung am 31.12.2025]] -> 5.222099 | E48: 11238761
C49: Bayern | D49: ='24.2.7'!E7/GrafikDaten_24.4[[#This Row],[Nachrichtlich: Bevölkerung am 31.12.2025]] -> 7.7700765 | E49: 13245503
C50: Berlin | D50: ='24.2.7'!E8/GrafikDaten_24.4[[#This Row],[Nachrichtlich: Bevölkerung am 31.12.2025]] -> 7.9564054 | E50: 3700577
C51: Brandenburg | D51: ='24.2.7'!E9/GrafikDaten_24.4[[#This Row],[Nachrichtlich: Bevölkerung am 31.12.2025]] -> 5.6100951 | E51: 2551889
C52: Bremen | D52: ='24.2.7'!E10/GrafikDaten_24.4[[#This Row],[Nachrichtlich: Bevölkerung am 31.12.2025]] -> 4.2668793 | E52: 706915
C53: Hamburg | D53: ='24.2.7'!E11/GrafikDaten_24.4[[#This Row],[Nachrichtlich: Bevölkerung am 31.12.2025]] -> 8.8021261 | E53: 1869473
C54: Hessen | D54: ='24.2.7'!E12/GrafikDaten_24.4[[#This Row],[Nachrichtlich: Bevölkerung am 31.12.2025]] -> 5.4694787 | E54: 6278594
C55: Mecklenburg-Vorpommern | D55: ='24.2.7'!E13/GrafikDaten_24.4[[#This Row],[Nachrichtlich: Bevölkerung am 31.12.2025]] -> 21.153872 | E55: 1573685
C56: Niedersachsen | D56: ='24.2.7'!E14/GrafikDaten_24.4[[#This Row],[Nachrichtlich: Bevölkerung am 31.12.2025]] -> 5.8665244 | E56: 8000826
C57: Nordrhein-Westfalen | D57: ='24.2.7'!E15/GrafikDaten_24.4[[#This Row],[Nachrichtlich: Bevölkerung am 31.12.2025]] -> 3.0846456 | E57: 17986214
C58: Rheinland-Pfalz | D58: ='24.2.7'!E16/GrafikDaten_24.4[[#This Row],[Nachrichtlich: Bevölkerung am 31.12.2025]] -> 5.4867333 | E58: 4123022
C59: Saarland | D59: ='24.2.7'!E17/GrafikDaten_24.4[[#This Row],[Nachrichtlich: Bevölkerung am 31.12.2025]] -> 3.3241054 | E59: 1007342
... C63: Thüringen | D63: ='24.2.7'!E21/GrafikDaten_24.4[[#This Row],[Nachrichtlich: Bevölkerung am 31.12.2025]] -> 4.8351718 | E63: 2078946
C64: Deutschland | D64: ='24.2.7'!E5/GrafikDaten_24.4[[#This Row],[Nachrichtlich: Bevölkerung am 31.12.2025]] -> 5.9593677 | E64: 83467117

Sheet Überblick in Worten
A1: Link zum Inhaltsverzeichnis
A2: Überblick in Worten
A3: § | B3: Im Jahr 2024 erwirtschafteten die in Mecklenburg-Vorpommern ansässigen Erhebungseinheiten des Gastgewerbes mit rund 49.100 tätigen Personen einen Umsatz von rund 3,3 Milliarden EUR.
A4: § | B4: Darunter entfiel auf die Beherbergung mit rund 24.000 tätigen Personen ein Umsatzerlös von rund 1,9 Milliarden EUR und auf die Gastronomie mit rund 25.100 tätigen Personen ein Umsatz von rund 1,4 Milliarden EUR.
A5: § | B5: Die reale konjunkturelle Umsatzentwicklung im Gastgewerbe im Jahr 2025 zeigte im Vergleich zum Vorjahr eine negative Entwicklung. Insgesamt verringerte sich der Umsatz um 1,6 Prozent. Dabei sank der Umsatz in der Beherbergung um 0,5 Prozent und in der Gastronomie um 3,4 Prozent.
A6: § | B6: Was die Anzahl an Übernachtungen und Gästeankünften 2025 angeht, setzte der Tourismus in Mecklenburg-Vorpommern seine positive Entwicklung jedoch weiter fort. Gegenüber 2024 waren es 1,2 Prozent mehr Übernachtungen und 1,7 Pro- zent mehr Gästeankünfte. Bei den Übernachtungen (33,3 Millionen) wie bei den Gästeankünften (8,2 Millionen) wurde jeweils der zweithöchste Wert seit der Wiedervereinigung erzielt. Die Zahlen nähern sich damit weiter dem Rekordjahr 2019 mit rund 34,1 Millionen Übernachtungen und 8,4 Millionen Gästeankünften.
A7: § | B7: Bei den Gästen aus dem Ausland meldete die Tourismusbranche hingegen eine negative Entwicklung. Die rund 338.100 Gäste (-7,2 Prozent) buchten nur rund 965.300 Übernachtungen (-1,8 Prozent).
A8: § | B8: Das wichtigste ausländische Herkunftsland waren 2025 die Niederlande mit etwas über 43.600 Gästen und rund 134.600 Übernachtungen. An zweiter Stelle stand die Schweiz mit 40.100 Gästen und 135.700 Übernachtungen, gefolgt von Schweden mit 37.800 Gästen und 69.000 Übernachtungen. Aus Ländern außerhalb Europas kamen mit 11.000 Ankünften und 26.500 Übernachtungen die meisten Gäste aus den Vereinigten Staaten.
A9: § | B9: Die Monate, die mit Abstand die höchsten Übernachtungszahlen aufwiesen, waren wieder die Sommermonate Juli und August. Insgesamt wurden in diesem Zeitraum mit mehr als 11,0 Millionen Übernachtungen 33,2 Prozent aller Übernach- tungen des Jahres gebucht.
A10: § | B10: Von den insgesamt 33,3 Millionen Übernachtungen entfielen 39,4 Prozent auf die Betriebe der Hotellerie (Hotels, Gast- höfe und Pensionen), die mit rund 13,1 Millionen Übernachtungen ihr Vorjahresergebnis leicht steigern (+1,1 Prozent) konnten.
A11: § | B11: In der Rubrik Ferienunterkünfte, Campingplätze und sonstige Unterkünfte, die 60,6 Prozent aller Übernachtungen in 2025 ausmachte, gab es mit 20,2 Millionen Gästeübernachtungen einen leichten Anstieg von 1,3 Prozent zum Vorjahr. Darunter konnten die Campingplätze in Mecklenburg-Vorpommern mit 5,4 Millionen Übernachtungen ihr Vorjahresergebnis um 2,6 Prozent steigern. Die Vorsorge- und Rehabilitationskliniken haben mit 3,3 Millionen Übernachtungen ein Plus von 1,4 Prozent zum Vorjahr eingefahren.
A12: § | B12: Zu den Gemeinden mit den höchsten Übernachtungszahlen gehörten 2025 das Seeheilbad Heringsdorf (3,1 Millionen), die Hanse- und Universitätsstadt Rostock mit seinen Seebädern (2,3 Millionen), die Seebäder Kühlungsborn (2,2 Millionen) und Binz (2,1 Millionen) sowie die Seeheilbäder Zingst (1,2 Millionen), Graal-Müritz und Boltenhagen mit jeweils etwa 1 Million Übernachtungen.

Sheet 24.1.1+24.1.2
A1: Link zum Inhaltsverzeichnis
A2: 24.1 Gastgewerbe
A3: 24.1.1 Strukturdaten der Erhebungseinheiten im Gastgewerbe mit Sitz in Mecklenburg-Vorpommern 2024
A4: Nr. der Klassi- fikation | B4: Wirtschaftsgliederung | C4: Erhebungs- einheiten | D4: Tätige Personen am 30.09. | E4: Umsatz in Mill. EUR | F4: Bruttoentgelte ohne Sozial- aufwendungen des Arbeit- gebers in Mill. EUR | G4: Bruttoanlage- investitionen in Mill. EUR
A5: 55 + 56 | B5: Gastgewerbe | C5: 5615 | D5: 49089 | E5: 3346.7488 | F5: 904.61298 | G5: 185.14084
A6: 55 | B6: Beherbergung | C6: 2518 | D6: 23963 | E6: 1918.2239 | F6: 513.54706 | G6: 135.91533
B7: darunter
A8: 55.1 | B8: Hotels, Gasthöfe und Pensionen | C8: 1162 | D8: 17874 | E8: 1482.1718 | F8: 406.21524 | G8: 103.12044
A9: 56 | B9: Gastronomie | C9: 3098 | D9: 25127 | E9: 1428.5249 | F9: 391.06592 | G9: 49.225504
B10: davon
A11: 56.1 | B11: Restaurants, Gaststätten, Imbiss- stuben, Cafés, Eissalons u. Ä. | C11: 2561 | D11: 18614 | E11: 1126.5623 | F11: 296.65637 | G11: 42.434867
A12: 56.2 | B12: Catering und Erbringung sonstiger Verpflegungsdienstleistungen | C12: 276 | D12: 4693 | E12: 241.14104 | F12: 82.058834 | G12: 5.866469
A13: 56.3 | B13: Ausschank von Getränken | C13: 261 | D13: 1820 | E13: 60.821552 | F13: 12.350719 | G13: 0.924168
A16: 24.1.2 Umsatzentwicklung im Zeitvergleich
A17: Nr. der Klassi- fikation | B17: Wirtschaftsgliederung | C17: Veränderung 2023 gegenüber 2022 in jeweiligen Preisen in % | D17: Veränderung 2024 gegenüber 2023 in jeweiligen Preisen in % | E17: Veränderung 2025 gegenüber 2024 in jeweiligen Preisen in % (vorläufig) | F17: Veränderung 2023 gegenüber 2022 in Preisen des Jahres 2015 in % | G17: Veränderung 2024 gegenüber 2023 in Preisen des Jahres 2015 in % | H17: Veränderung 2025 gegenüber 2024 in Preisen des Jahres 2015 in % (vorläufig)
A18: 55 + 56 | B18: Gastgewerbe | C18: 6.9 | D18: -1 | E18: 1.4 | F18: 0.1 | G18: -4 | H18: -1.6
A19: 55 | B19: Beherbergung | C19: 6.2 | D19: -0.1 | E19: 2.2 | F19: -0.2 | G19: -2.9 | H19: -0.5
B20: darunter
A21: 55.1 | B21: Hotels, Gasthöfe und Pensionen | C21: 7 | D21: 0.8 | E21: 2.5 | F21: 1 | G21: -1.9 | H21: -0.1
A22: 56 | B22: Gastronomie | C22: 7.9 | D22: -2.3 | E22: 0.3 | F22: 0 | G22: -5.7 | H22: -3.4
B23: davon
A24: 56.1 | B24: Restaurants, Gaststätten, Imbiss- stuben, Cafés, Eissalons u. Ä. | C24: 7.5 | D24: -2.2 | E24: 0.1 | F24: 0.2 | G24: -5.6 | H24: -3.5
A25: 56.2 | B25: Catering und Erbringung sonstiger Verpflegungsdienstleistungen | C25: 10 | D25: -2.2 | E25: 1.5 | F25: -0.2 | G25: -5.9 | H25: -2.8
A26: 56.3 | B26: Ausschank von Getränken | C26: 6.5 | D26: -6 | E26: -2.5 | F26: -2.6 | G26: -4.7 | H26: -6
A28: Grafik 24.5 | J28: Daten der Grafik 24.5 "Reale konjunkturelle Entwicklung im Gastgewerbe (2015 = 100)"
J29: Monat/Jahr | K29: 2015 = 100
J30: 44562 | K30: 48
J31: 44593 | K31: 51.1
J32: 44621 | K32: 67.1
J33: 44652 | K33: 89.2
J34: 44682 | K34: 106.5
J35: 44713 | K35: 125.8
J36: 44743 | K36: 150.5
J37: 44774 | K37: 156.9
J38: 44805 | K38: 117.8
J39: 44835 | K39: 95.8
J40: 44866 | K40: 66.1
J41: 44896 | K41: 69.6
... J77: 45992 | K77: 67.5

Sheet 24.2.1
A1: Link zum Inhaltsverzeichnis
A2: 24.2 Tourismus
A3: 24.2.1 Ankünfte und Übernachtungen in Beherbergungsbetrieben im Zeitvergleich
A4: Merkmal | B4: Ankünfte | C4: Veränderung der Ankünfte zum Vorjahr in % | D4: Darunter Ankünfte der Auslands- gäste | E4: Veränderung der Ankünfte der Auslands- gäste zum Vorjahr in % | F4: Übernach- tungen | G4: Veränderung der Übernach- tungen zum Vorjahr in % | H4: Darunter Übernachtungen der Auslands- gäste | I4: Veränderung der Übernach- tungen der Aus- landsgäste zum Vorjahr in %
A5: 1992 | B5: 2729958 | C5: . | D5: 108620 | E5: . | F5: 9409912 | G5: . | H5: 243761 | I5: .
A6: 1995 | B6: 3641747 | C6: 12.4 | D6: 101595 | E6: 2.8 | F6: 13425353 | G6: 12.6 | H6: 281843 | I6: 3.6
A7: 2000 | B7: 5050502 | C7: 9.1 | D7: 186513 | E7: 15.7 | F7: 21342158 | G7: 12.6 | H7: 450691 | I7: 18.3
A8: 2005 | B8: 5848324 | C8: 2.4 | D8: 259213 | E8: 1 | F8: 24494085 | G8: 0.4 | H8: 646470 | I8: 3.4
A9: 2010 | B9: 6667279 | C9: -3.6 | D9: 305083 | E9: 6 | F9: 27669773 | G9: -2.6 | H9: 846968 | I9: 5.3
A10: 2011 | B10: 6798445 | C10: 2 | D10: 298391 | E10: -2.2 | F10: 27599018 | G10: -0.3 | H10: 794668 | I10: -6.2
A11: 2012 1) | B11: 6993178 | C11: 2.9 | D11: 335297 | E11: 12.3 | F11: 27940720 | G11: 1.3 | H11: 917525 | I11: 15.5
A12: 2013 | B12: 7081209 | C12: 1.3 | D12: 340423 | E12: 1.5 | F12: 28157746 | G12: 0.8 | H12: 945362 | I12: 3
A13: 2014 | B13: 7250770 | C13: 2.4 | D13: 369853 | E13: 8.7 | F13: 28722978 | G13: 2 | H13: 1000635 | I13: 5.8
A14: 2015 | B14: 7394706 | C14: 2 | D14: 375419 | E14: 1.5 | F14: 29468190 | G14: 2.6 | H14: 1020913 | I14: 2
A15: 2016 | B15: 7565819 | C15: 2.3 | D15: 379629 | E15: 1.1 | F15: 30292481 | G15: 2.8 | H15: 1033584 | I15: 1.2
A16: 2017 | B16: 7527619 | C16: -0.5 | D16: 382091 | E16: 0.6 | F16: 29751881 | G16: -1.8 | H16: 997626 | I16: -3.5
A17: 2018 | B17: 7874199 | C17: 4.6 | D17: 404917 | E17: 6 | F17: 30884299 | G17: 3.8 | H17: 1066952 | I17: 7
A18: 2019 | B18: 8362988 | C18: 6.2 | D18: 392783 | E18: -3 | F18: 34117199 | G18: 10.5 | H18: 1103456 | I18: 3.4
A19: 2020 | B19: 6057669 | C19: -27.565734 | D19: 166511 | E19: -57.607381 | F19: 27769644 | G19: -18.605147 | H19: 520310 | I19: -52.847236
A20: 2021 | B20: 5458357 | C20: -9.8934425 | D20: 152557 | E20: -8.3802271 | F20: 26549951 | G20: -4.3921809 | H20: 445142 | I20: -14.446772
A21: 2022 | B21: 7351473 | C21: 34.7 | D21: 284741 | E21: 86.6 | F21: 31763633 | G21: 19.6 | H21: 769263 | I21: 72.8
A22: 2023 | B22: 7672047 | C22: 4.4 | D22: 335503 | E22: 17.8 | F22: 32155709 | G22: 1.2 | H22: 908388 | I22: 18.1
A23: 2024 | B23: 8042282 | C23: 4.8257655 | D23: 364452 | E23: 8.6285369 | F23: 32896064 | G23: 2.3024061 | H23: 983403 | I23: 8.2580351
A24: 2025 | B24: 8179363 | C24: 1.7 | D24: 338083 | E24: -7.2 | F24: 33289531 | G24: 1.2 | H24: 965347 | I24: -1.8
A25: Januar | B25: 271229 | C25: 9.6 | D25: 8710 | E25: -1.5 | F25: 1029194 | G25: 7.2 | H25: 27946 | I25: 10.6
A26: Februar | B26: 342006 | C26: 1.4 | D26: 9449 | E26: -14.8 | F26: 1223960 | G26: -0.4 | H26: 29648 | I26: -5.9
A27: März | B27: 447186 | C27: -17.5 | D27: 11127 | E27: -37.3 | F27: 1555951 | G27: -19.7 | H27: 35298 | I27: -18.2
A28: April | B28: 670324 | C28: 30.9 | D28: 20351 | E28: -1 | F28: 2485371 | G28: 33.1 | H28: 54910 | I28: 9.1
A29: Mai | B29: 793636 | C29: -9.2 | D29: 30920 | E29: -18.3 | F29: 3014156 | G29: -9 | H29: 83240 | I29: -9
A30: Juni | B30: 973399 | C30: 8.6 | D30: 45101 | E30: -1.1 | F30: 3900370 | G30: 3 | H30: 122310 | I30: 2.7
A31: Juli | B31: 1113152 | C31: -0.9 | D31: 77300 | E31: -0.4 | F31: 5363766 | G31: -1.1 | H31: 225895 | I31: 7.1
A32: August | B32: 1195161 | C32: 4.2 | D32: 57525 | E32: -4.5 | F32: 5672007 | G32: 5.9 | H32: 179580 | I32: 1.2
A33: September | B33: 841061 | C33: -3.7 | D33: 32959 | E33: -12.1 | F33: 3500161 | G33: -0.7 | H33: 92254 | I33: -9.9
A34: Oktober | B34: 727431 | C34: 0.4 | D34: 18094 | E34: -12.2 | F34: 2806357 | G34: -0.9 | H34: 49555 | I34: -12.1
A35: November | B35: 386648 | C35: 3.3 | D35: 13540 | E35: 1.9 | F35: 1312625 | G35: 0.3 | H35: 33105 | I35: -12.1
A36: Dezember | B36: 418130 | C36: 7.4 | D36: 13007 | E36: -3.9 | F36: 1425613 | G36: 5.3 | H36: 31606 | I36: -16.5
A38: Grafik 24.6 | K38: Daten der Grafik 24.6 "Ankünfte und Übernachtungen in Beherbergungsbetrieben im Zeitvergleich"
K39: Jahr | L39: Ankünfte | M39: Übernachtungen
K40: 1992 | L40: 2729958 | M40: 9409912
K41: 1993 | L41: 2929266 | M41: 10335224
...

Sheet 24.2.2
A1: Link zum Inhaltsverzeichnis
A2: 24.2 Tourismus
A3: 24.2.2 Beherbergungsbetriebe, Schlafgelegenheiten und Kapazitätsauslastung 2025
A4: Merkmal | B4: Geöffnete Beherber- gungsbetriebe im Juli | C4: Veränderung der geöffneten Beherber- gungsbetriebe im Juli zum Vorjahr in % | D4: Angebotene Schlafgelegen- heiten im Juli | E4: Anteil an insgesamt im Juli in % | F4: Veränderung der angebote- nen Schlafge- legenheiten im Juli zum Vorjahr in % | G4: Durchschnittliche Auslastung der an- gebotenen Schlaf- gelegenheiten Januar bis Dezember in %
A5: Insgesamt | B5: 2743 | C5: -1.6 | D5: 319480 | E5: 100 | F5: 0.1 | G5: 32.5
A6: Betriebsarten
A7: Hotels, Gasthöfe, Pensionen | B7: 1175 | C7: -1.1 | D7: 85853 | E7: 26.872731 | F7: 0.2 | G7: 44.4
A8: Hotels (ohne Hotels garnis) | B8: 583 | C8: -0.7 | D8: 63340 | E8: 19.825967 | F8: -0.1 | G8: 46.1
A9: Hotels garnis | B9: 219 | C9: 1.9 | D9: 11330 | E9: 3.5463879 | F9: 5.8 | G9: 44.3
A10: Gasthöfe | B10: 123 | C10: -4.7 | D10: 4115 | E10: 1.2880305 | F10: -3.6 | G10: 38.6
A11: Pensionen | B11: 250 | C11: -2.7 | D11: 7068 | E11: 2.2123451 | F11: -2.9 | G11: 31.3
A12: Ferienunterkünfte, Camping und sonstige Unterkünfte | B12: 1568 | C12: -2 | D12: 233627 | E12: 73.127269 | F12: 0 | G12: 27.7
A13: Erholungs- und Ferienheime | B13: 84 | C13: 0,0 | D13: 6488 | E13: 2.0308001 | F13: -0.4 | G13: 29.6
A14: Ferienzentren | B14: 24 | C14: 0,0 | D14: 10737 | E14: 3.3607738 | F14: -3.9 | G14: 35.1
A15: Ferienhäuser und Ferienwohnungen | B15: 1129 | C15: -2.2 | D15: 90052 | E15: 28.187054 | F15: 2.5 | G15: 28
A16: Jugendherbergen und Hütten | B16: 72 | C16: -7.7 | D16: 7766 | E16: 2.4308251 | F16: -2.2 | G16: 30.2
A17: Campingplätze | B17: 209 | C17: -1.4 | D17: 107660 | E17: 33.69851 | F17: -1.6 | G17: 18.5
A18: Vorsorge- und Rehabilitationskliniken | B18: 50 | C18: 4.2 | D18: 10924 | E18: 3.4193064 | F18: 2.1 | G18: 84.6
A19: Schulungsheime | B19: - | C19: - | D19: - | E19: - | F19: - | G19: -
A20: Reisegebiete
A21: Rügen/Hiddensee | B21: 612 | C21: -2.9 | D21: 67691 | E21: 21.187868 | F21: 0 | G21: 31.7
A22: Vorpommern | B22: 892 | C22: -2 | D22: 101153 | E22: 31.661763 | F22: -0.1 | G22: 32.3
A23: darunter
A24: Fischland-Darß-Zingst (Teilregion) | B24: 211 | C24: -2.3 | D24: 31556 | E24: 9.8773006 | F24: -0.9 | G24: 30.4
A25: Usedom, Insel (Teilregion) | B25: 435 | C25: -1.8 | D25: 50835 | E25: 15.911794 | F25: 0.7 | G25: 35.8
A26: Mecklenburgische Ostseeküste | B26: 568 | C26: 0.5 | D26: 79349 | E26: 24.836922 | F26: 1 | G26: 37.7
A27: Westmecklenburg | B27: 214 | C27: -2.7 | D27: 16553 | E27: 5.181232 | F27: -6 | G27: 29.3
A28: Mecklenburgische Schweiz und Seenplatte | B28: 457 | C28: -1.3 | D28: 54734 | E28: 17.132215 | F28: 1.1 | G28: 27.1
A29: Kreisfreie Städte und Landkreise
A30: Rostock | B30: 112 | C30: 4.7 | D30: 16737 | E30: 5.2388256 | F30: 2.2 | G30: 38.5
A31: Schwerin | B31: 44 | C31: -2.2 | D31: 3037 | E31: 0.95060724 | F31: -0.4 | G31: 42.4
A32: Mecklenburgische Seenplatte | B32: 372 | C32: -1.6 | D32: 47627 | E32: 14.907662 | F32: 1.1 | G32: 26.8
A33: Landkreis Rostock | B33: 349 | C33: -0.6 | D33: 43664 | E33: 13.667209 | F33: 2.3 | G33: 38.4
A34: Vorpommern-Rügen | B34: 939 | C34: -2.3 | D34: 108402 | E34: 33.930762 | F34: -0.3 | G34: 30.9
A35: Nordwestmecklenburg | B35: 185 | C35: 0 | D35: 25855 | E35: 8.0928384 | F35: -1.7 | G35: 33.3
A36: Vorpommern-Greifswald | B36: 572 | C36: -2.4 | D36: 60642 | E36: 18.98147 | F36: 0.2 | G36: 34
A37: Ludwigslust-Parchim | B37: 170 | C37: -2.9 | D37: 13516 | E37: 4.2306248 | F37: -7.1 | G37: 26
A38: Große kreisangehörige Städte
A39: Greifswald | B39: 33 | C39: 0 | D39: 2145 | E39: 0.67140353 | F39: 1.8 | G39: 37.8
A40: Neubrandenburg | B40: 9 | C40: 0 | D40: 552 | E40: 0.17278077 | F40: 0.7 | G40: 37.9
...

Sheet 24.2.3
A1: Link zum Inhaltsverzeichnis
A2: 24.2 Tourismus
A3: 24.2.3 Beherbergungsbetriebe, Schlafgelegenheiten und Kapazitätsauslastung 2025 im Ländervergleich
A4: Land | B4: Geöffnete Beherbergungs- betriebe im Juli | C4: Veränderung der geöffneten Beherbergungs- betriebe im Juli zum Vorjahr in % | D4: Angebotene Schlafgelegenheiten im Juli | E4: Veränderung der angebotenen Schlafgelegenheiten im Juli zum Vorjahr in % | F4: Durchschnittliche Auslastung der an- gebotenen Schlaf- gelegenheiten Januar bis Dezember in %
A5: Deutschland | B5: 47398 | C5: -0.7 | D5: 3971031 | E5: 1.1 | F5: 37.8
A6: Baden-Württemberg | B6: 6070 | C6: -1.6 | D6: 447213 | E6: -0.1 | F6: 39.1
A7: Bayern | B7: 11445 | C7: -0.7 | D7: 765813 | E7: 0.5 | F7: 39.8
A8: Berlin | B8: 732 | C8: -2.3 | D8: 148281 | E8: -2.1 | F8: 54.6
A9: Brandenburg | B9: 1688 | C9: -1.7 | D9: 138810 | E9: 0.2 | F9: 32.7
A10: Bremen | B10: 129 | C10: 2.4 | D10: 19066 | E10: 4.7 | F10: 43.5
A11: Hamburg | B11: 419 | C11: 2.4 | D11: 81003 | E11: 3.2 | F11: 56
A12: Hessen | B12: 2951 | C12: -2.1 | D12: 267452 | E12: -0.1 | F12: 37.7
A13: Mecklenburg-Vorpommern | B13: 2743 | C13: -1.6 | D13: 319480 | E13: 0.1 | F13: 32.5
A14: Niedersachsen | B14: 5436 | C14: 0.4 | D14: 426101 | E14: 1 | F14: 33.8
A15: Nordrhein-Westfalen | B15: 4709 | C15: 2.2 | D15: 413804 | E15: 3.1 | F15: 38.5
A16: Rheinland-Pfalz | B16: 3059 | C16: -2.1 | D16: 222259 | E16: 0 | F16: 31.6
... A21: Thüringen | B21: 1289 | C21: 0.5 | D21: 128576 | E21: 20.2 | F21: 34.5
A23: Grafik 24.7 | H23: Daten der Grafik 24.7 "Durchschnittliche Auslastung der angebotenen Schlafgelegenheiten Januar bis Dezember 2025 im Ländervergleich"
H24: Bundesland | I24: Auslastung in %
H25: Baden-Württemberg | I25: =F6 -> 39.1
H26: Bayern | I26: =F7 -> 39.8
H27: Berlin | I27: =F8 -> 54.6
H28: Brandenburg | I28: =F9 -> 32.7
H29: Bremen | I29: =F10 -> 43.5
H30: Hamburg | I30: =F11 -> 56
H31: Hessen | I31: =F12 -> 37.7
H32: Mecklenburg-Vorpommern | I32: =F13 -> 32.5
H33: Niedersachsen | I33: =F14 -> 33.8
H34: Nordrhein-Westfalen | I34: =F15 -> 38.5
H35: Rheinland-Pfalz | I35: =F16 -> 31.6
H36: Saarland | I36: =F17 -> 36.2
... H40: Thüringen | I40: =F21 -> 34.5
H41: Deutschland | I41: =F5 -> 37.8

Sheet 24.2.4
A1: Link zum Inhaltsverzeichnis
A2: 24.2 Tourismus
A3: 24.2.4 Ankünfte, Übernachtungen und durchschnittliche Aufenthaltsdauer 2025
A4: Merkmal | B4: Ankünfte | C4: Veränderung der Ankünfte zum Vorjahr in % | D4: Übernach- tungen | E4: Anteil an Übernach- tungen insgesamt in % | F4: Veränderung der Übernach- tungen zum Vorjahr in % | G4: Durch- schnittliche Aufenthalts- dauer in Tagen
A5: Insgesamt | B5: 8179363 | C5: 1.7 | D5: 33289531 | E5: 100 | F5: 1.2 | G5: 4.1
A6: Betriebsarten
A7: Hotels, Gasthöfe, Pensionen | B7: 4548049 | C7: 1.4 | D7: 13120777 | E7: 39.414124 | F7: 1.1 | G7: 2.9
A8: Hotels (ohne Hotels garnis) | B8: 3502369 | C8: 1.5 | D8: 10243157 | E8: 30.769905 | F8: 1.7 | G8: 2.9
A9: Hotels garnis | B9: 650030 | C9: 5.1 | D9: 1653573 | E9: 4.9672463 | F9: 3.8 | G9: 2.5
A10: Gasthöfe | B10: 178758 | C10: -2.5 | D10: 503590 | E10: 1.5127579 | F10: -6.1 | G10: 2.8
A11: Pensionen | B11: 216892 | C11: -6.5 | D11: 720457 | E11: 2.1642149 | F11: -6.7 | G11: 3.3
A12: Ferienunterkünfte, Camping und sonstige Unterkünfte | B12: 3631314 | C12: 2.1 | D12: 20168754 | E12: 60.585876 | F12: 1.3 | G12: 5.6
A13: Erholungs- und Ferienheime | B13: 147474 | C13: -1.4 | D13: 618860 | E13: 1.8590229 | F13: -4.3 | G13: 4.2
A14: Ferienzentren | B14: 376479 | C14: 10.3 | D14: 1346296 | E14: 4.0442024 | F14: -0.6 | G14: 3.6
A15: Ferienhäuser und Ferienwohnungen | B15: 1502640 | C15: 5.5 | D15: 8816512 | E15: 26.484338 | F15: 4.8 | G15: 5.9
A16: Jugendherbergen und Hütten | B16: 215249 | C16: -0.8 | D16: 668718 | E16: 2.0087937 | F16: -3.1 | G16: 3.1
A17: Campingplätze | B17: 1225165 | C17: -3.1 | D17: 5389293 | E17: 16.189153 | F17: -2.6 | G17: 4.4
A18: Vorsorge- und Rehabilitationskliniken | B18: 164307 | C18: 2.8 | D18: 3329075 | E18: 10.000366 | F18: 1.4 | G18: 20.3
A19: Schulungsheime | B19: - | C19: - | D19: - | E19: - | F19: - | G19: -
A20: Reisegebiete
A21: Rügen/Hiddensee | B21: 1406126 | C21: 0.8 | D21: 6724909 | E21: 20.201273 | F21: 1.9 | G21: 4.8
A22: Vorpommern | B22: 2304659 | C22: -0.2 | D22: 10600312 | E22: 31.84278 | F22: -0.9 | G22: 4.6
A23: darunter
A24: Fischland-Darß-Zingst (Teilregion) | B24: 564719 | C24: 2.3 | D24: 3080884 | E24: 9.2548135 | F24: 0.8 | G24: 5.5
A25: Usedom, Insel (Teilregion) | B25: 1157940 | C25: -2 | D25: 5924322 | E25: 17.796352 | F25: -1.3 | G25: 5.1
A26: Mecklenburgische Ostseeküste | B26: 2602007 | C26: 5.1 | D26: 9903004 | E26: 29.748103 | F26: 2.8 | G26: 3.8
A27: Westmecklenburg | B27: 587746 | C27: 0.3 | D27: 1524123 | E27: 4.5783853 | F27: 0 | G27: 2.6
A28: Mecklenburgische Schweiz und Seenplatte | B28: 1278825 | C28: 0.3 | D28: 4537183 | E28: 13.629459 | F28: 2.2 | G28: 3.5
A29: Kreisfreie Städte und Landkreise
A30: Rostock | B30: 908800 | C30: 5.4 | D30: 2317693 | E30: 6.9622279 | F30: 3.9 | G30: 2.6
A31: Schwerin | B31: 236399 | C31: 2 | D31: 443245 | E31: 1.3314847 | F31: 3.6 | G31: 1.9
A32: Mecklenburgische Seenplatte | B32: 1053092 | C32: -0.3 | D32: 3827001 | E32: 11.49611 | F32: 2 | G32: 3.6
A33: Landkreis Rostock | B33: 1200334 | C33: 4.6 | D33: 5503245 | E33: 16.531458 | F33: 1.8 | G33: 4.6
A34: Vorpommern-Rügen | B34: 2277298 | C34: 1.7 | D34: 10608189 | E34: 31.866442 | F34: 1.5 | G34: 4.7
A35: Nordwestmecklenburg | B35: 713345 | C35: 4.8 | D35: 2779556 | E35: 8.34964 | F35: 3.9 | G35: 3.9
A36: Vorpommern-Greifswald | B36: 1438748 | C36: -2.2 | D36: 6729724 | E36: 20.215737 | F36: -1.8 | G36: 4.7
A37: Ludwigslust-Parchim | B37: 351347 | C37: -0.8 | D37: 1080878 | E37: 3.2469007 | F37: -1.4 | G37: 3.1
A38: Große kreisangehörige Städte
A39: Greifswald | B39: 98343 | C39: -4.1 | D39: 280790 | E39: 0.84347839 | F39: -9.2 | G39: 2.9
A40: Neubrandenburg | B40: 38701 | C40: 6.9 | D40: 74713 | E40: 0.22443392 | F40: 7 | G40: 1.9
...

Sheet 24.2.5
A1: Link zum Inhaltsverzeichnis
A2: 24.2 Tourismus
A3: 24.2.5 Ankünfte und Übernachtungen in den Seebädern und Seeheilbädern 2025
A4: Gemeinde | B4: Ankünfte | C4: Veränderung der Ankünfte zum Vorjahr in % | D4: Übernachtungen | E4: Veränderung der Übernachtungen zum Vorjahr in % | F4: Durchschnittliche Aufenthaltsdauer in Tagen
A5: Seeheilbäder
A6: Boltenhagen | B6: 213623 | C6: 5.8 | D6: 1000816 | E6: -1.6 | F6: 4.7
A7: Graal-Müritz | B7: 155718 | C7: -5.7 | D7: 971026 | E7: -3.4 | F7: 6.2
A8: Heiligendamm (zu Bad Doberan, Stadt) | B8: 28134 | C8: x | D8: 175951 | E8: x | F8: 6.3
A9: Heringsdorf (ehemalige Gemeinden Ahlbeck, Bansin und Heringsdorf) | B9: 596225 | C9: 1.2 | D9: 3070583 | E9: 0.6 | F9: 5.2
A10: Zingst | B10: 203960 | C10: 4.2 | D10: 1171435 | E10: -0.3 | F10: 5.7
A11: Seebäder
A12: Ahrenshoop | B12: 59978 | C12: -1.7 | D12: 286369 | E12: -2.1 | F12: 4.8
A13: Altefähr | B13: . | C13: . | D13: . | E13: . | F13: .
A14: Baabe | B14: 58862 | C14: 2.7 | D14: 376102 | E14: 12.8 | F14: 6.4
A15: Binz | B15: 439021 | C15: 5.3 | D15: 2104339 | E15: 0.9 | F15: 4.8
A16: Börgerende-Rethwisch (auch Tourismusort) | B16: 46779 | C16: 28.3 | D16: 280507 | E16: 5.3 | F16: 6
A17: Breege | B17: 90938 | C17: -0.6 | D17: 339538 | E17: 0.8 | F17: 3.7
A18: Dierhagen | B18: 91614 | C18: 3 | D18: 411356 | E18: 1.9 | F18: 4.5
A19: Glowe | B19: 25608 | C19: -12.4 | D19: 144946 | E19: -13.9 | F19: 5.7
A20: Göhren (auch Kneippkurort) | B20: 103233 | C20: 7.6 | D20: 492055 | E20: 9.9 | F20: 4.8
A21: Insel Hiddensee | B21: 41199 | C21: 10.8 | D21: 239182 | E21: 8.4 | F21: 5.8
A22: Insel Poel (auch Erholungsort) | B22: 68598 | C22: 3.5 | D22: 407966 | E22: 4 | F22: 5.9
A23: Karlshagen (auch Erholungsort) | B23: 44707 | C23: -11 | D23: 216013 | E23: 5 | F23: 4.8
A24: Koserow | B24: 62735 | C24: 3.4 | D24: 260649 | E24: 4.2 | F24: 4.2
A25: Kühlungsborn | B25: 440506 | C25: 5.6 | D25: 2165742 | E25: 1.7 | F25: 4.9
... A39: Zinnowitz | B39: 170156 | C39: -3.5 | D39: 802570 | E39: -1.3 | F39: 4.7

Sheet 24.2.6
A1: Link zum Inhaltsverzeichnis
A2: 24.2 Tourismus
A3: 24.2.6 Ankünfte und Übernachtungen 2025 nach dem Herkunftsgebiet der Gäste
A4: Herkunftsgebiet Herkunftsland (ständiger Wohnsitz) | B4: Ankünfte | C4: Veränderung der Ankünfte zum Vorjahr in % | D4: Übernachtungen | E4: Veränderung der Übernachtungen zum Vorjahr in % | F4: Durchschnittliche Aufenthaltsdauer in Tagen
A5: Insgesamt | B5: 8179363 | C5: 1.7 | D5: 33289531 | E5: 1.2 | F5: 4.1
A6: Deutschland | B6: 7841280 | C6: 2.1 | D6: 32324184 | E6: 1.3 | F6: 4.1
A7: Ausland | B7: 338083 | C7: -7.2 | D7: 965347 | E7: -1.8 | F7: 2.9
A8: Europa | B8: 310962 | C8: -3.6 | D8: 893896 | E8: 0.8 | F8: 2.9
A9: Belgien | B9: 5978 | C9: -38.4 | D9: 15136 | E9: -35 | F9: 2.5
A10: Bulgarien | B10: 922 | C10: 8.2 | D10: 4713 | E10: -58.3 | F10: 5.1
A11: Dänemark | B11: 36574 | C11: -4.6 | D11: 81774 | E11: -3.8 | F11: 2.2
A12: Estland | B12: 820 | C12: -7.9 | D12: 1527 | E12: -52.5 | F12: 1.9
A13: Finnland | B13: 3545 | C13: 1.5 | D13: 24202 | E13: 40.5 | F13: 6.8
A14: Frankreich | B14: 8228 | C14: -0.6 | D14: 17510 | E14: -5.5 | F14: 2.1
A15: Griechenland | B15: 1052 | C15: 71.3 | D15: 2210 | E15: 15 | F15: 2.1
A16: Irland | B16: 867 | C16: -2 | D16: 2136 | E16: -7.3 | F16: 2.5
... A65: Ohne Angaben | B65: 6318 | C65: -71.5 | D65: 18875 | E65: -63.4 | F65: 3

Sheet 24.2.7
A1: Link zum Inhaltsverzeichnis
A2: 24.2 Tourismus
A3: 24.2.7 Ankünfte und Übernachtungen 2025 im Ländervergleich
A4: Land | B4: Ankünfte | C4: Darunter Ankünfte von Auslandsgästen | D4: Veränderung der Ankünfte insgesamt zum Vorjahr in % | E4: Übernachtungen | F4: Darunter Übernachtungen von Auslands- gästen | G4: Veränderung der Übernachtungen insgesamt zum Vorjahr in %
A5: Deutschland | B5: 192023353 | C5: 37222581 | D5: 1.2 | E5: 497411242 | F5: 83601037 | G5: 0.3
A6: Baden-Württemberg | B6: 24125122 | C6: 5473098 | D6: 1.5 | E6: 58689923 | F6: 11752629 | G6: -0.3
A7: Bayern | B7: 40986089 | C7: 9645814 | D7: 0.9 | E7: 102918571 | F7: 20611896 | G7: 0.2
A8: Berlin | B8: 12375208 | C8: 4485959 | D8: -2.7 | E8: 29443291 | F8: 12102207 | G8: -3.8
A9: Brandenburg | B9: 5439964 | C9: 473030 | D9: 0.3 | E9: 14316340 | F9: 1118639 | G9: -0.7
A10: Bremen | B10: 1579268 | C10: 289926 | D10: 3 | E10: 3016321 | F10: 557458 | G10: 3.4
A11: Hamburg | B11: 7956859 | C11: 1590199 | D11: 5.2 | E11: 16455337 | F11: 3605249 | G11: 2.1
A12: Hessen | B12: 15546671 | C12: 3349140 | D12: -0.3 | E12: 34340636 | F12: 7087341 | G12: -1.2
A13: Mecklenburg-Vorpommern | B13: 8179363 | C13: 338083 | D13: 1.7 | E13: 33289531 | F13: 965347 | G13: 1.2
A14: Niedersachsen | B14: 15802660 | C14: 1579842 | D14: 2.6 | E14: 46937041 | F14: 3831427 | G14: 1.8
A15: Nordrhein-Westfalen | B15: 25053542 | C15: 5803312 | D15: 2.2 | E15: 55481096 | F15: 11617107 | G15: 1.7
A16: Rheinland-Pfalz | B16: 8845203 | C16: 1692738 | D16: 2 | E16: 22621922 | F16: 4706537 | G16: 1.2
... A21: Thüringen | B21: 3872822 | C21: 230039 | D21: 0.4 | E21: 10052061 | F21: 543727 | G21: -0.2
A23: Grafik 24.8 | I23: Daten der Grafik 24.8 "Durchschnittliche Aufenthaltsdauer in Beherbergungsbetrieben 2025 im Ländervergleich"
I24: Bundesland | J24: Aufenthaltsdauer in Tagen
I25: Baden-Württemberg | J25: 2.4
I26: Bayern | J26: 2.5
I27: Berlin | J27: 2.4
I28: Brandenburg | J28: 2.6
I29: Bremen | J29: 1.9
I30: Hamburg | J30: 2.1
I31: Hessen | J31: 2.2
I32: Mecklenburg-Vorpommern | J32: 4.1
I33: Niedersachsen | J33: 3
I34: Nordrhein-Westfalen | J34: 2.2
I35: Rheinland-Pfalz | J35: 2.6
I36: Saarland | J36: 2.8
... I41: Deutschland | J41: 2.6

Sheet Fußnotenerläuterungen
A1: Link zum Inhaltsverzeichnis
A2: Fußnotenerläuterungen
A3: 1) | B3: Ab 2012: Anhebung der Abschneidegrenze zur Auskunftspflicht für Betriebe auf mindestens 10 Schlafgelegenheiten (bisher 9 Schlafgelegenheiten) bzw. auf 10 Stellplätze (bisher 3 Stellplätze). Die Veränderungsraten wurden durch rückwirkende Anpassung der Vorjahresergebnisse berechnet.

Sheet Methodik
A1: Link zum Inhaltsverzeichnis
A2: Methodik
A3: Gastgewerbe: Die Gastgewerbestatistik umfasst monatliche und jährliche Stichprobenerhebungen. Die Erhebung erstreckt sich auf den Abschnitt I der nationalen Wirtschaftszweigklassifikation 2008 (WZ 2008). Er untergliedert sich in die Abteilungen 55 Beherbergung und 56 Gastronomie. Die jährliche Statistik umfasst alle Erhebungseinheiten mit Sitz in Mecklenburg-Vorpommern, die ausschließlich oder überwiegend Beherbergungs- oder Gaststättenleistungen anbieten (einschließlich Kantinen und Catering) und einen Jahresumsatz von 22.000 EUR (17.500 EUR bis 2019) und mehr ausweisen.
A4: Zum Erhebungsprogramm der Jahreserhebung im Gastgewerbe gehören u. a. die Erfassung der Anzahl der tätigen Personen, der Jahres- umsatz, die Investitionen, die Aufwendungen sowie der Wareneingang und die Warenbestände am Anfang und am Ende des Jahres. Die hochgerechneten Ergebnisse der Jahreserhebung in Tabelle 24.1.1 vermitteln Informationen über die Struktur der Unternehmen im Gast- gewerbe.
A5: Die in der Jahreserhebung erhobenen Merkmale überschneiden sich zum Teil mit den Merkmalen anderer Erhebungen, zum Beispiel der Umsatzsteuer- und Beschäftigtenstatistik. Differenzen zwischen diesen und den Statistiken des Gastgewerbes erklären sich durch unter- schiedliche methodische Konzepte.
A6: Die Monatserhebung im Gastgewerbe erfasst den monatlichen Umsatz und die Anzahl der tätigen Personen. Ziel der monatlichen Bericht- erstattung im Gastgewerbe ist die Darstellung der konjunkturellen Entwicklung. Ergebnisse dazu enthält Tabelle 24.1.2.
A7: Tourismus: Die Monatserhebung im Tourismus ist die zentrale Statistik zum Inlandstourismus in Deutschland. Es handelt sich hierbei um eine Totalerhebung mit einer sogenannten Abschneidegrenze. Es werden also nur Beherbergungsbetriebe, die eine bestimmte Mindestgröße aufweisen, erfasst.
A8: Zweck der monatlichen Erhebung im Tourismus ist zum einen die kurzfristige Information über die konjunkturelle Entwicklung im Beher- bergungsgewerbe. Darüber hinaus liefert sie aber auch Informationen über Strukturen des Inlandstourismus. Ihre Ergebnisse dienen als Grundlage für tourismuspolitische Entscheidungen, für infrastrukturelle Planungen sowie für Tourismusmarketing und Marktforschung.
A9: Ergebnisse für Mecklenburg-Vorpommern sind ab dem Jahr 1992 verfügbar. Auf der Grundlage der EU-Verordnung über die europäische Tourismusstatistik musste ab dem Berichtsjahr 2012 die Abschneidegrenze für die Auskunftspflicht von neun auf zehn Betten bzw. von drei auf zehn Stellplätze erhöht werden. Da in Mecklenburg-Vorpommern durch diese methodische Anpassung nur wenige Betriebe aus der Erhebung entlassen wurden, ist der Vergleich der Ergebnisse mit zurückliegenden Zeiträumen in der Regel ohne Einschränkungen möglich.
A10: Die Erhebung erstreckt sich auf die Gruppen 55.1 "Hotels, Gasthöfe und Pensionen", 55.2 "Ferienunterkünfte und ähnliche Beherber- gungsstätten" und 55.3 "Campingplätze" sowie auf Vorsorge- und Rehabilitationskliniken (Wirtschaftsunterklasse 86.10.3) und auf Schu- lungsheime (Wirtschaftsunterklassen 85.53 und 85.59) der nationalen Wirtschaftszweigklassifikation 2008 (WZ 2008). Erhoben wird die Anzahl der Gästeankünfte sowie der Übernachtungen, bei Gästen aus dem Ausland auch deren Herkunftsland. Außerdem erfasst die Er- hebung als Kapazitätsangaben die Anzahl der Schlafgelegenheiten, die Anzahl der Stellplätze auf Campingplätzen sowie bei Betrieben der Hotellerie (Hotels, Hotels garnis, Gasthöfe und Pensionen) jährlich auch die Anzahl der Gästezimmer zum Stand 31. Juli. Bei der Hotellerie mit 25 und mehr Gästezimmern wird zudem monatlich die Nettoauslastung der Gästezimmer ermittelt. Im Bereich des Campings wird nur das Urlaubscamping erhoben, nicht jedoch das Dauercamping.
A11: Hinweis Überprüfungen des Berichtskreises und der Erhebungsmerkmale führen ab August 2018 zu Veränderungen gegenüber entsprechenden Angaben in Vorjahreszeiträumen. Dadurch sind Vergleiche auf allen regionalen Ebenen (Land, Kreise, Reisegebiete und insbesondere Gemeinden) ab August 2018 nur bedingt möglich.
A12: Die Rechtsgrundlagen und tiefergehende methodische Erläuterungen entnehmen Sie bitte den Qualitätsberichten bzw. angegebenen Sta- tistischen Berichten (siehe "Mehr zum Thema").

Sheet Glossar
A1: Link zum Inhaltsverzeichnis
A2: Glossar
A3: Angebotene Schlafgelegenheiten beinhalten die Anzahl der Betten und sonstigen Schlafgelegenheiten, die tatsächlich angeboten wurden. Bei der Einbeziehung von Campingplätzen werden für einen angebotenen Stellplatz jeweils vier Schlafgelegenheiten gezählt.
A4: Ankünfte: Anzahl der Gäste in einem Beherbergungsbetrieb innerhalb des Berichtszeitraums, die zum vorübergehenden Aufenthalt eine Schlafgelegenheit nutzen.
A5: Beherbergungsbetriebe sind Betriebe, die dazu dienen, Gästen im privaten oder geschäftlichen Reiseverkehr eine Übernachtungsmöglich- keit bereitzustellen. Zu den Beherbergungsbetrieben zählen auch Unterkünfte, die die Gästebeherbergung nur als Nebenerwerb betreiben.
A6: Beherbergung im Reiseverkehr: Unterbringung von Personen, die sich nicht länger als ein Jahr ohne Unterbrechung an einem anderen Ort als ihrem gewöhnlichen Wohnsitz aufhalten. Der vorübergehende Ortswechsel kann durch Urlaub und Freizeitaktivitäten veranlasst sein, aber auch aufgrund geschäftlicher Kontakte, Besuch von Tagungen und Fortbildungsveranstaltungen, Maßnahmen zur Wiederherstellung der Gesundheit oder aus sonstigen Gründen.
A7: Bruttoanlageinvestitionen: Sie umfassen Bruttozugänge an aktivierten Ausrüstungen, Bauten und sonstigen Anlagen, bewertet zu An- schaffungs- bzw. Herstellungskosten ohne Abzug von Abschreibungen.
A8: Bruttoentgelte ohne Sozialaufwendungen des Arbeitgebers: Sie umfassen die an die abhängig Beschäftigten geleisteten Bruttozahlungen (Bar- und Sachbezüge) ohne jeden Abzug.
A9: Campingplätze: Abgegrenzte Gelände, die zum vorübergehenden Aufstellen von Wohnwagen, Wohnmobilen und Zelten allgemein zugäng- lich sind. In der Monatserhebung im Tourismus werden nur Campingplätze berücksichtigt, die Urlaubscamping anbieten, nicht aber soge- nannte Dauercampingplätze.
A10: Durchschnittliche Aufenthaltsdauer: Rechnerischer Wert, der das Verhältnis der Übernachtungen zur Anzahl der Ankünfte in Tagen aus- drückt. Berechnung: Übernachtungen/Ankünfte.
A11: Durchschnittliche Auslastung der Schlafgelegenheiten: Rechnerischer Wert, der die Inanspruchnahme der Schlafgelegenheiten in einem Berichtszeitraum ausdrückt. Die prozentuale Angabe wird durch Teilung der Anzahl der Übernachtungen durch die sogenannten "Betten- tage" ermittelt. "Bettentage" sind das Produkt aus angebotenen Schlafgelegenheiten und der Anzahl der Tage, an denen ein Betrieb im Be- richtszeitraum tatsächlich geöffnet hatte. Berechnung: Übernachtungen/angebotene Bettentage x 100.
A12: Erholungs- und Ferienheime sind Beherbergungsstätten, die nur bestimmten Personenkreisen, zum Beispiel Mitgliedern eines Vereins oder einer Organisation, Beschäftigten eines Unternehmens, Kindern, Müttern, Betreuten sozialer Einrichtungen, zugänglich sind. Speisen und Getränke werden nur an Hausgäste abgegeben.
... A31: Vorsorge- und Rehabilitationskliniken sind Beherbergungsstätten, die ausschließlich oder überwiegend Kurgästen zur Verfügung stehen. Das Ziel des Aufenthalts ist die Erhaltung oder Wiederherstellung der Gesundheit oder der Berufs- oder Arbeitsfähigkeit sowie die Inan- spruchnahme der allgemein angebotenen Kureinrichtungen außerhalb des Beherbergungsbetriebs. Zu den Vorsorge- und Rehabilitations- kliniken zählen auch Kinderheilstätten, Sanatorien, Kur- und ähnliche Krankenhäuser. Im Rahmen der Monatserhebung im Tourismus werden nur Übernachtungen von dort untergebrachten Personen erfasst, die in der Lage sind, das örtliche Tourismusangebot in Anspruch zu nehmen.

Sheet Mehr zum Thema
A1: Link zum Inhaltsverzeichnis
A2: Mehr zum Thema
A3: Weitere Informationen zum Thema finden Sie auf der Website des Statistischen Amtes Mecklenburg-Vorpommern
A4: > https://www.laiv-mv.de/statistik/
A5: Statistische Berichte Mecklenburg-Vorpommern
A6: > G413 | B6: Tourismus
A7: > G433 | B7: Entwicklung von Umsatz und Beschäftigung im Gastgewerbe
A8: Qualitätsberichte Statistisches Bundesamt
A9: > Gastgewerbe und Tourismus
A10: Fachliche Informationen
A11: Steffen Schubert, Telefon: 0385 588-56041, steffen.schubert@statistik-mv.de
A12: Quellenangaben
A13: Vergleichsdaten Deutschland, Bevölkerung im Ländervergleich: Statistisches Bundesamt
A14: Tabellen 24.2.3, 24.27 und Daten der Grafiken 24.7, 24.8: Statistisches Bundesamt, Statistischer Bericht "Monatserhebung im Tourismus"

Sheet  
