Workbook
Name _GrafikDaten_23.1: Titelblatt!$C$20:$E$28
Name _GrafikDaten_23.2: 'Überblick in Grafiken'!$C$3:$E$11
Name _GrafikDaten_23.3: 'Überblick in Grafiken'!$C$34:$F$40
Name _Tabelle_23.1.1: '23.1.1'!$A$3:$G$29
Name _Tabelle_23.2.1: '23.2.1'!$A$3:$G$50

Sheet Titelblatt
A1: Titelblatt des Kapitels 23 "Binnenhandel und weitere Dienstleistungen": Link zum Inhaltsverzeichnis
A2: 23 | Binnenhandel und weitere Dienstleistungen
A20: Grafik 23.1 | C20: Daten der Grafik 23.1 "Tätige Personen und Umsatz 2024 im Handel und bestimmten Dienstleistungsbereichen"
C21: Bereich | D21: Umsatz in Mill. EUR | E21: Tätige Personen
C22: Handel; Instandhaltung und Reparatur von Kraftfahrzeugen | D22: ='23.1.1'!E5 -> 17534.652 | E22: ='23.1.1'!D5 -> 67425
C23: Verkehr und Lagerei | D23: ='23.2.1'!E5 -> 5828.0985 | E23: ='23.2.1'!D5 -> 25913
C24: Information und Kommunikation | D24: ='23.2.1'!E11 -> 1190.684 | E24: ='23.2.1'!D11 -> 7870
C25: Grundstücks- und Wohnungswesen | D25: ='23.2.1'!E20 -> 2497.2633 | E25: ='23.2.1'!D20 -> 10584
C26: Erbringung von freiberuflichen, wissenschaftlichen und technischen Dienstleistungen | D26: ='23.2.1'!E22 -> 3174.4144 | E26: ='23.2.1'!D22 -> 26480
C27: Erbringung von sonstigen wirtschaftlichen Dienstleistungen | D27: ='23.2.1'!E30 -> 3207.7935 | E27: ='23.2.1'!D30 -> 45080
C28: Gesundheits- und Sozialwesen | D28: ='23.2.1'!E39 -> 6330.4099 | E28: ='23.2.1'!D39 -> 88387

Sheet Inhalt
A1: Inhaltsverzeichnis des Kapitels 23 "Binnenhandel und weitere Dienstleistungen": Die Gliederungen und Überschriften auf dieser Seite sind Links zum Inhalt.
A2: Inhaltsverzeichnis | C2: Seite
A3: Überblick | B3: Überblick in Grafiken | C3: =D3+544 -> 547 | D3: 3
B4: Überblick in Worten | C4: =D4+544 -> 548 | D4: 4
A5: Ergebnisse in Tabellen
A6: 23.1 | B6: Binnenhandel
A7: 23.1.1 | B7: Strukturdaten der Erhebungseinheiten im Handel mit Sitz in Mecklenburg-Vorpommern 2024 | C7: =D7+544 -> 549 | D7: 5
A8: 23.2 | B8: Weitere Dienstleistungen
A9: 23.2.1 | B9: Strukturdaten der Erhebungseinheiten in bestimmten Dienstleistungsbereichen mit Sitz in Mecklenburg-Vorpommern 2024 | C9: =D9+544 -> 550 | D9: 6
A10: Ergebnisse in Grafiken
A11: 23.1 | B11: Tätige Personen und Umsatz 2024 im Handel und bestimmten Dienstleistungsbereichen | C11: =D11+544 -> 545 | D11: 1
A12: 23.2 | B12: Veränderung der tätigen Personen und des Umsatzes 2024 im Handel und bestimmten Dienstleistungsbereichen gegenüber dem Vorjahr | C12: =D12+544 -> 547 | D12: 3
A13: 23.3 | B13: Struktur der Erhebungseinheiten im Binnenhandel mit Sitz in Mecklenburg-Vorpommern 2024 | C13: =D13+544 -> 547 | D13: 3
A14: Erläuterungen
A15: Methodik und Glossar | C15: =D15+544 -> 552 | D15: 8
A16: Mehr zum Thema | C16: =D16+544 -> 553 | D16: 9

Sheet Überblick in Grafiken
A1: Link zum Inhaltsverzeichnis
A2: Überblick in Grafiken
A3: Grafik 23.2 | C3: Daten der Grafik 23.2 "Veränderung der tätigen Personen und des Umsatzes 2024 im Handel und bestimmten Dienstleistungsbereichen gegenüber dem Vorjahr"
C4: Bereich | D4: Umsatz in Mill. EUR | E4: Tätige Personen | G4: Umsatz in Mill. EUR 2022 | H4: Tätige Personen 2022
C5: Handel; Instandhaltung und Reparatur von Kraftfahrzeugen | D5: =(Titelblatt!D22*100/'Überblick in Grafiken'!G5)-100 -> -4.1570057 | E5: =(Titelblatt!E22*100/'Überblick in Grafiken'!H5)-100 -> -2.142204 | G5: 18295.184 | H5: 68901
C6: Verkehr und Lagerei | D6: =(Titelblatt!D23*100/'Überblick in Grafiken'!G6)-100 -> 11.410829 | E6: =(Titelblatt!E23*100/'Überblick in Grafiken'!H6)-100 -> 1.3493429 | G6: 5231.1778 | H6: 25568
C7: Information und Kommunikation | D7: =(Titelblatt!D24*100/'Überblick in Grafiken'!G7)-100 -> 4.3448966 | E7: =(Titelblatt!E24*100/'Überblick in Grafiken'!H7)-100 -> -2.4299529 | G7: 1141.1042 | H7: 8066
C8: Grundstücks- und Wohnungswesen | D8: =(Titelblatt!D25*100/'Überblick in Grafiken'!G8)-100 -> 3.8702157 | E8: =(Titelblatt!E25*100/'Überblick in Grafiken'!H8)-100 -> -6.7242443 | G8: 2404.215 | H8: 11347
C9: Erbringung von freiberuflichen, wissenschaftlichen und technischen Dienstleistungen | D9: =(Titelblatt!D26*100/'Überblick in Grafiken'!G9)-100 -> 13.294268 | E9: =(Titelblatt!E26*100/'Überblick in Grafiken'!H9)-100 -> 8.6225285 | G9: 2801.9197 | H9: 24378
C10: Erbringung von sonstigen wirtschaftlichen Dienstleistungen | D10: =(Titelblatt!D27*100/'Überblick in Grafiken'!G10)-100 -> -4.3038847 | E10: =(Titelblatt!E27*100/'Überblick in Grafiken'!H10)-100 -> 0.87719298 | G10: 3352.0624 | H10: 44688
C11: Gesundheits- und Sozialwesen | D11: =(Titelblatt!D28*100/'Überblick in Grafiken'!G11)-100 -> 18.360444 | E11: =(Titelblatt!E28*100/'Überblick in Grafiken'!H11)-100 -> 14.344299 | G11: 5348.4168 | H11: 77299
A34: Grafik 23.3 | C34: Daten der Grafik 23.3 "Strukturdaten der Erhebungseinheiten im Binnenhandel 2024"
C35: Merkmal | D35: Handel mit Kfz | E35: Großhandel | F35: Einzelhandel
C36: Erhebungseinheiten | D36: ='23.1.1'!C6*100/'23.1.1'!C5 -> 23.7636 | E36: ='23.1.1'!C11*100/'23.1.1'!C5 -> 14.292779 | F36: ='23.1.1'!C20*100/'23.1.1'!C5 -> 61.94362
C37: Tätige Personen am 30.09. | D37: ='23.1.1'!D6*100/'23.1.1'!D5 -> 19.836856 | E37: ='23.1.1'!D11*100/'23.1.1'!D5 -> 15.334075 | F37: ='23.1.1'!D20*100/'23.1.1'!D5 -> 64.829069
C38: Umsatz | D38: ='23.1.1'!E6*100/'23.1.1'!E5 -> 18.210464 | E38: ='23.1.1'!E11*100/'23.1.1'!E5 -> 34.863767 | F38: ='23.1.1'!E20*100/'23.1.1'!E5 -> 46.92577
C39: Bruttoentgelte ohne Sozialaufwendungen | D39: ='23.1.1'!F6*100/'23.1.1'!F5 -> 21.655259 | E39: ='23.1.1'!F11*100/'23.1.1'!F5 -> 22.424195 | F39: ='23.1.1'!F20*100/'23.1.1'!F5 -> 55.920546
C40: Bruttoanlageinvestitionen | D40: ='23.1.1'!G6*100/'23.1.1'!G5 -> 22.386769 | E40: ='23.1.1'!G11*100/'23.1.1'!G5 -> 46.07088 | F40: ='23.1.1'!G20*100/'23.1.1'!G5 -> 31.542351

Sheet Überblick in Worten
A1: Link zum Inhaltsverzeichnis
A2: Überblick in Worten
A3: § | B3: Im Binnenhandel hatten 2024 rund 8.100 Erhebungseinheiten ihren Sitz in Mecklenburg-Vorpommern. Davon entfielen rund 61,9 Prozent auf den Einzelhandel, 23,8 Prozent auf den Kraftfahrzeughandel (inklusive Instandhaltung und Reparatur von Kraftfahrzeugen) und 14,3 Prozent auf den Großhandel.
A4: § | B4: Von den 67.425 tätigen Personen in diesen Erhebungseinheiten waren deutlich mehr als die Hälfte (64,8 Prozent) im Einzelhandel beschäftigt. Auf den Kraftfahrzeughandel und den Großhandel entfielen 19,8 Prozent bzw. 15,3 Prozent der Beschäftigten.
A5: § | B5: Die Erhebungseinheiten des Binnenhandels erwirtschafteten einen Umsatz von insgesamt rund 17,5 Milliarden EUR. Davon entfielen auf den Einzelhandel 8,2 Milliarden EUR, den Großhandel 6,1 Milliarden EUR und den Kraftfahrzeughandel 3,2 Milliarden EUR.
A6: § | B6: Bei den Dienstleistungen erwirtschafteten die 1.836 Erhebungseinheiten des Wirtschaftsbereiches Verkehr und Lagerei mit Sitz in Mecklenburg-Vorpommern 2024 insgesamt 5,8 Milliarden EUR und beschäftigten rund 25.900 Personen.
A7: § | B7: Im Bereich Grundstücks- und Wohnungswesen waren rund 2.700 Erhebungseinheiten tätig. Sie erwirtschafteten mit rund 10.600 tätigen Personen einen Umsatz von 2,5 Milliarden EUR.
A8: § | B8: Im Bereich Information und Kommunikation, zu dem auch Verlage, produzierende Medienunternehmen und Rundfunk- veranstalter zählen, waren rund 1.200 Erhebungseinheiten tätig. Sie erreichten mit rund 7.900 tätigen Personen einen Umsatz von 1,2 Milliarden EUR.
A9: § | B9: Im Bereich Erbringung von freiberuflichen, wissenschaftlichen und technischen Dienstleistungen wurde mit rund 26.500 tä- tigen Personen ein Umsatz in Höhe von 3,2 Milliarden EUR erwirtschaftet. Darunter entfielen 36,6 Prozent des Umsatzes auf Architektur- und Ingenieurbüros sowie Erhebungseinheiten die technische, physikalische und chemische Untersuchungen durchführen.
A10: § | B10: 4.645 Erhebungseinheiten erbrachten sonstige wirtschaftliche Dienstleistungen mit rund 45.100 tätigen Personen und einen Umsatz von 3,2 Milliarden EUR. Darunter entfielen auf den Bereich Gebäudebetreuung; Garten- und Landschafts- bau 51,6 Prozent der tätigen Personen und 37,7 Prozent des Umsatzes.
A11: § | B11: Im Bereich Gesundheits- und Sozialwesen waren rund 2.200 Erhebungseinheiten tätig. Sie erwirtschafteten mit rund 88.400 Beschäftigten einen Umsatz von 6,3 Milliarden EUR.

Sheet 23.1.1
A1: Link zum Inhaltsverzeichnis
A2: 23.1 Binnenhandel
A3: 23.1.1 Strukturdaten der Erhebungseinheiten im Handel mit Sitz in Mecklenburg-Vorpommern 2024
A4: Nr. der Klassi- fikation | B4: Wirtschaftsgliederung | C4: Erhebungs- einheiten | D4: Tätige Personen am 30.09. | E4: Umsatz in Mill. EUR | F4: Bruttoentgelte ohne Sozial- aufwendungen des Arbeit- gebers in Mill. EUR | G4: Brutto- anlage- investi- tionen in Mill. EUR
A5: G | B5: Handel; Instandhaltung und Reparatur von Kraft- fahrzeugen | C5: 8088 | D5: 67425 | E5: 17534.652 | F5: 1617.2313 | G5: 397.41583
A6: 45 | B6: Handel mit Kraftfahrzeugen; Instandhaltung und Reparatur von Kraftfahrzeugen | C6: 1922 | D6: 13375 | E6: 3193.1414 | F6: 350.21562 | G6: 88.968562
A7: 45.1 | B7: Handel mit Kraftfahrzeugen | C7: 561 | D7: 6672 | E7: 2271.8615 | F7: 205.78172 | G7: 55.531897
A8: 45.2 | B8: Instandhaltung und Reparatur von Kraftwagen | C8: 1103 | D8: 5795 | E8: 691.85668 | F8: 124.83299 | G8: 27.960848
A9: 45.3 | B9: Handel mit Kraftwagenteilen und -zubehör | C9: 179 | D9: 646 | E9: 176.218 | F9: 15.179433 | G9: 4.584179
A10: 45.4 | B10: Handel mit Krafträdern, Kraftwagenteilen und -zubehör; Instandhaltung und Reparatur von Krafträdern | C10: 78 | D10: 262 | E10: 53.205207 | F10: 4.421474 | G10: 0.891638
A11: 46 | B11: Großhandel (ohne Handel mit Kraftfahrzeugen) | C11: 1156 | D11: 10339 | E11: 6113.2401 | F11: 362.65111 | G11: 183.09297
A12: 46.1 | B12: Handelsvermittlung | C12: 401 | D12: 678 | E12: 62.568147 | F12: 13.992567 | G12: 0.486877
A13: 46.2 | B13: Großhandel mit landwirtschaftlichen Grundstoffen und lebenden Tieren | C13: 41 | D13: 212 | E13: 149.95856 | F13: 6.07911 | G13: 3.073631
A14: 46.3 | B14: Großhandel mit Nahrungs- und Genussmitteln, Getränken und Tabakwaren | C14: 87 | D14: 1847 | E14: 1485.9965 | F14: 60.07285 | G14: 19.319872
A15: 46.4 | B15: Großhandel mit Gebrauchs- und Verbrauchsgütern | C15: 88 | D15: 1786 | E15: 1857.9437 | F15: 79.993226 | G15: 94.700427
A16: 46.5 | B16: Großhandel mit Geräten der Informations- und Kommunikationstechnik | C16: 23 | D16: 219 | E16: 52.445732 | F16: 8.978562 | G16: 0.223874
A17: 46.6 | B17: Großhandel mit sonstigen Maschinen, Ausrüstungen und Zubehör | C17: 252 | D17: 2717 | E17: 956.79867 | F17: 92.200554 | G17: 40.123028
A18: 46.7 | B18: Sonstiger Großhandel | C18: 250 | D18: 2643 | E18: 1475.4813 | F18: 95.520693 | G18: 24.911647
A19: 46.9 | B19: Großhandel ohne ausgeprägten Schwerpunkt | C19: 14 | D19: 236 | E19: 72.047563 | F19: 5.813544 | G19: 0.253614
A20: 47 | B20: Einzelhandel (ohne Handel mit Kraftfahrzeugen) | C20: 5010 | D20: 43711 | E20: 8228.2704 | F20: 904.36459 | G20: 125.3543
A21: 47.1 | B21: Einzelhandel mit Waren verschiedener Art | C21: 653 | D21: 17149 | E21: 3747.2044 | F21: 394.90928 | G21: 44.504357
A22: 47.2 | B22: Einzelhandel mit Nahrungs- und Genussmitteln, Getränken und Tabakwaren | C22: 455 | D22: 3120 | E22: 374.36928 | F22: 49.813568 | G22: 7.904633
A23: 47.3 | B23: Einzelhandel mit Motorenkraftstoffen (Tankstellen) | C23: 180 | D23: 1855 | E23: 312.50753 | F23: 32.743692 | G23: 3.420486
A24: 47.4 | B24: Einzelhandel mit Geräten der Informations- und Kommunikationstechnik | C24: 233 | D24: 952 | E24: 230.35516 | F24: 28.509224 | G24: 2.108591
A25: 47.5 | B25: Einzelhandel mit sonstigen Haushaltsgeräten, Textilien, Heimwerker- und Einrichtungsbedarf | C25: 638 | D25: 3585 | E25: 553.29291 | F25: 74.425281 | G25: 12.07321
A26: 47.6 | B26: Einzelhandel mit Verlagsprodukten, Sportausrüstun- gen und Spielwaren | C26: 325 | D26: 1463 | E26: 215.76852 | F26: 26.801202 | G26: 4.469413
A27: 47.7 | B27: Einzelhandel mit sonstigen Gütern | C27: 1936 | D27: 11727 | E27: 2341.8333 | F27: 247.43139 | G27: 45.7922
A28: 47.8 | B28: Einzelhandel an Verkaufsständen und auf Märkten | C28: 97 | D28: 2393 | E28: 133.21812 | F28: 22.160999 | G28: 1.958077
A29: 47.9 | B29: Einzelhandel nicht in Verkaufsräumen, an Verkaufs- ständen oder auf Märkten | C29: 492 | D29: 1467 | E29: 319.72115 | F29: 27.569949 | G29: 3.123329

Sheet 23.2.1
A1: Link zum Inhaltsverzeichnis
A2: 23.2 Weitere Dienstleistungen
A3: 23.2.1 Strukturdaten der Erhebungseinheiten in bestimmten Dienstleistungsbereichen mit Sitz in Mecklenburg-Vorpommern 2024
A4: Nr. der Klassi- fikation | B4: Wirtschaftsgliederung | C4: Erhebungs- einheiten | D4: Tätige Personen am 30.09. | E4: Umsatz in Mill. EUR | F4: Bruttoentgelte ohne Sozial- aufwendungen des Arbeit- gebers in Mill. EUR | G4: Brutto- anlage- investi- tionen in Mill. EUR
A5: H | B5: Verkehr und Lagerei | C5: 1836 | D5: 25913 | E5: 5828.0985 | F5: 728.37152 | G5: 317.77898
A6: 49 | B6: Landverkehr und Transport in Rohrfernleitungen | C6: 1184 | D6: 12726 | E6: 1757.9849 | F6: 359.59472 | G6: 114.18613
A7: 50 | B7: Schifffahrt | C7: 85 | D7: 1721 | E7: 2948.9719 | F7: 76.282006 | G7: 103.69593
A8: 51 | B8: Luftfahrt | C8: 12 | D8: 203 | E8: 89.025566 | F8: 8.535841 | G8: 0.087603
A9: 52 | B9: Lagerei sowie Erbringung von sonstigen Dienstleistun- gen für den Verkehr | C9: 378 | D9: 6236 | E9: 881.467 | F9: 212.6216 | G9: 94.897405
A10: 53 | B10: Post-, Kurier- und Expressdienste | C10: 177 | D10: 5028 | E10: 150.64906 | F10: 71.337343 | G10: 4.911915
A11: J | B11: Information und Kommunikation | C11: 1207 | D11: 7870 | E11: 1190.684 | F11: 305.38931 | G11: 83.13509
A12: 58 | B12: Verlagswesen | C12: 56 | D12: 636 | E12: 211.09514 | F12: 32.857089 | G12: 1.435454
A13: 59 | B13: Herstellung, Verleih und Vertrieb von Filmen und TV-Programmen; Kinos; Tonstudios und Verlegen von Musik | C13: 106 | D13: 825 | E13: 54293.653 | F13: 9.222988 | G13: 3.421556
A14: 60 | B14: Rundfunkveranstalter | C14: 5 | D14: 51 | E14: 13.367056 | F14: 2.11724 | G14: 0.007703
A15: 61 | B15: Telekommunikation | C15: 43 | D15: 462 | E15: 164.86483 | F15: 17.992122 | G15: 21.91341
A16: 62 | B16: Erbringung von Dienstleistungen der Informations- technologie | C16: 907 | D16: 5727 | E16: 723.37252 | F16: 241.04176 | G16: 55.22748
A17: 63 | B17: Informationsdienstleistungen | C17: 90 | D17: 170 | E17: 23.690797 | F17: 2.158111 | G17: 1.129487
A18: K | B18: Erbringung von Finanz- und Versicherungs- dienstleistungen | C18: . | D18: . | E18: . | F18: . | G18: .
A19: 66.2 | B19: mit Versicherungsdienstleistungen und Pensions- kassen verbundene Tätigkeiten | C19: 829 | D19: 2238 | E19: 162.37222 | F19: 38.217224 | G19: 9.288424
A20: L | B20: Grundstücks- und Wohnungswesen | C20: 2730 | D20: 10584 | E20: 2497.2633 | F20: 296.89545 | G20: 1238.9632
A21: 68 | B21: Grundstücks- und Wohnungswesen | C21: 2730 | D21: 10584 | E21: 2497.2633 | F21: 296.89545 | G21: 1238.9632
A22: M | B22: Erbringung von freiberuflichen, wissenschaftlichen und technischen Dienstleistungen | C22: 6194 | D22: 26480 | E22: 3174.4144 | F22: 815.14761 | G22: 553.06888
A23: 69 | B23: Rechts- und Steuerberatung, Wirtschaftsprüfung | C23: 1456 | D23: 7375 | E23: 552.12584 | F23: 176.68494 | G23: 8.609116
A24: 70 | B24: Verwaltung und Führung von Unternehmen und Betrieben; Unternehmensberatung | C24: 1113 | D24: 4871 | E24: 960.96965 | F24: 198.51237 | G24: 422.99614
A25: 71 | B25: Architektur- und Ingenieurbüros; technische, physikalische und chemische Untersuchung | C25: 2114 | D25: 8976 | E25: 1161.2329 | F25: 307.69198 | G25: 95.874099
A26: 72 | B26: Forschung und Entwicklung | C26: 161 | D26: 1581 | E26: 160.26853 | F26: 67.898995 | G26: 14.292541
A27: 73 | B27: Werbung und Marktforschung | C27: 369 | D27: 1205 | E27: 119.0047 | F27: 21.42616 | G27: 3.198679
A28: 74 | B28: sonstige freiberufliche, wissenschaftliche und technische Tätigkeiten | C28: 777 | D28: 1506 | E28: 118.82609 | F28: 22.568509 | G28: 3.924728
A29: 75 | B29: Veterinärwesen | C29: 203 | D29: 966 | E29: 101.98674 | F29: 20.364654 | G29: 4.173571
A30: N | B30: Erbringung von sonstigen wirtschaftlichen Dienst- leistungen | C30: 4645 | D30: 45080 | E30: 3207.7935 | F30: 1007.5869 | G30: 220.48478
A31: 77 | B31: Vermietung von beweglichen Sachen | C31: 558 | D31: 2714 | E31: 580.8956 | F31: 55.965434 | G31: 133.30327
A32: 78 | B32: Vermittlung und Überlassung von Arbeitskräften | C32: 126 | D32: 2375 | E32: 141.4799 | F32: 86.050898 | G32: 0.850278
A33: 79 | B33: Reisebüros, Reiseveranstalter und Erbringung sonstiger Reservierungsdienstleistungen | C33: 257 | D33: 2530 | E33: 257.18379 | F33: 58.974307 | G33: 23.496443
A34: 80 | B34: Wach- und Sicherheitsdienste sowie Detekteien | C34: 112 | D34: 5474 | E34: 242.01678 | F34: 148.87029 | G34: 4.778643
A35: 81 | B35: Gebäudebetreuung; Garten- und Landschaftsbau | C35: 2847 | D35: 23239 | E35: 1208.1176 | F35: 432.14251 | G35: 45.905787
A36: 82 | B36: Erbringung von wirtschaftl. Dienstleistungen für Unternehmen und Privatpersonen, a. n. g. | C36: 745 | D36: 8748 | E36: 778.09986 | F36: 225.58351 | G36: 12.150367
A37: P | B37: Erziehung und Unterricht | C37: 839 | D37: 13052 | E37: 885.52637 | F37: 464.82568 | G37: 277.79763
A38: 85 | B38: Erziehung und Unterricht | C38: 839 | D38: 13052 | E38: 885.52637 | F38: 464.82568 | G38: 277.79763
A39: Q | B39: Gesundheits- und Sozialwesen | C39: 2220 | D39: 88387 | E39: 6330.4099 | F39: 3361.3506 | G39: 402.50539
A40: 86 | B40: Gesundheitswesen | C40: 1528 | D40: 46566 | E40: 3960.2945 | F40: 1982.5462 | G40: 198.97634
...

Sheet Methodik und Glossar
A1: Link zum Inhaltsverzeichnis
A2: Methodik und Glossar
A3: Binnenhandel: Die Handelsstatistik umfasst jährliche Stichprobenerhebungen über den gesamten Binnenhandel. Die Erhebungen erstrecken sich auf den Abschnitt G der nationalen Wirtschaftszweigklassifikation (WZ 2008), der alle Erhebungseinheiten umfasst, die ausschließlich oder überwiegend Handel betreiben. Er untergliedert sich in die Abteilungen 45 Kraftfahrzeughandel, 46 Groß- handel (und Handelsvermittlung) und 47 Einzelhandel. Die hochgerechneten Ergebnisse der Jahreserhebung in den Tabellen 23.1.1 vermitteln Informationen über die Struktur der Erhebungsein- heiten im Binnenhandel (Strukturerhebung). Die in der Jahreserhebung erhobenen Merkmale überschneiden sich zum Teil mit den Merkmalen anderer Erhebungen, zum Beispiel bei der Umsatzsteuer- und Beschäftigtenstatistik. Differenzen zwischen diesen und den Statistiken des Handels erklären sich durch unter- schiedliche methodische Konzepte. Rechtsgrundlagen und tiefergehende methodische Erläuterungen entnehmen Sie bitte den Qualitätsberichten bzw. angegebenen Statis- tischen Berichten (siehe "Mehr zum Thema").
A4: Dienstleistungen: Die Strukturdaten in bestimmten Dienstleistungsbereichen umfassen die Wirtschaftsabschnitte H, J, K 66.2, L, M, N, P, Q, R und S 95, sowie S 96 und werden jährlich durch eine Stichprobenerhebung ermittelt. Erhebungs- und Darstellungseinheiten der Erhebung sind Unternehmen und Einrichtungen zur Ausübung einer freiberuflichen Tätigkeit aus den oben genannten Wirtschaftsabschnitten, die einen Jahresumsatz von 22.000 EUR (17.500 EUR bis 2019) und mehr ausweisen. Die hochgerechneten Ergebnisse werden in der Tabelle 23.2.1 dargestellt.
A5: Bruttoanlageinvestitionen: Sie umfassen Bruttozugänge an aktivierten Ausrüstungen, Bauten und sonstigen Anlagen, bewertet zu An- schaffungs- bzw. Herstellungskosten ohne Abzug von Abschreibungen.
A6: Die Bruttoentgelte ohne Sozialaufwendungen des Arbeitgebers umfassen die an die abhängig Beschäftigten geleisteten Bruttozahlungen (Bar- und Sachbezüge) ohne jeden Abzug.
A7: Einzelhandel betreibt, wer Handelswaren überwiegend an private Haushalte absetzt. Hierzu zählen auch Apotheken sowie Augenoptik- und Hörgeräteakustikgeschäfte.
A8: Großhandel (ohne Kraftfahrzeughandel) betreibt, wer Handelswaren überwiegend an andere Abnehmerinnen und Abnehmer als private Haushalte absetzt, wie zum Beispiel an gewerbliche Betriebe oder Betriebe des Einzelhandels.
A9: Tätige Personen insgesamt: Gesamtzahl der Beschäftigten einschließlich tätige Inhaberinnen und Inhaber sowie unbezahlt mithelfender Familienangehörige sowie alle Personen, die ein arbeitsrechtliches Verhältnis zur Erhebungseinheit haben.
A10: Der Umsatz umfasst die von der Erhebungseinheit innerhalb des Berichtsjahres in Rechnung gestellten Beträge, die den Verkäufen von Waren und Dienstleistungen an Dritte entsprechen, einschließlich Steuern und Abgaben (ohne Umsatzsteuer).
A11: Die amtliche Statistik definiert die Erhebungseinheit als kleinste rechtlich selbstständige Einheit, die aus handels- bzw. steuerrechtlichen Gründen Bücher führt. Ferner muss die Erhebungseinheit eine jährliche Feststellung des Vermögensbestandes bzw. des Erfolgs der wirt- schaftlichen Tätigkeit vornehmen. Hierzu zählen auch Einrichtungen zur Ausübung einer freiberuflichen Tätigkeit.
A12: Abkürzungsverzeichnis a. n. g. Anderweitig nicht genannt

Sheet Mehr zum Thema
A1: Link zum Inhaltsverzeichnis
A2: Mehr zum Thema
A3: Weitere Informationen zum Thema finden Sie auf der Website des Statistischen Amtes Mecklenburg-Vorpommern
A4: > https://www.laiv-mv.de/statistik/
A5: Statistische Berichte Mecklenburg-Vorpommern
A6: > G113 | B6: Entwicklung von Umsatz und Beschäftigung im Einzelhandel
A7: > G123 | B7: Entwicklung von Umsatz und Beschäftigung im Großhandel
A8: Qualitätsberichte Statistisches Bundesamt
A9: > Binnenhandel
A10: > Dienstleistungen
A11: Fachliche Informationen
A12: Steffen Schubert, Telefon: 0385 588-56041, steffen.schubert@statistik-mv.de

Sheet  
