Workbook
Name _GrafikDaten_22.1: Titelblatt!$C$20:$E$30
Name _GrafikDaten_22.2: 'Überblick in Grafiken'!$C$3:$D$13
Name _GrafikDaten_22.3: 'Überblick in Grafiken'!$C$31:$D$41
Name _GrafikDaten_22.4: 'Überblick in Grafiken'!$C$61:$E$93
Name _GrafikDaten_22.5: 'Überblick in Grafiken'!$C$96:$D$133
Name _Grafikdaten_22.6: '22.1.1'!$J$30:$K$39
Name _GrafikDaten_22.7: '22.1.2'!$I$39:$J$46
Name _GrafikDaten_22.8: '22.2.7'!$I$41:$L$49
Name _GrafikDaten_22.9: '22.2.11+22.2.12'!$L$15:$P$25
Name _Tabelle_22.1.1: '22.1.1'!$A$3:$H$28
Name _Tabelle_22.1.2: '22.1.2'!$A$3:$G$35
Name _Tabelle_22.1.3: '22.1.3'!$A$3:$K$22
Name _Tabelle_22.2.1: '22.2.1'!$A$3:$H$54
Name _Tabelle_22.2.10: '22.2.8-22.2.10'!$A$34:$K$43
Name _Tabelle_22.2.11: '22.2.11+22.2.12'!$A$3:$J$13
Name _Tabelle_22.2.12: '22.2.11+22.2.12'!$A$40:$J$50
Name _Tabelle_22.2.2: '22.2.2'!$A$3:$J$40
Name _Tabelle_22.2.3: '22.2.3'!$A$3:$I$36
Name _Tabelle_22.2.4: '22.2.4'!$A$3:$H$44
Name _Tabelle_22.2.5: '22.2.5'!$A$3:$I$36
Name _Tabelle_22.2.6: '22.2.6'!$A$3:$H$44
Name _Tabelle_22.2.7: '22.2.7'!$A$3:$G$39
Name _Tabelle_22.2.8: '22.2.8-22.2.10'!$A$3:$J$19
Name _Tabelle_22.2.9: '22.2.8-22.2.10'!$A$22:$K$31

Sheet Titelblatt
A1: Titelblatt des Kapitels 22 "Bauen": Link zum Inhaltsverzeichnis
A2: 22 | Bauen
A20: Grafik 22.1 | C20: Daten der Grafik 22.1 "Durchschnittliche Wohnfläche je Einwohnerin bzw. Einwohner am 31. Dezember 2025 nach Kreisen"
C21: Kreise | D21: Wohnfläche in m² | E21: Nachrichtlich: Bevölkerung am 31.12.2025
C22: Rostock | D22: ='22.2.8-22.2.10'!D$42 -> 41.3 | E22: 204929
C23: Schwerin | D23: ='22.2.8-22.2.10'!E$42 -> 43.9 | E23: 97922
C24: Mecklenburgische Seenplatte | D24: ='22.2.8-22.2.10'!F$42 -> 50.9 | E24: 245998
C25: Landkreis Rostock | D25: ='22.2.8-22.2.10'!G$42 -> 50.1 | E25: 218123
C26: Vorpommern-Rügen | D26: ='22.2.8-22.2.10'!H$42 -> 51.6 | E26: 217817
C27: Nordwestmecklenburg | D27: ='22.2.8-22.2.10'!I$42 -> 49.7 | E27: 155869
C28: Vorpommern-Greifswald | D28: ='22.2.8-22.2.10'!J$42 -> 50.8 | E28: 225867
C29: Ludwigslust-Parchim | D29: ='22.2.8-22.2.10'!K$42 -> 51.7 | E29: 207160
C30: Mecklenburg-Vorpommern | D30: ='22.2.8-22.2.10'!C$42 -> 49.2 | E30: 1573685

Sheet Inhalt
A1: Inhaltsverzeichnis des Kapitels 22 "Bauen": Die Gliederungen und Überschriften auf dieser Seite sind Links zum Inhalt.
A2: Inhaltsverzeichnis | C2: Seite
A3: Überblick | B3: Überblick in Grafiken | C3: =D3+522 -> 525 | D3: 3
B4: Überblick in Worten | C4: =D4+522 -> 527 | D4: 5
A5: Ergebnisse in Tabellen
A6: 22.1 | B6: Baugewerbe
A7: 22.1.1 | B7: Bauhauptgewerbe 2025 nach Beschäftigtengrößenklassen und Wirtschaftsgliederung | C7: =D7+522 -> 528 | D7: 6
A8: 22.1.2 | B8: Ausbaugewerbe 2025 nach Beschäftigtengrößenklassen und Wirtschaftsgliederung | C8: =D8+522 -> 529 | D8: 7
A9: 22.1.3 | B9: Betriebe im Bauhaupt- und Ausbaugewerbe am 30. Juni 2025 nach Kreisen und Wirtschaftsgliederung | C9: =D9+522 -> 530 | D9: 8
A10: 22.2 | B10: Bautätigkeit und Wohnungen
A11: 22.2.1 | B11: Baugenehmigungen und Baufertigstellungen von Gebäuden und Wohnungen im Zeitvergleich | C11: =D11+522 -> 531 | D11: 9
A12: 22.2.2 | B12: Baugenehmigungen und Baufertigstellungen von Gebäuden und Wohnungen 2025 nach Kreisen | C12: =D12+522 -> 532 | D12: 10
A13: 22.2.3 | B13: Baugenehmigungen im Wohn- und Nichtwohnbau im Zeitvergleich nach Gebäudemerkmalen | C13: =D13+522 -> 533 | D13: 11
A14: 22.2.4 | B14: Baugenehmigungen für die Errichtung neuer Gebäude 2025 nach Gebäudearten und Bauherrin/Bauherren | C14: =D14+522 -> 534 | D14: 12
A15: 22.2.5 | B15: Baufertigstellungen im Wohn- und Nichtwohnbau im Zeitvergleich nach Gebäudemerkmalen | C15: =D15+522 -> 535 | D15: 13
A16: 22.2.6 | B16: Baufertigstellungen neu errichteter Gebäude 2025 nach Gebäudearten und Bauherrin/Bauherren | C16: =D16+522 -> 536 | D16: 14
A17: 22.2.7 | B17: Baufertigstellungen neu errichteter Gebäude im Wohn- und Nichtwohnbau 2025 nach Heizungsart und vorwiegend verwendeter Heizenergie | C17: =D17+522 -> 537 | D17: 15
A18: 22.2.8 | B18: Bauüberhang im Wohn- und Nichtwohnbau am 31. Dezember 2025 nach Gebäudearten | C18: =D18+522 -> 538 | D18: 16
A19: 22.2.9 | B19: Wohnungsbestand im Zeitvergleich | C19: =D19+522 -> 538 | D19: 16
A20: 22.2.10 | B20: Wohnungsbestand am 31. Dezember 2025 nach Kreisen | C20: =D20+522 -> 538 | D20: 16
A21: 22.2.11 | B21: Wohnungsbestand im Zeitvergleich nach der Anzahl der Räume | C21: =D21+522 -> 539 | D21: 17
A22: 22.2.12 | B22: Wohnungsbestand am 31. Dezember 2025 nach der Anzahl der Räume und Kreisen | C22: =D22+522 -> 539 | D22: 17
A23: Ergebnisse in Grafiken
A24: 22.1 | B24: Durchschnittliche Wohnfläche je Einwohnerin bzw. Einwohner am 31. Dezember 2025 nach Kreisen | C24: =D24+522 -> 523 | D24: 1
A25: 22.2 | B25: Tätige Personen im Bauhauptgewerbe am 30. Juni 2025 nach Kreisen | C25: =D25+522 -> 525 | D25: 3
A26: 22.3 | B26: Tätige Personen im Ausbaugewerbe am 30. Juni 2025 nach Kreisen | C26: =D26+522 -> 525 | D26: 3
A27: 22.4 | B27: Veränderung der Baugenehmigungen im Wohn- und Nichtwohnbau zum jeweiligen Vorjahr | C27: =D27+522 -> 526 | D27: 4
A28: 22.5 | B28: Durchschnittliche Wohnfläche je Einwohnerin bzw. Einwohner 2025 im Ländervergleich | C28: =D28+522 -> 526 | D28: 4
A29: 22.6 | B29: Baugewerblicher Umsatz im Bauhauptgewerbe 2024 | C29: =D29+522 -> 528 | D29: 6
A30: 22.7 | B30: Baugewerblicher Umsatz im Ausbaugewerbe 2024 | C30: =D30+522 -> 529 | D30: 7
A31: 22.8 | B31: Fertiggestellte Wohnungen im Wohn- und Nichtwohnbau im Zeitvergleich | C31: =D31+522 -> 537 | D31: 15
A32: 22.9 | B32: Wohnungsbestand im Zeitvergleich nach der Anzahl der Räume | C32: =D32+522 -> 539 | D32: 17
A33: Erläuterungen
A34: Fußnotenerläuterungen | C34: =D34+522 -> 540 | D34: 18
A35: Methodik | C35: =D35+522 -> 541 | D35: 19
A36: Glossar | C36: =D36+522 -> 542 | D36: 20
A37: Mehr zum Thema | C37: =D37+522 -> 544 | D37: 22

Sheet Überblick in Grafiken
A1: Link zum Inhaltsverzeichnis
A2: Überblick in Grafiken
A3: Grafik 22.2 | C3: Daten der Grafik 22.2 "Tätige Personen im Bauhauptgewerbe am 30.06.2024 nach Kreisen"
C4: Kreise | D4: Tätige Personen
C5: Rostock | D5: 1117
C6: Schwerin | D6: 1032
C7: Mecklenburgische Seenplatte | D7: 3932
C8: Landkreis Rostock | D8: 3366
C9: Vorpommern-Rügen | D9: 2856
C10: Nordwestmecklenburg | D10: 1966
C11: Vorpommern-Greifswald | D11: 2380
C12: Ludwigslust-Parchim | D12: 3031
C13: Mecklenburg-Vorpommern | D13: 19680
A31: Grafik 22.3 | C31: Daten der Grafik 22.3 "Tätige Personen im Ausbaugewerbe am 30.06.2024 nach Kreisen"
C32: Kreise | D32: Tätige Personen
C33: Rostock | D33: 1116
C34: Schwerin | D34: 918
C35: Mecklenburgische Seenplatte | D35: 1995
C36: Landkreis Rostock | D36: 1780
C37: Vorpommern-Rügen | D37: 1400
C38: Nordwestmecklenburg | D38: 1136
C39: Vorpommern-Greifswald | D39: 1331
C40: Ludwigslust-Parchim | D40: 1147
C41: Mecklenburg-Vorpommern | D41: 10823
A60: Überblick in Grafiken
A61: Grafik 22.4 | C61: Daten der Grafik 22.4 "Veränderung der Baugenehmigungnen im Wohn- und Nichtwohnbau zum jeweiligen Vorjahr"
C62: Jahr | D62: Wohngebäude in % | E62: Nichtwohngebäude in %
C63: 1995 | D63: 21.758787 | E63: 10.679048
C64: 1996 | D64: 28.230926 | E64: 11.326691
C65: 1997 | D65: -0.6258173 | E65: -20.489873
C66: 1998 | D66: -10.113732 | E66: -22.57109
C67: 1999 | D67: -7.2675939 | E67: -9.8699311
C68: 2000 | D68: -16.339648 | E68: -18.505942
C69: 2001 | D69: -9.4756706 | E69: -4.7916667
C70: 2002 | D70: -17.569982 | E70: -24.835886
C71: 2003 | D71: 6.8460983 | E71: -1.3100437
C72: 2004 | D72: -0.84530854 | E72: 3.0973451
C73: 2005 | D73: -23.205456 | E73: -26.895565
C74: 2006 | D74: -5.7060391 | E74: 2.9354207
... C90: 2022 | D90: 6.2145289 | E90: -3.4441805
...

Sheet Überblick in Worten
A1: Link zum Inhaltsverzeichnis
A2: Überblick in Worten
A3: § | B3: In den 2.124 Betrieben des Bauhauptgewerbes waren Ende Juni 2025 insgesamt 19.680 Personen tätig. Davon widmeten sich 411 Betriebe mit 4.367 dort tätigen Personen dem Bau von Gebäuden und 308 Betriebe mit 7.587 Mitarbeiterinnen und Mitarbeitern dem Bereich Tiefbau; sie waren also z. B. mit dem Bau von Straßen und Bahnverkehrsstrecken oder dem Leitungstiefbau befasst.
A4: § | B4: Die Betriebe des Bauhauptgewerbes erzielten im Jahr 2024 insgesamt 3,3 Milliarden EUR baugewerblichen Umsatz. Davon entfiel der höchste Umsatzanteil mit 1,5 Milliarden EUR auf den Tiefbau. Mit dem Bau von Gebäuden wurde 865 Millionen EUR Umsatz erzielt.
A5: § | B5: Im Ausbaugewerbe waren Ende Juni 2025 insgesamt 10.823 Personen tätig; die Mehrzahl (7.864 Personen) im Bereich Bauinstallation, zu dem z. B. der Bereich Gas-, Wasser, Heizungs- sowie Lüftungs- und Klimainstallation mit 4.155 Tätigen und der Bereich Elektroinstallation mit 3.260 Tätigen gehörten.
A6: § | B6: 2025 wurden 2.473 Gebäude mit 3.274 Wohnungen zum Bau genehmigt. Das ist im Vergleich zum Vorjahr eine Steigerung um 14,8 bzw. 4,6 Prozent. Die Baugenehmigungen für Wohnungen sind in Einfamilienhäusern um 37,6 Prozent und in Zweifamilienhäusern um 9,2 Prozent gestiegen. Bei den Wohnungen in Mehrfamilienhäusern gab es einen Zuwachs um 7,7 Prozent. Die Zahl der genehmigten Bauvorhaben legte damit nach zwei Jahres des Rückgangs wieder leicht zu.
A7: § | B7: 2025 wurden 1.350 neue Wohngebäude mit 3.037 Wohnungen fertiggestellt, das sind 30,9 Prozent weniger Gebäude und 24,5 Prozent weniger Wohnungen als ein Jahr zuvor. Der Rückgang der Baufertigstellungen ist mit der geringen Anzahl der Baugenehmigungen der Jahre 2023 und 2024 zu erklären. Die durchschnittliche Wohnfläche je neu errichteter Wohnung betrug im vergangenen Jahr 96,6 Quadratmeter. Dies sind rund 2,8 Quadratmeter weniger, als im Mittel der letzten 10 Jahre.
A8: § | B8: Am Jahresende 2025 standen 1.000 Einwohnerinnen und Einwohnern Mecklenburg-Vorpommerns rein rechnerisch 593 Wohnungen zur Verfügung. Dies ist ein Anstieg um 23,3 Prozent gegenüber dem Jahr 2000. Je Einwohnerin bzw. Einwohner betrug die Wohnfläche 49,2 Quadratmeter, gegenüber 2000 steht jeder Einwohnerin bzw. jedem Einwohner 14,9 Quadratmeter mehr zur Verfügung. Jede Wohnung hatte durchschnittlich 3,9 Räume (einschließlich Küche).

Sheet 22.1.1
A1: Link zum Inhaltsverzeichnis
A2: 22.1 Baugewerbe
A3: 22.1.1 Bauhauptgewerbe 1) 2025 nach Beschäftigtengrößenklassen und Wirtschaftsgliederung
A4: Nr. der Klassi- fikation | B4: Merkmal Wirtschaftsgliederung | C4: Insgesamt | D4: Betriebe mit unter 10 tätigen Personen | E4: Betriebe mit 10 - 19 tätigen Personen | F4: Betriebe mit 20 - 49 tätigen Personen | G4: Betriebe mit 50 - 99 tätigen Personen | H4: Betriebe mit 100 und mehr tätigen Personen
B5: Betriebe am 30.06. | C5: 2124 | D5: 1596 | E5: 297 | F5: 175 | G5: 40 | H5: 16
A6: 41.2 | B6: Bau von Gebäuden | C6: 411 | D6: 269 | E6: 87 | F6: 45 | G6: 9 | H6: 1
A7: 42.1 | B7: Bau von Straßen und Bahnverkehrsstrecken | C7: 107 | D7: 38 | E7: 31 | F7: 20 | G7: 11 | H7: 7
A8: 42.11 | B8: darunter: Bau von Straßen | C8: 94 | D8: 36 | E8: 29 | F8: 15 | G8: 9 | H8: 5
A9: 42.2 | B9: Leitungstiefbau und Kläranlagenbau | C9: 166 | D9: 77 | E9: 25 | F9: 43 | G9: 15 | H9: 6
A10: 42.9 | B10: sonstiger Tiefbau | C10: 35 | D10: 26 | E10: 6 | F10: 3 | G10: - | H10: -
A11: 43.1 | B11: Abbrucharbeiten und vorbereitende Baustellenarbeiten | C11: 131 | D11: 96 | E11: 23 | F11: 11 | G11: 1 | H11: -
A12: 43.9 | B12: sonstige spezialisierte Bautätigkeiten | C12: 1274 | D12: 1090 | E12: 125 | F12: 53 | G12: 4 | H12: 2
B13: Tätige Personen am 30.06. | C13: 19680 | D13: 5079 | E13: 4036 | F13: 5090 | G13: 2893 | H13: 2582
A14: 41.2 | B14: Bau von Gebäuden | C14: 4367 | D14: 1108 | E14: 1139 | F14: 1343 | G14: . | H14: .
A15: 42.1 | B15: Bau von Straßen und Bahnverkehrsstrecken | C15: 3315 | D15: 158 | E15: 477 | F15: 623 | G15: 864 | H15: 1193
A16: 42.11 | B16: darunter: Bau von Straßen | C16: 2635 | D16: 149 | E16: 446 | F16: 489 | G16: 692 | H16: 859
A17: 42.2 | B17: Leitungstiefbau und Kläranlagenbau | C17: 3992 | D17: 316 | E17: 345 | F17: 1293 | G17: 1083 | H17: 955
A18: 42.9 | B18: sonstiger Tiefbau | C18: 280 | D18: 103 | E18: 92 | F18: 85 | G18: - | H18: -
A19: 43.1 | B19: Abbrucharbeiten und vorbereitende Baustellenarbeiten | C19: 1001 | D19: 296 | E19: 314 | F19: . | G19: . | H19: -
A20: 43.9 | B20: sonstige spezialisierte Bautätigkeiten | C20: 6725 | D20: 3098 | E20: 1669 | F20: . | G20: 275 | H20: .
B21: Baugewerblicher Umsatz des Vorjahres (1.000 EUR) | C21: 3304243 | D21: 542796 | E21: 567060 | F21: 970916 | G21: 595158 | H21: 628312
A22: 41.2 | B22: Bau von Gebäuden | C22: 864771 | D22: 138814 | E22: 188402 | F22: 311934 | G22: . | H22: .
A23: 42.1 | B23: Bau von Straßen und Bahnverkehrsstrecken | C23: 796926 | D23: 21785 | E23: 63922 | F23: 172065 | G23: 199270 | H23: 339885
A24: 42.11 | B24: darunter: Bau von Straßen | C24: 588515 | D24: 20034 | E24: 59451 | F24: 132565 | G24: 142398 | H24: 234069
A25: 42.2 | B25: Leitungstiefbau und Kläranlagenbau | C25: 638628 | D25: 41328 | E25: 53183 | F25: 210549 | G25: 185776 | H25: 147792
A26: 42.9 | B26: sonstiger Tiefbau | C26: 42198 | D26: 11890 | E26: 13095 | F26: 17212 | G26: - | H26: -
A27: 43.1 | B27: Abbrucharbeiten und vorbereitende Baustellenarbeiten | C27: 161295 | D27: 35739 | E27: 47663 | F27: . | G27: . | H27: -
A28: 43.9 | B28: sonstige spezialisierte Bautätigkeiten | C28: 800424 | D28: 293240 | E28: 200795 | F28: . | G28: 46124 | H28: .
J30: Daten der Grafik 22.6 "Baugewerblicher Umsatz im Bauhauptgewerbe 2024"
J31: Merkmal | K31: Insgesamt = 100 %
A32: Grafik 22.6 | J32: Bau von Gebäuden | K32: =C22*100/C21 -> 26.171532
J33: Tiefbau | K33: =(C23+C25+C26)*100/C21 -> 44.722861
J34: Abbbrucharbeiten und vorbereitende Baustellenarbeiten | K34: =C27*100/C21 -> 4.8814509
J35: Sonstige spezialisierte Bautätigkeiten | K35: =C28*100/C21 -> 24.224126
J36: Tiefbau | K36: Tiefbau = 100 %
J37: Bau von Straßen und Bahnverkehrsstrecken | K37: =C23*100/(C23+C25+C26) -> 53.928264
J38: Leitungstiefbau und Kläranlagenbau | K38: =C25*100/(C23+C25+C26) -> 43.216182
J39: Sonstiger Tiefbau | K39: =C26*100/(C23+C25+C26) -> 2.8555536

Sheet 22.1.2
A1: Link zum Inhaltsverzeichnis
A2: 22.1 Baugewerbe
A3: 22.1.2 Ausbaugewerbe 2) 2025 nach Beschäftigtengrößenklassen und Wirtschaftsgliederung
A4: Nr. der Klassi- fikation | B4: Merkmal Wirtschaftsgliederung | C4: Insgesamt | D4: Betriebe mit bis 19 tätigen Personen | E4: Betriebe mit 20 - 49 tätigen Personen | F4: Betriebe mit 50 - 99 tätigen Personen | G4: Betriebe mit 100 und mehr tätigen Personen
B5: Betriebe am 30.06. | C5: 503 | D5: 340 | E5: 134 | F5: 20 | G5: 9
A6: 43.2 | B6: Bauinstallation | C6: 331 | D6: 207 | E6: 96 | F6: 19 | G6: 9
B7: darunter
A8: 43.21 | B8: Elektroinstallation | C8: 141 | D8: 89 | E8: 41 | F8: 8 | G8: 3
A9: 43.22 | B9: Gas-, Wasser-, Heizungs- sowie Lüftungs- und Klima- installation | C9: 164 | D9: 98 | E9: 49 | F9: 11 | G9: 6
A10: 43.3 | B10: sonstiger Ausbau | C10: 172 | D10: 133 | E10: 38 | F10: 1 | G10: -
B11: darunter
A12: 43.32 | B12: Bautischlerei und -schlosserei | C12: 36 | D12: 29 | E12: 6 | F12: 1 | G12: -
A13: 43.33 | B13: Fußboden-, Fliesen- und Plattenlegerei, Tapeziererei | C13: 30 | D13: 24 | E13: 6 | F13: - | G13: -
A14: 43.34 | B14: Malerei und Glaserei | C14: 80 | D14: 59 | E14: 21 | F14: - | G14: -
B15: Tätige Personen am 30.06. | C15: 10823 | D15: 4533 | E15: 3856 | F15: 1263 | G15: 1171
A16: 43.2 | B16: Bauinstallation | C16: 7864 | D16: 2778 | E16: . | F16: . | G16: 1171
B17: darunter
A18: 43.21 | B18: Elektroinstallation | C18: 3260 | D18: 1194 | E18: 1144 | F18: 536 | G18: 386
A19: 43.22 | B19: Gas-, Wasser-, Heizungs- sowie Lüftungs- und Klima- installation | C19: 4155 | D19: 1307 | E19: 1403 | F19: 660 | G19: 785
A20: 43.3 | B20: sonstiger Ausbau | C20: 2959 | D20: 1755 | E20: . | F20: . | G20: -
B21: darunter
A22: 43.32 | B22: Bautischlerei und -schlosserei | C22: 606 | D22: 372 | E22: . | F22: . | G22: -
A23: 43.33 | B23: Fußboden-, Fliesen- und Plattenlegerei, Tapeziererei | C23: 548 | D23: 333 | E23: 215 | F23: - | G23: -
A24: 43.34 | B24: Malerei und Glaserei | C24: 1366 | D24: 766 | E24: 600 | F24: - | G24: -
B26: Baugewerblicher Umsatz des Vorjahres (1.000 EUR) | C26: 1678691 | D26: 651670 | E26: 595096 | F26: 233794 | G26: 198132
A27: 43.2 | B27: Bauinstallation | C27: 1315669 | D27: 436870 | E27: . | F27: . | G27: 198132
B28: darunter
A29: 43.21 | B29: Elektroinstallation | C29: 501720 | D29: 162783 | E29: 171720 | F29: 122424 | G29: 44794
A30: 43.22 | B30: Gas-, Wasser-, Heizungs- sowie Lüftungs- und Klima- installation | C30: 708213 | D30: 208872 | E30: 242247 | F30: 103756 | G30: 153338
A31: 43.3 | B31: sonstiger Ausbau | C31: 363022 | D31: 214800 | E31: . | F31: . | G31: -
B32: darunter
A33: 43.32 | B33: Bautischlerei und -schlosserei | C33: 80697 | D33: 55850 | E33: . | F33: . | G33: -
A34: 43.33 | B34: Fußboden-, Fliesen- und Plattenlegerei, Tapeziererei | C34: 81786 | D34: 46822 | E34: 34964 | F34: - | G34: -
A35: 43.34 | B35: Malerei und Glaserei | C35: 127555 | D35: 69175 | E35: 58380 | F35: - | G35: -
A38: Grafik 22.7
I39: Daten der Grafik 22.7 "Baugewerblicher Umsatz im Ausbaugewerbe 2024"
I40: Merkmal | J40: Insgesamt = 100 %
I41: Elektroinstallation | J41: =C29*100/C26 -> 29.887573
I42: Gas-, Wasser-, Heizungs-, Lüftungs- und Klimainstallation | J42: =C30*100/C26 -> 42.188408
I43: Bautischlerei und -schlosserei | J43: =C33*100/C26 -> 4.8071384
...

Sheet 22.1.3
A1: Link zum Inhaltsverzeichnis
A2: 22.1 Baugewerbe
A3: 22.1.3 Betriebe im Bauhaupt- und Ausbaugewerbe 1) am 30. Juni 2025 nach Kreisen und Wirtschaftsgliederung
A4: Nr. der Klassifi- kation | B4: Wirtschaftsgliederung | C4: Mecklen- burg-Vor- pommern | D4: Kreisfreie Stadt Rostock | E4: Kreisfreie Stadt Schwerin | F4: Mecklen- burgische Seen- platte | G4: Land- kreis Rostock | H4: Vorpom- mern- Rügen | I4: Nordwest- mecklen- burg | J4: Vorpom- mern- Greifs- wald | K4: Ludwigs- lust- Parchim
B5: Betriebe im Bauhauptgewerbe | C5: 2124 | D5: 94 | E5: 84 | F5: 325 | G5: 378 | H5: 322 | I5: 245 | J5: 256 | K5: 420
A6: 41.2 | B6: Bau von Gebäuden | C6: 411 | D6: 15 | E6: 17 | F6: 66 | G6: 72 | H6: 67 | I6: 49 | J6: 56 | K6: 69
A7: 42.1 | B7: Bau von Straßen und Bahn- verkehrsstrecken | C7: 107 | D7: 5 | E7: 5 | F7: 24 | G7: 17 | H7: 8 | I7: 11 | J7: 13 | K7: 24
A8: 42.2 | B8: Leitungstiefbau und Klär- anlagenbau | C8: 166 | D8: 4 | E8: 5 | F8: 37 | G8: 33 | H8: 22 | I8: 12 | J8: 19 | K8: 34
A9: 42.9 | B9: sonstiger Tiefbau | C9: 35 | D9: 2 | E9: 2 | F9: 5 | G9: 4 | H9: 8 | I9: 6 | J9: 1 | K9: 7
A10: 43.1 | B10: Abbrucharbeiten und vorbe- reitende Baustellenarbeiten | C10: 131 | D10: 13 | E10: 8 | F10: 15 | G10: 26 | H10: 19 | I10: 18 | J10: 7 | K10: 25
A11: 43.9 | B11: sonstige spezialisierte Bautätig- keiten | C11: 1274 | D11: 55 | E11: 47 | F11: 178 | G11: 226 | H11: 198 | I11: 149 | J11: 160 | K11: 261
B13: Betriebe im Ausbaugewerbe | C13: 503 | D13: 54 | E13: 35 | F13: 84 | G13: 89 | H13: 72 | I13: 46 | J13: 65 | K13: 58
A14: 43.2 | B14: Bauinstallation | C14: 331 | D14: 35 | E14: 22 | F14: 57 | G14: 57 | H14: 48 | I14: 30 | J14: 44 | K14: 38
A15: 43.21 | B15: Elektroinstallation | C15: 141 | D15: 17 | E15: 7 | F15: 26 | G15: 18 | H15: 20 | I15: 14 | J15: 19 | K15: 20
A16: 43.22 | B16: Gas-, Wasser-, Heizungs- sowie Lüftungs- und Klimainstallation | C16: 164 | D16: 12 | E16: 12 | F16: 28 | G16: 33 | H16: 25 | I16: 13 | J16: 23 | K16: 18
A17: 43.29 | B17: sonstige Bauinstallation | C17: 26 | D17: 6 | E17: 3 | F17: 3 | G17: 6 | H17: 3 | I17: 3 | J17: 2 | K17: -
A18: 43.3 | B18: sonstiger Ausbau | C18: 172 | D18: 19 | E18: 13 | F18: 27 | G18: 32 | H18: 24 | I18: 16 | J18: 21 | K18: 20
B19: darunter
A20: 43.32 | B20: Bautischlerei und -schlosserei | C20: 36 | D20: 2 | E20: 2 | F20: 5 | G20: 9 | H20: 6 | I20: 4 | J20: 4 | K20: 4
A21: 43.33 | B21: Fußboden-, Fliesen- und Platten- legerei, Tapeziererei | C21: 30 | D21: 8 | E21: 1 | F21: 6 | G21: 4 | H21: 3 | I21: 2 | J21: 3 | K21: 3
A22: 43.34 | B22: Malerei und Glaserei | C22: 80 | D22: 6 | E22: 5 | F22: 16 | G22: 14 | H22: 11 | I22: 7 | J22: 11 | K22: 10

Sheet 22.2.1
A1: Link zum Inhaltsverzeichnis
A2: 22.2 Bautätigkeit und Wohnungen
A3: 22.2.1 Baugenehmigungen und Baufertigstellungen von Gebäuden und Wohnungen im Zeitvergleich
A4: Merkmal | B4: 2000 | C4: 2005 | D4: 2010 | E4: 2015 | F4: 2020 | G4: 2024 | H4: 2025
A5: Baugenehmigungen
A6: Gebäude | B6: 8379 | C6: 5015 | D6: 3878 | E6: 4128 | F6: 4115 | G6: 2154 | H6: 2473
A7: davon
A8: Baumaßnahmen an bestehenden Gebäuden | B8: 1779 | C8: 837 | D8: 985 | E8: 910 | F8: 728 | G8: 827 | H8: 824
A9: Neubau | B9: 6600 | C9: 4178 | D9: 2893 | E9: 3218 | F9: 3387 | G9: 1327 | H9: 1649
A10: davon
A11: Nichtwohngebäude | B11: 632 | C11: 349 | D11: 479 | E11: 594 | F11: 471 | G11: 425 | H11: 466
A12: Wohngebäude | B12: 5968 | C12: 3829 | D12: 2414 | E12: 2624 | F12: 2916 | G12: 902 | H12: 1183
A13: davon
A14: Einfamilienhäuser | B14: 5130 | C14: 3279 | D14: 2046 | E14: 2213 | F14: 2477 | G14: 689 | H14: 948
A15: Zweifamilienhäuser | B15: 412 | C15: 266 | D15: 169 | E15: 144 | F15: 157 | G15: 76 | H15: 83
A16: Mehrfamilienhäuser | B16: 423 | C16: 280 | D16: 199 | E16: 265 | F16: 279 | G16: 132 | H16: 149
A17: Wohnheime | B17: 3 | C17: 4 | D17: - | E17: 2 | F17: 3 | G17: 5 | H17: 3
A18: Wohnungen | B18: 10777 | C18: 6709 | D18: 4678 | E18: 6262 | F18: 6720 | G18: 3129 | H18: 3274
A19: davon
A20: Baumaßnahmen an bestehenden Gebäuden | B20: 1163 | C20: 431 | D20: 461 | E20: 629 | F20: 579 | G20: 392 | H20: 371
A21: Neubau | B21: 9614 | C21: 6278 | D21: 4217 | E21: 5633 | F21: 6141 | G21: 2737 | H21: 2903
A22: davon
A23: Nichtwohngebäude | B23: 236 | C23: 38 | D23: 35 | E23: 115 | F23: 83 | G23: 119 | H23: 28
A24: Wohngebäude | B24: 9378 | C24: 6240 | D24: 4182 | E24: 5518 | F24: 6058 | G24: 2618 | H24: 2875
A25: davon
A26: Einfamilienhäuser | B26: 5130 | C26: 3279 | D26: 2046 | E26: 2213 | F26: 2477 | G26: 689 | H26: 948
A27: Zweifamilienhäuser | B27: 824 | C27: 532 | D27: 338 | E27: 288 | F27: 314 | G27: 152 | H27: 166
A28: Mehrfamilienhäuser | B28: 3391 | C28: 2429 | D28: 1798 | E28: 2872 | F28: 3228 | G28: 1578 | H28: 1700
A29: Wohnheime | B29: 33 | C29: - | D29: - | E29: 145 | F29: 39 | G29: 199 | H29: 61
A30: Baufertigstellungen
A31: Gebäude | B31: 8880 | C31: 5238 | D31: 3263 | E31: 3804 | F31: 4633 | G31: 3334 | H31: 2458
A32: davon
A33: Baumaßnahmen an bestehenden Gebäuden | B33: 1910 | C33: 962 | D33: 832 | E33: 897 | F33: 669 | G33: 836 | H33: 707
A34: Neubau | B34: 6970 | C34: 4276 | D34: 2431 | E34: 2907 | F34: 3964 | G34: 2498 | H34: 1751
A35: davon
A36: Nichtwohngebäude | B36: 726 | C36: 418 | D36: 371 | E36: 535 | F36: 515 | G36: 544 | H36: 401
A37: Wohngebäude | B37: 6244 | C37: 3858 | D37: 2060 | E37: 2372 | F37: 3449 | G37: 1954 | H37: 1350
A38: davon
A39: Einfamilienhäuser | B39: 5345 | C39: 3371 | D39: 1775 | E39: 2035 | F39: 2903 | G39: 1660 | H39: 1122
A40: Zweifamilienhäuser | B40: 452 | C40: 285 | D40: 146 | E40: 134 | F40: 219 | G40: 120 | H40: 100
...

Sheet 22.2.2
A1: Link zum Inhaltsverzeichnis
A2: 22.2 Bautätigkeit und Wohnungen
A3: 22.2.2 Baugenehmigungen und Baufertigstellungen von Gebäuden und Wohnungen 2025 nach Kreisen
A4: Merkmal | B4: Mecklen- burg-Vor- pommern | C4: Kreisfreie Stadt Rostock | D4: Kreisfreie Stadt Schwerin | E4: Mecklen- burgische Seenplatte | F4: Landkreis Rostock | G4: Vorpom- mern- Rügen | H4: Nordwest- mecklen- burg | I4: Vorpom- mern- Greifswald | J4: Ludwigs- lust- Parchim
A5: Baugenehmigungen
A6: Gebäude | B6: 2473 | C6: 192 | D6: 67 | E6: 357 | F6: 543 | G6: 467 | H6: 357 | I6: 230 | J6: 260
A7: davon
A8: Baumaßnahmen an bestehenden Gebäuden | B8: 824 | C8: 70 | D8: 34 | E8: 122 | F8: 182 | G8: 139 | H8: 106 | I8: 70 | J8: 101
A9: Neubau | B9: 1649 | C9: 122 | D9: 33 | E9: 235 | F9: 361 | G9: 328 | H9: 251 | I9: 160 | J9: 159
A10: davon
A11: Nichtwohngebäude | B11: 466 | C11: 37 | D11: 10 | E11: 89 | F11: 93 | G11: 103 | H11: 61 | I11: 42 | J11: 31
A12: Wohngebäude | B12: 1183 | C12: 85 | D12: 23 | E12: 146 | F12: 268 | G12: 225 | H12: 190 | I12: 118 | J12: 128
A13: darunter
A14: mit 1 und 2 Wohnungen | B14: 1031 | C14: 65 | D14: 14 | E14: 131 | F14: 231 | G14: 189 | H14: 174 | I14: 108 | J14: 119
A15: Wohnungen | B15: 3274 | C15: 371 | D15: 371 | E15: 321 | F15: 695 | G15: 640 | H15: 405 | I15: 239 | J15: 232
A16: darunter
A17: Neubau | B17: 2903 | C17: 387 | D17: 303 | E17: 268 | F17: 596 | G17: 626 | H17: 342 | I17: 197 | J17: 184
A18: davon
A19: Nichtwohngebäude | B19: 28 | C19: 5 | D19: - | E19: 4 | F19: 6 | G19: 8 | H19: 4 | I19: 1 | J19: -
A20: Wohngebäude | B20: 2875 | C20: 382 | D20: 303 | E20: 264 | F20: 590 | G20: 618 | H20: 338 | I20: 196 | J20: 184
A21: darunter
A22: mit 1 und 2 Wohnungen | B22: 1114 | C22: 68 | D22: 14 | E22: 145 | F22: 246 | G22: 211 | H22: 188 | I22: 118 | J22: 124
A23: Baufertigstellungen
A24: Gebäude | B24: 2458 | C24: 136 | D24: 94 | E24: 398 | F24: 591 | G24: 354 | H24: 329 | I24: 274 | J24: 282
A25: davon
A26: Baumaßnahmen an bestehenden Gebäuden | B26: 707 | C26: 38 | D26: 40 | E26: 145 | F26: 146 | G26: 109 | H26: 90 | I26: 50 | J26: 89
A27: Neubau | B27: 1751 | C27: 98 | D27: 54 | E27: 253 | F27: 445 | G27: 245 | H27: 239 | I27: 224 | J27: 193
A28: davon
A29: Nichtwohngebäude | B29: 401 | C29: 22 | D29: 12 | E29: 75 | F29: 94 | G29: 58 | H29: 59 | I29: 37 | J29: 44
A30: Wohngebäude | B30: 1350 | C30: 76 | D30: 42 | E30: 178 | F30: 351 | G30: 187 | H30: 180 | I30: 187 | J30: 149
A31: darunter
A32: mit 1 und 2 Wohnungen | B32: 1222 | C32: 58 | D32: 38 | E32: 168 | F32: 332 | G32: 160 | H32: 172 | I32: 157 | J32: 137
A33: Wohnungen | B33: 3271 | C33: 365 | D33: 196 | E33: 349 | F33: 637 | G33: 395 | H33: 305 | I33: 742 | J33: 282
A34: darunter
A35: Neubau | B35: 3064 | C35: 356 | D35: 117 | E35: 305 | F35: 588 | G35: 370 | H35: 254 | I35: 818 | J35: 256
A36: davon
A37: Nichtwohngebäude | B37: 27 | C37: 2 | D37: - | E37: 4 | F37: 8 | G37: 8 | H37: 3 | I37: 1 | J37: 1
A38: Wohngebäude | B38: 3037 | C38: 354 | D38: 117 | E38: 301 | F38: 580 | G38: 362 | H38: 251 | I38: 817 | J38: 255
A39: darunter
A40: mit 1 und 2 Wohnungen | B40: 1322 | C40: 65 | D40: 38 | E40: 179 | F40: 353 | G40: 176 | H40: 193 | I40: 176 | J40: 142

Sheet 22.2.3
A1: Link zum Inhaltsverzeichnis
A2: 22.2 Bautätigkeit und Wohnungen
A3: 22.2.3 Baugenehmigungen im Wohn- und Nichtwohnbau im Zeitvergleich nach Gebäudemerkmalen
A4: Merkmal | B4: Einheit | C4: 2000 | D4: 2005 | E4: 2010 | F4: 2015 | G4: 2020 | H4: 2024 | I4: 2025
A5: Wohnbau insgesamt
A6: Gebäude | B6: Anzahl | C6: 7419 | D6: 4504 | E6: 3189 | F6: 3346 | G6: 3454 | H6: 1482 | I6: 1751
A7: Rauminhalt | B7: 1.000 m³ | C7: . | D7: . | E7: . | F7: . | G7: . | H7: . | I7: .
A8: Nutzfläche | B8: 100 m² | C8: 825.5 | D8: 538.2 | E8: 360 | F8: 610.9 | G8: 679 | H8: 149 | I8: 180
A9: Wohnungen | B9: Anzahl | C9: 10583 | D9: 6642 | E9: 4618 | F9: 6123 | G9: 6644 | H9: 3020 | I9: 3421
A10: Wohnfläche | B10: 100 m² | C10: 9955.1 | D10: 6277.3 | E10: 4417.3 | F10: 5991.8 | G10: 6549 | H10: 2870 | I10: 3213
A11: Wohnräume (einschließlich Küchen) | B11: Anzahl | C11: 45427 | D11: 27440 | E11: 18821 | F11: 23186 | G11: 24681 | H11: 10660 | I11: 12148
A12: veranschlagte Kosten der Bau- werke | B12: 1.000 EUR | C12: 1137495 | D12: 659191 | E12: 530147 | F12: 826358 | G12: 1195310 | H12: 712632 | I12: 712916
A13: Errichtung neuer Gebäude
A14: Gebäude | B14: Anzahl | C14: 5968 | D14: 3829 | E14: 2414 | F14: 2624 | G14: 2916 | H14: 902 | I14: 1183
A15: Rauminhalt | B15: 1.000 m³ | C15: 4027 | D15: 2592 | E15: 1898 | F15: 2693 | G15: 3025 | H15: 1231 | I15: 1398
A16: Nutzfläche | B16: 100 m² | C16: 1528.2 | D16: 938.8 | E16: 725.1 | F16: 940 | G16: 1050 | H16: 508 | I16: 498
A17: Wohnungen | B17: Anzahl | C17: 9378 | D17: 6240 | E17: 4182 | F17: 5518 | G17: 6058 | H17: 2618 | I17: 2875
A18: Wohnfläche | B18: 100 m² | C18: 8674.7 | D18: 5765.3 | E18: 3892.7 | F18: 5364.7 | G18: 5938 | H18: 2331 | I18: 2704
A19: Wohnräume (einschließlich Küchen) | B19: Anzahl | C19: 40812 | D19: 26013 | E19: 17152 | F19: 21226 | G19: 22533 | H19: 8910 | I19: 10345
A20: veranschlagte Kosten der Bau- werke | B20: 1.000 EUR | C20: 909033 | D20: 565668 | E20: 422734 | F20: 725651 | G20: 1081833 | H20: 544246 | I20: 577034
A21: Nichtwohnbau insgesamt
A22: Gebäude | B22: Anzahl | C22: 960 | D22: 511 | E22: 689 | F22: 782 | G22: 661 | H22: 672 | I22: 722
A23: Rauminhalt | B23: 1.000 m³ | C23: . | D23: . | E23: . | F23: . | G23: . | H23: . | I23: .
A24: Nutzfläche | B24: 100 m² | C24: 5090.4 | D24: 3326.6 | E24: 4652.2 | F24: 3840.1 | G24: 5741 | H24: 3493 | I24: 3805
A25: Wohnungen | B25: Anzahl | C25: 194 | D25: 67 | E25: 60 | F25: 139 | G25: 76 | H25: 109 | I25: -147
A26: Wohnfläche | B26: 100 m² | C26: 143.8 | D26: 45.4 | E26: 48.6 | F26: 80.4 | G26: 38 | H26: 35 | I26: -116
A27: Wohnräume (einschließlich Küchen) | B27: Anzahl | C27: 614 | D27: 245 | E27: 220 | F27: 333 | G27: 192 | H27: 123 | I27: -523
A28: veranschlagte Kosten der Bau- werke | B28: 1.000 EUR | C28: 594439 | D28: 334019 | E28: 377313 | F28: 392399 | G28: 703630 | H28: 746088 | I28: 772372
A29: Errichtung neuer Gebäude
A30: Gebäude | B30: Anzahl | C30: 632 | D30: 349 | E30: 479 | F30: 594 | G30: 471 | H30: 425 | I30: 466
A31: Rauminhalt | B31: 1.000 m³ | C31: 2469 | D31: 1894 | E31: 2739 | F31: 2566 | G31: 3824 | H31: 2172 | I31: 2120
A32: Nutzfläche | B32: 100 m² | C32: 4489.2 | D32: 3106.3 | E32: 4146 | F32: 3588.3 | G32: 5471 | H32: 3245 | I32: 3295
A33: Wohnungen | B33: Anzahl | C33: 236 | D33: 38 | E33: 35 | F33: 115 | G33: 83 | H33: 119 | I33: 28
A34: Wohnfläche | B34: 100 m² | C34: 137.4 | D34: 24.4 | E34: 29.8 | F34: 63.2 | G34: 49 | H34: 45 | I34: 22
A35: Wohnräume (einschließlich Küchen) | B35: Anzahl | C35: 690 | D35: 167 | E35: 113 | F35: 292 | G35: 186 | H35: 174 | I35: 70
A36: veranschlagte Kosten der Bau- werke | B36: 1.000 EUR | C36: 487824 | D36: 287453 | E36: 305205 | F36: 319657 | G36: 582820 | H36: 592281 | I36: 600004

Sheet 22.2.4
A1: Link zum Inhaltsverzeichnis
A2: 22.2 Bautätigkeit und Wohnungen
A3: 22.2.4 Baugenehmigungen für die Errichtung neuer Gebäude 2025 nach Gebäudearten und Bauherrin/Bauherren
A4: Merkmal | B4: Gebäude | C4: Rauminhalt in 1.000 m³ | D4: Nutzfläche in 100 m² | E4: Wohnungen | F4: Wohnfläche in 100 m² | G4: Wohnräume | H4: Veranschlagte Kosten der Bauwerke in 1.000 EUR
A5: Wohnbau insgesamt | B5: 1183 | C5: 1398 | D5: 498 | E5: 2875 | F5: 2704.3 | G5: 10345 | H5: 577034
A6: darunter
A7: mit Eigentumswohnungen | B7: 33 | C7: 108 | D7: 45 | E7: 283 | F7: 227.6 | G7: 835 | H7: 42469
A8: Gebäudearten
A9: mit 1 Wohnung | B9: 948 | C9: 638 | D9: 177 | E9: 948 | F9: 1237.4 | G9: 4663 | H9: 267700
A10: mit 2 Wohnungen | B10: 83 | C10: 79 | D10: 13 | E10: 166 | F10: 163 | G10: 676 | H10: 30855
A11: mit 3 und mehr Wohnungen | B11: 149 | C11: 665 | D11: 302 | E11: 1700 | F11: 1282.8 | G11: 4927 | H11: 270651
A12: Wohnheime | B12: 3 | C12: 16 | D12: 6 | E12: 61 | F12: 21.1 | G12: 79 | H12: 7828
A13: Bauherrin/Bauherren
A14: öffentliche Bauherrin/Bauherren | B14: 11 | C14: 27 | D14: 11 | E14: 62 | F14: 53.2 | G14: 226 | H14: 13555
A15: Unternehmen | B15: 173 | C15: 593 | D15: 265 | E15: 1522 | F15: 1132.1 | G15: 4348 | H15: 241814
A16: Wohnungsunternehmen | B16: 119 | C16: 487 | D16: 227 | E16: 1225 | F16: 914.7 | G16: 3500 | H16: 195290
A17: Immobilienfonds | B17: 5 | C17: 11 | D17: 4 | E17: 34 | F17: 21.8 | G17: 72 | H17: 5995
A18: Land- und Forstwirtschaft, Tierhaltung, Fischerei | B18: 7 | C18: 10 | D18: 1 | E18: 12 | F18: 17.8 | G18: 50 | H18: 3088
A19: Produzierendes Gewerbe | B19: 16 | C19: 13 | D19: 5 | E19: 26 | F19: 27.9 | G19: 94 | H19: 6091
A20: Handel, Kreditinstitute, Versicherungs- gewerbe, Dienstleistungen, Verkehr, Nachrichtenübermittlung | B20: 26 | C20: 72 | D20: 27 | E20: 225 | F20: 149.9 | G20: 632 | H20: 31350
A21: private Haushalte | B21: 996 | C21: 773 | D21: 221 | E21: 1273 | F21: 1508.8 | G21: 5737 | H21: 319006
A22: Organisationen ohne Erwerbszweck | B22: 3 | C22: 5 | D22: 2 | E22: 18 | F22: 10.1 | G22: 34 | H22: 2659
A23: Nichtwohnbau insgesamt | B23: 466 | C23: 2120 | D23: 3295 | E23: 28 | F23: 21.8 | G23: 70 | H23: 600004
A24: Gebäudearten
A25: Anstaltsgebäude | B25: 61 | C25: 75 | D25: 167 | E25: 6 | F25: 3.2 | G25: 10 | H25: 31484
A26: Büro- und Verwaltungsgebäude | B26: 41 | C26: 221 | D26: 408 | E26: 14 | F26: 9.6 | G26: 34 | H26: 109247
A27: landwirtschaftliche Betriebsgebäude | B27: 55 | C27: 302 | D27: 373 | E27: - | F27: - | G27: - | H27: 27126
A28: nichtlandwirtschaftliche Betriebsgebäude | B28: 238 | C28: 1215 | D28: 1833 | E28: 4 | F28: 5.1 | G28: 13 | H28: 251276
A29: darunter
A30: Fabrik- und Werkstattgebäude | B30: 61 | C30: 263 | D30: 352 | E30: 2 | F30: 2.9 | G30: 6 | H30: 67714
A31: Handelsgebäude | B31: 25 | C31: 198 | D31: 263 | E31: 1 | F31: 1 | G31: 4 | H31: 36980
A32: Warenlagergebäude | B32: 48 | C32: 497 | D32: 575 | E32: 1 | F32: 1.2 | G32: 3 | H32: 65811
A33: Hotels und Gaststätten | B33: 21 | C33: 49 | D33: 96 | E33: - | F33: - | G33: - | H33: 39318
A34: sonstige Nichtwohngebäude | B34: 71 | C34: 307 | D34: 514 | E34: 4 | F34: 3.9 | G34: 13 | H34: 180871
A35: Bauherrin/Bauherren
A36: öffentliche Bauherrin/Bauherren | B36: 63 | C36: 341 | D36: 554 | E36: - | F36: - | G36: - | H36: 189047
A37: Unternehmen | B37: 287 | C37: 1577 | D37: 2377 | E37: 22 | F37: 14.5 | G37: 50 | H37: 336730
A38: Wohnungsunternehmen | B38: 25 | C38: 77 | D38: 212 | E38: 6 | F38: 3.2 | G38: 10 | H38: 21666
A39: Immobilienfonds | B39: 5 | C39: 291 | D39: 286 | E39: 5 | F39: 3.8 | G39: 14 | H39: 49490
A40: Land- und Forstwirtschaft, Tierhaltung, Fischerei | B40: 55 | C40: 267 | D40: 357 | E40: - | F40: - | G40: - | H40: 26042
...

Sheet 22.2.5
A1: Link zum Inhaltsverzeichnis
A2: 22.2 Bautätigkeit und Wohnungen
A3: 22.2.5 Baufertigstellungen im Wohn- und Nichtwohnbau im Zeitvergleich nach Gebäudemerkmalen
A4: Merkmal | B4: Einheit | C4: 2000 | D4: 2005 | E4: 2010 | F4: 2015 | G4: 2020 | H4: 2024 | I4: 2025
A5: Wohnbau insgesamt
A6: Gebäude | B6: Anzahl | C6: 7793 | D6: 4638 | E6: 2711 | F6: 3053 | G6: 3989 | H6: 2590 | I6: 1882
A7: Rauminhalt | B7: 1.000 m³ | C7: . | D7: . | E7: . | F7: . | G7: . | H7: . | I7: .
A8: Nutzfläche | B8: 100 m² | C8: 1034.4 | D8: 473.5 | E8: 232.7 | F8: 438.1 | G8: 921 | H8: 325 | I8: 292
A9: Wohnungen | B9: Anzahl | C9: 11847 | D9: 6043 | E9: 3735 | F9: 4582 | G9: 7442 | H9: 4525 | I9: 3205
A10: Wohnfläche | B10: 100 m² | C10: 10511 | D10: 5825.9 | E10: 3491.6 | F10: 4633.8 | G10: 7408 | H10: 4734 | I10: 3303
A11: Wohnräume (einschließlich Küchen) | B11: Anzahl | C11: 48427 | D11: 25742 | E11: 15156 | F11: 18457 | G11: 28084 | H11: 17777 | I11: 12295
A12: veranschlagte Kosten der Bau- werke | B12: 1.000 EUR | C12: 1211061 | D12: 643455 | E12: 421310 | F12: 619559 | G12: 1251009 | H12: 977691 | I12: 789555
A13: Errichtung neuer Gebäude
A14: Gebäude | B14: Anzahl | C14: 6244 | D14: 3858 | E14: 2060 | F14: 2372 | G14: 3449 | H14: 1954 | I14: 1350
A15: Rauminhalt | B15: 1.000 m³ | C15: 4366 | D15: 2468 | E15: 1486 | F15: 2086 | G15: 3546.115 | H15: 2143 | I15: 1508
A16: Nutzfläche | B16: 100 m² | C16: 1633.3 | D16: 877.4 | E16: 523.3 | F16: 726.3 | G16: 1150 | H16: 746 | I16: 529
A17: Wohnungen | B17: Anzahl | C17: 10595 | D17: 5506 | E17: 3327 | F17: 4121 | G17: 7009 | H17: 4022 | I17: 3037
A18: Wohnfläche | B18: 100 m² | C18: 9283.9 | D18: 5272.9 | E18: 3068.6 | F18: 4159.2 | G18: 6944 | H18: 4080 | I18: 2933
A19: Wohnräume (einschließlich Küchen) | B19: Anzahl | C19: 43590 | D19: 24154 | E19: 13871 | F19: 16875 | G19: 26663 | H19: 15889 | I19: 11191
A20: veranschlagte Kosten der Bau- werke | B20: 1.000 EUR | C20: 987078 | D20: 539434 | E20: 334828 | F20: 535781 | G20: 1151694 | H20: 813094 | I20: 644927
A21: Nichtwohnbau insgesamt
A22: Gebäude | B22: Anzahl | C22: 1087 | D22: 600 | E22: 552 | F22: 751 | G22: 644 | H22: 744 | I22: 576
A23: Rauminhalt | B23: 1.000 m³ | C23: . | D23: . | E23: . | F23: . | G23: . | H23: . | I23: .
A24: Nutzfläche | B24: 100 m² | C24: 7705.2 | D24: 5343.8 | E24: 3062.8 | F24: 3835.3 | G24: 3173 | H24: 8018 | I24: 3180
A25: Wohnungen | B25: Anzahl | C25: 335 | D25: 104 | E25: 8 | F25: -24 | G25: 51 | H25: 73 | I25: 66
A26: Wohnfläche | B26: 100 m² | C26: 243.9 | D26: 90.2 | E26: 12.6 | F26: 30.7 | G26: 14 | H26: 45 | I26: 37
A27: Wohnräume (einschließlich Küchen) | B27: Anzahl | C27: 981 | D27: 299 | E27: 54 | F27: 161 | G27: 39 | H27: 139 | I27: 161
A28: veranschlagte Kosten der Bau- werke | B28: 1.000 EUR | C28: 853166 | D28: 461176 | E28: 256365 | F28: 389551 | G28: 352590 | H28: 585605 | I28: 561118
A29: Errichtung neuer Gebäude
A30: Gebäude | B30: Anzahl | C30: 726 | D30: 418 | E30: 371 | F30: 535 | G30: 515 | H30: 544 | I30: 401
A31: Rauminhalt | B31: 1.000 m³ | C31: 3944 | D31: 3003 | E31: 1708 | F31: 2653 | G31: 1918 | H31: 3761 | I31: 1947
A32: Nutzfläche | B32: 100 m² | C32: 7050.3 | D32: 5128.6 | E32: 2851.3 | F32: 3420.6 | G32: 2960 | H32: 4849 | I32: 2992
A33: Wohnungen | B33: Anzahl | C33: 312 | D33: 97 | E33: 19 | F33: 93 | G33: 44 | H33: 57 | I33: 27
A34: Wohnfläche | B34: 100 m² | C34: 217.2 | D34: 77.1 | E34: 15.7 | F34: 56.9 | G34: 22 | H34: 36 | I34: 21
A35: Wohnräume (einschließlich Küchen) | B35: Anzahl | C35: 914 | D35: 274 | E35: 69 | F35: 268 | G35: 89 | H35: 123 | I35: 80
A36: veranschlagte Kosten der Bau- werke | B36: 1.000 EUR | C36: 697944 | D36: 392855 | E36: 191791 | F36: 296226 | G36: 301675 | H36: 473191 | I36: 448731

Sheet 22.2.6
A1: Link zum Inhaltsverzeichnis
A2: 22.2 Bautätigkeit und Wohnungen
A3: 22.2.6 Baufertigstellungen neu errichteter Gebäude 2025 nach Gebäudearten und Bauherrin/Bauherren
A4: Merkmal | B4: Gebäude | C4: Rauminhalt in 1.000 m³ | D4: Nutzfläche in 100 m² | E4: Wohnungen | F4: Wohnfläche in 100 m² | G4: Wohnräume | H4: Veranschlagte Kosten der Bauwerke in 1.000 EUR
A5: Wohnbau insgesamt | B5: 1350 | C5: 1508 | D5: 529.4 | E5: 3037 | F5: 2933.1 | G5: 11191 | H5: 644927
A6: darunter
A7: mit Eigentumswohnungen | B7: 39 | C7: 184 | D7: 108.7 | E7: 511 | F7: 362.8 | G7: 1299 | H7: 81606
A8: Gebäudearten
A9: mit 1 Wohnung | B9: 1122 | C9: 776 | D9: 189.9 | E9: 1122 | F9: 1507.6 | G9: 5689 | H9: 316034
A10: mit 2 Wohnungen | B10: 100 | C10: 99 | D10: 25.9 | E10: 200 | F10: 204 | G10: 792 | H10: 39955
A11: mit 3 und mehr Wohnungen | B11: 126 | C11: 621 | D11: 307.3 | E11: 1667 | F11: 1185.4 | G11: 4598 | H11: 277074
A12: Wohnheime | B12: 2 | C12: 12 | D12: 6.5 | E12: 48 | F12: 36 | G12: 112 | H12: 11864
A13: Bauherrin/Bauherren
A14: öffentliche Bauherrin/Bauherren | B14: 3 | C14: 22 | D14: 19.9 | E14: 52 | F14: 32.9 | G14: 127 | H14: 8399
A15: Unternehmen | B15: 153 | C15: 516 | D15: 222.2 | E15: 1338 | F15: 993.9 | G15: 3848 | H15: 234127
A16: Wohnungsunternehmen | B16: 101 | C16: 443 | D16: 183 | E16: 1163 | F16: 855.9 | G16: 3255 | H16: 206646
A17: Immobilienfonds | B17: 1 | C17: 1 | D17: - | E17: 2 | F17: 2.2 | G17: 10 | H17: 471
A18: Land- und Forstwirtschaft, Tierhaltung, Fischerei | B18: 4 | C18: 3 | D18: 1.2 | E18: 4 | F18: 5.9 | G18: 32 | H18: 1445
A19: Produzierendes Gewerbe | B19: 19 | C19: 22 | D19: 10.8 | E19: 46 | F19: 42.5 | G19: 159 | H19: 9157
A20: Handel, Kreditinstitute, Versicherungs- gewerbe, Dienstleistungen, Verkehr, Nachrichtenübermittlung | B20: 28 | C20: 47 | D20: 27.1 | E20: 123 | F20: 87.4 | G20: 392 | H20: 16408
A21: private Haushalte | B21: 1186 | C21: 936 | D21: 264.9 | E21: 1539 | F21: 1834.5 | G21: 6975 | H21: 379594
A22: Organisationen ohne Erwerbszweck | B22: 8 | C22: 34 | D22: 22.4 | E22: 108 | F22: 71.7 | G22: 241 | H22: 22807
A23: Nichtwohnbau insgesamt | B23: 401 | C23: 1947 | D23: 2991.7 | E23: 27 | F23: 21.1 | G23: 80 | H23: 448731
A24: Gebäudearten
A25: Anstaltsgebäude | B25: 40 | C25: 54 | D25: 125.5 | E25: 4 | F25: 1.5 | G25: 14 | H25: 21610
A26: Büro- und Verwaltungsgebäude | B26: 36 | C26: 177 | D26: 334 | E26: 10 | F26: 7.3 | G26: 31 | H26: 83384
A27: landwirtschaftliche Betriebsgebäude | B27: 41 | C27: 195 | D27: 287.7 | E27: 2 | F27: 1.4 | G27: 4 | H27: 12742
A28: nichtlandwirtschaftliche Betriebsgebäude | B28: 233 | C28: 1230 | D28: 1771.2 | E28: 10 | F28: 9.4 | G28: 27 | H28: 196872
A29: darunter
A30: Fabrik- und Werkstattgebäude | B30: 50 | C30: 297 | D30: 373 | E30: 3 | F30: 4.2 | G30: 10 | H30: 39314
A31: Handelsgebäude | B31: 26 | C31: 308 | D31: 441 | E31: 1 | F31: 1 | G31: 4 | H31: 48992
A32: Warenlagergebäude | B32: 67 | C32: 410 | D32: 530 | E32: - | F32: - | G32: - | H32: 31606
A33: Hotels und Gaststätten | B33: 9 | C33: 81 | D33: 176.4 | E33: 3 | F33: 1.7 | G33: 5 | H33: 49721
A34: sonstige Nichtwohngebäude | B34: 51 | C34: 291 | D34: 473.3 | E34: 1 | F34: 1.5 | G34: 4 | H34: 134123
A35: Bauherrin/Bauherren
A36: öffentliche Bauherrin/Bauherren | B36: 51 | C36: 234 | D36: 381.5 | E36: - | F36: - | G36: - | H36: 108398
A37: Unternehmen | B37: 208 | C37: 1473 | D37: 2162.5 | E37: 15 | F37: 12.6 | G37: 42 | H37: 259014
A38: Wohnungsunternehmen | B38: 3 | C38: 27 | D38: 64.8 | E38: - | F38: - | G38: - | H38: 10539
A39: Immobilienfonds | B39: 1 | C39: 14 | D39: 20.5 | E39: - | F39: - | G39: - | H39: 4000
A40: Land- und Forstwirtschaft, Tierhaltung, Fischerei | B40: 40 | C40: 283 | D40: 421.6 | E40: 3 | F40: 2.2 | G40: 7 | H40: 31252
...

Sheet 22.2.7
A1: Link zum Inhaltsverzeichnis
A2: 22.2 Bautätigkeit und Wohnungen
A3: 22.2.7 Baufertigstellungen neu errichteter Gebäude im Wohn- und Nichtwohnbau 2025 nach Heizungsart und vorwiegend
A4: verwendeter Heizenergie
A5: Merkmal | B5: Wohngebäude darunter ... | C5: ...Wohngebäude mit 1 Wohnung (ohne Wohnheime) | D5: ...Wohngebäude mit 2 Wohnungen (ohne Wohnheime) | E5: ...Wohngebäude mit 3 und mehr Wohnungen (ohne Wohnheime) | F5: Wohnungen in Wohngebäuden | G5: Nichtwohn- gebäude
A6: Insgesamt | B6: 1350 | C6: 1122 | D6: 100 | E6: 126 | F6: 3037 | G6: 401
A7: Heizungsart
A8: Fernheizung | B8: 90 | C8: 48 | D8: 2 | E8: 39 | F8: 1024 | G8: 44
A9: Blockheizung | B9: 5 | C9: 2 | D9: - | E9: 3 | F9: 26 | G9: 13
A10: Zentralheizung | B10: 1232 | C10: 1050 | D10: 97 | E10: 84 | F10: 1963 | G10: 160
A11: Etagenheizung | B11: 3 | C11: 3 | D11: - | E11: - | F11: 3 | G11: -
A12: Einzelraumheizung | B12: 20 | C12: 19 | D12: 1 | E12: - | F12: 21 | G12: 23
A13: Ohne Heizung | B13: - | C13: - | D13: - | E13: - | F13: - | G13: 161
A14: Vorwiegend verwendete primäre Heizenergie
A15: Öl | B15: 2 | C15: 2 | D15: - | E15: - | F15: 2 | G15: 1
A16: Gas | B16: 205 | C16: 155 | D16: 20 | E16: 30 | F16: 468 | G16: 57
A17: Strom | B17: 32 | C17: 30 | D17: 2 | E17: - | F17: 34 | G17: 27
A18: Fernwärme/Fernkälte | B18: 90 | C18: 48 | D18: 2 | E18: 39 | F18: 1024 | G18: 44
A19: Geothermie | B19: 159 | C19: 139 | D19: 7 | E19: 12 | F19: 269 | G19: 17
A20: Umweltthermie | B20: 822 | C20: 711 | D20: 66 | E20: 45 | F20: 1197 | G20: 78
A21: Solarthermie | B21: 15 | C21: 13 | D21: 2 | E21: - | F21: 17 | G21: -
A22: Holz | B22: 23 | C22: 22 | D22: 1 | E22: - | F22: 24 | G22: 9
A23: Biogas/Biomethan | B23: 1 | C23: 1 | D23: - | E23: - | F23: 1 | G23: 1
A24: sonstige Biomasse | B24: - | C24: - | D24: - | E24: - | F24: - | G24: 1
A25: sonstige Heizenergie | B25: 1 | C25: 1 | D25: - | E25: - | F25: 1 | G25: 5
A26: keine Energie | B26: - | C26: - | D26: - | E26: - | F26: - | G26: 161
A27: Vorwiegend verwendete sekundäre Heizenergie
A28: Öl | B28: - | C28: - | D28: - | E28: - | F28: - | G28: -
A29: Gas | B29: 20 | C29: 12 | D29: 4 | E29: 4 | F29: 80 | G29: 5
A30: Strom | B30: 305 | C30: 264 | D30: 26 | E30: 15 | F30: 449 | G30: 33
A31: Fernwärme/Fernkälte | B31: 1 | C31: - | D31: - | E31: 1 | F31: 4 | G31: -
A32: Geothermie | B32: 1 | C32: - | D32: - | E32: 1 | F32: 20 | G32: -
A33: Umweltthermie | B33: 16 | C33: 14 | D33: 1 | E33: 1 | F33: 19 | G33: 6
A34: Solarthermie | B34: 120 | C34: 87 | D34: 11 | E34: 22 | F34: 294 | G34: 25
A35: Holz | B35: 115 | C35: 105 | D35: 7 | E35: 3 | F35: 138 | G35: 6
A36: Biogas/Biomethan | B36: - | C36: - | D36: - | E36: - | F36: - | G36: 1
A37: sonstige Biomasse | B37: - | C37: - | D37: - | E37: - | F37: - | G37: 1
A38: sonstige Heizenergie | B38: 1 | C38: - | D38: - | E38: 1 | F38: 4 | G38: 1
A39: keine Energie | B39: 771 | C39: 640 | D39: 51 | E39: 78 | F39: 2029 | G39: 323
A41: Grafik 22.8 | I41: Daten der Grafik 22.8 "Fertiggestellte Wohnungen im Wohn- und Nichtwohnbau im Zeitvergleich"
...

Sheet 22.2.8-22.2.10
A1: Link zum Inhaltsverzeichnis
A2: 22.2 Bautätigkeit und Wohnungen
A3: 22.2.8 Bauüberhang (genehmigte, aber noch nicht fertig gestellte Bauvorhaben) im Wohn- und Nichtwohnbau
A4: am 31. Dezember 2025 nach Gebäudearten
A5: Gebäudeart | C5: Bau- überhang bei Gebäuden insgesamt darunter… | D5: ...Errich- tung neuer Gebäude unter Dach | E5: ...Errich- tung neuer Gebäude noch nicht unter Dach | F5: ...Errich- tung neuer Gebäude noch nicht begonnen | G5: Bau- überhang bei Woh- nungen insgesamt darunter… | H5: ...Errich- tung neuer Woh- nungen unter Dach | I5: ...Errich- tung neuer Woh- nungen noch nicht unter Dach | J5: ...Errich- tung neuer Woh- nungen noch nicht begonnen
A6: Insgesamt | C6: 6515 | D6: 662 | E6: 795 | F6: 2791 | G6: 12208 | H6: 1588 | I6: 2244 | J6: 6776
A7: Wohngebäude | C7: 4508 | D7: 457 | E7: 528 | F7: 1925 | G7: 12122 | H7: 1480 | I7: 2223 | J7: 6659
A8: darunter
A9: mit 1 Wohnung | C9: . | D9: 343 | E9: 337 | F9: 1355 | G9: . | H9: 343 | I9: 337 | J9: 1355
A10: mit 2 Wohnungen | C10: . | D10: 36 | E10: 61 | F10: 190 | G10: . | H10: 72 | I10: 122 | J10: 380
A11: mit 3 und mehr Wohnungen | C11: . | D11: 76 | E11: 123 | F11: 375 | G11: . | H11: 1063 | I11: 1555 | J11: 4589
A12: Nichtwohngebäude | C12: 2007 | D12: 205 | E12: 267 | F12: 866 | G12: 86 | H12: 108 | I12: 21 | J12: 117
A13: davon
A14: Anstaltsgebäude | C14: 321 | D14: 56 | E14: 29 | F14: 127 | G14: 52 | H14: 95 | I14: - | J14: 31
A15: Büro- und Verwaltungsgebäude | C15: 161 | D15: 12 | E15: 19 | F15: 72 | G15: -60 | H15: - | I15: 5 | J15: 17
A16: landwirtschaftl. Betriebsgebäude | C16: 206 | D16: 9 | E16: 20 | F16: 95 | G16: 13 | H16: 1 | I16: - | J16: -
A17: nichtlandwirtschaftl. Betriebs-
A18: gebäude | C18: 957 | D18: 98 | E18: 148 | F18: 438 | G18: 33 | H18: 2 | I18: 14 | J18: 43
A19: sonstige Nichtwohngebäude | C19: 362 | D19: 30 | E19: 51 | F19: 134 | G19: 48 | H19: 10 | I19: 2 | J19: 26
A22: 22.2.9 Wohnungsbestand im Zeitvergleich
A23: Merkmal | B23: Einheit | C23: 2000 | D23: 2005 | E23: 2010 | F23: 2011 3) 4) | G23: 2015 | H23: 2020 | I23: 2022 5) | J23: 2024 | K23: 2025
A24: Wohnungen | B24: Anzahl | C24: 853588 | D24: 882951 | E24: 897075 | F24: 877786 | G24: 894840 | H24: 921785 | I24: 922400 | J24: 930979 | K24: 933871
A25: je 1.000 Einwohnerin- nen bzw. Einwohner 6) | B25: Anzahl | C25: 481 | D25: 517 | E25: 546 | F25: 537 | G25: 555 | H25: 572 | I25: 585 | J25: 592 | K25: 593
A26: Räume (einschl. Küchen) | B26: Anzahl | C26: 3419376 | D26: 3556259 | E26: 3614384 | F26: 3467117 | G26: 3536492 | H26: 3641253 | I26: 3592997 | J26: 3625733 | K26: 3636815
A27: je Einwohnerin bzw. bzw. Einwohner 6) | B27: Anzahl | C27: 1.93 | D27: 2.08 | E27: 2.2 | F27: 2.12 | G27: 2.19 | H27: 2.26 | I27: 2.28 | J27: 2.3 | K27: 2.31
A28: je Wohnung | B28: Anzahl | C28: 4 | D28: 4 | E28: 4 | F28: 3.9 | G28: 4 | H28: 4 | I28: 3.9 | J28: 3.9 | K28: 3.9
A29: Wohnfläche | B29: 100 m² | C29: 609144 | D29: 640858 | E29: 656853 | F29: 693309 | G29: 710943 | H29: 738593 | I29: 761731 | J29: 770423 | K29: 773475
A30: je Einwohnerin bzw. bzw. Einwohner 6) | B30: m² | C30: 34.3 | D30: 37.5 | E30: 40 | F30: 42.4 | G30: 44.1 | H30: 45.9 | I30: 48.3 | J30: 49 | K30: 49.2
A31: je Wohnung | B31: m² | C31: 71.4 | D31: 72.6 | E31: 73.2 | F31: 79 | G31: 79.4 | H31: 80.1 | I31: 82.6 | J31: 82.8 | K31: 82.8
A34: 22.2.10 Wohnungsbestand am 31. Dezember 2025 nach Kreisen
A35: Merkmal | B35: Einheit | C35: Mecklen- burg-Vor- pommern | D35: Kreisfreie Stadt Rostock | E35: Kreisfreie Stadt Schwerin | F35: Mecklen- burgische Seenplatte | G35: Landkreis Rostock | H35: Vorpom- mern- Rügen | I35: Nordwest- mecklen- burg | J35: Vorpom- mern- Greifswald | K35: Ludwigs- lust- Parchim
A36: Wohnungen | B36: Anzahl | C36: 933871 | D36: 128160 | E36: 60062 | F36: 149490 | G36: 117960 | H36: 136799 | I36: 87855 | J36: 140984 | K36: 112561
A37: je 1.000 Einwohnerin- nen bzw. Einwohner 6) | B37: Anzahl | C37: 593 | D37: 625 | E37: 613 | F37: 608 | G37: 541 | H37: 628 | I37: 564 | J37: 624 | K37: 543
A38: Räume (einschl. Küchen) | B38: Anzahl | C38: 3636815 | D38: 445786 | E38: 197552 | F38: 598121 | G38: 491477 | H38: 514853 | I38: 358674 | J38: 543360 | K38: 486992
A39: je Einwohnerin bzw. bzw. Einwohner 6) | B39: Anzahl | C39: 2.31 | D39: 2.18 | E39: 2.02 | F39: 2.43 | G39: 2.25 | H39: 2.36 | I39: 2.3 | J39: 2.41 | K39: 2.35
A40: je Wohnung | B40: Anzahl | C40: 3.9 | D40: 3.5 | E40: 3.3 | F40: 4 | G40: 4.2 | H40: 3.8 | I40: 4.1 | J40: 3.9 | K40: 4.3
A41: Wohnfläche | B41: 100 m² | C41: 773475 | D41: 84631 | E41: 43036 | F41: 125111 | G41: 109201 | H41: 112310 | I41: 77463 | J41: 114676 | K41: 107046
A42: je Einwohnerin bzw. bzw. Einwohner 6) | B42: m² | C42: 49.2 | D42: 41.3 | E42: 43.9 | F42: 50.9 | G42: 50.1 | H42: 51.6 | I42: 49.7 | J42: 50.8 | K42: 51.7
A43: je Wohnung | B43: m² | C43: 82.8 | D43: 66 | E43: 71.7 | F43: 83.7 | G43: 92.6 | H43: 82.1 | I43: 88.2 | J43: 81.3 | K43: 95.1

Sheet 22.2.11+22.2.12
A1: Link zum Inhaltsverzeichnis
A2: 22.2 Bautätigkeit und Wohnungen
A3: 22.2.11 Wohnungsbestand im Zeitvergleich nach der Anzahl der Räume
A4: Merkmal | B4: 2000 | C4: 2005 | D4: 2010 | E4: 2011 3) | F4: 2015 | G4: 2020 | H4: 2022 5) | I4: 2024 | J4: 2025
A5: Wohnungen 4) | B5: 853588 | C5: 882951 | D5: 897075 | E5: 877786 | F5: 894840 | G5: 921785 | H5: 922400 | I5: 930979 | J5: 933871
A6: davon mit … Räumen (einschließlich Küchen)
A7: 1 | B7: 20030 | C7: 19269 | D7: 20065 | E7: 32109 | F7: 32855 | G7: 34195 | H7: 34778 | I7: 35214 | J7: 35302
A8: 2 | B8: 57333 | C8: 60138 | D8: 62452 | E8: 114702 | F8: 116842 | G8: 120942 | H8: 117442 | I8: 119016 | J8: 119766
A9: 3 | B9: 214943 | C9: 220209 | D9: 223506 | E9: 228548 | F9: 232312 | G9: 238997 | H9: 245719 | I9: 248005 | J9: 248582
A10: 4 | B10: 304642 | C10: 309269 | D10: 310540 | E10: 228309 | F10: 232270 | G10: 237627 | H10: 257867 | I10: 259379 | J10: 259886
A11: 5 | B11: 163803 | C11: 173516 | D11: 176178 | E11: 142930 | F11: 146499 | G11: 152036 | H11: 148359 | I11: 149769 | J11: 150258
A12: 6 | B12: 62292 | C12: 68126 | D12: 70761 | E12: 75786 | F12: 77603 | G12: 80166 | H12: 66306 | I12: 67123 | J12: 67405
A13: 7 und mehr | B13: 30545 | C13: 32424 | D13: 33573 | E13: 55402 | F13: 56459 | G13: 57822 | H13: 51929 | I13: 52473 | J13: 52672
A15: Grafik 22.9 | L15: Daten der Grafik 22.9 "Wohnungsbestand im Zeitvergleich nach der Anzahl der Räume"
L16: Jahr | M16: 1 und 2 Räume | N16: 3 Räume | O16: 4 Räume | P16: 5 Räume und mehr
L17: 2000 | M17: 77363 | N17: 214943 | O17: 304642 | P17: 256640
L18: 2005 | M18: 79407 | N18: 220209 | O18: 309269 | P18: 274066
L19: 2010 | M19: 82517 | N19: 223506 | O19: 310540 | P19: 280512
L20: 2011 | M20: 146811 | N20: 228548 | O20: 228309 | P20: 274118
L21: 2015 | M21: 149697 | N21: 232312 | O21: 232270 | P21: 280561
L22: 2020 | M22: 155137 | N22: 238997 | O22: 237627 | P22: 290024
L23: 2022 | M23: 152220 | N23: 245719 | O23: 257867 | P23: 266594
L24: =Tabelle_22.2.117[[#Headers],[2024]] -> 2024 | M24: 154230 | N24: 248005 | O24: 259379 | P24: 269365
L25: =Tabelle_22.2.117[[#Headers],[2025]] -> 2025 | M25: =J7+J8 -> 155068 | N25: =J9 -> 248582 | O25: =J10 -> 259886 | P25: =J11+J12+J13 -> 270335
A40: 22.2.12 Wohnungsbestand am 31. Dezember 2025 nach der Anzahl der Räume und Kreisen
A41: Merkmal | B41: Mecklen- burg-Vor- pommern | C41: Kreisfreie Stadt Rostock | D41: Kreisfreie Stadt Schwerin | E41: Mecklen- burgische Seenplatte | F41: Landkreis Rostock | G41: Vorpom- mern- Rügen | H41: Nordwest- mecklen- burg | I41: Vorpom- mern- Greifswald | J41: Ludwigs- lust- Parchim
A42: Wohnungen | B42: 933871 | C42: 128160 | D42: 60062 | E42: 149490 | F42: 117960 | G42: 136799 | H42: 87855 | I42: 140984 | J42: 112561
A43: davon mit … Räumen (einschließlich Küchen)
A44: 1 | B44: 35302 | C44: 6788 | D44: 3432 | E44: 5202 | F44: 2576 | G44: 6359 | H44: 2392 | I44: 6266 | J44: 2287
A45: 2 | B45: 119766 | C45: 17000 | D45: 13611 | E45: 14020 | F45: 13021 | G45: 22550 | H45: 9844 | I45: 18683 | J45: 11037
A46: 3 | B46: 248582 | C46: 40989 | D46: 20257 | E46: 38710 | F46: 27983 | G46: 35744 | H46: 21954 | I46: 38058 | J46: 24887
A47: 4 | B47: 259886 | C47: 43462 | D47: 13579 | E47: 46589 | F47: 31216 | G47: 34771 | H47: 23731 | I47: 37714 | J47: 28824
A48: 5 | B48: 150258 | C48: 14622 | D48: 5829 | E48: 24962 | F48: 23032 | G48: 20744 | H48: 16140 | I48: 22175 | J48: 22754
A49: 6 | B49: 67405 | C49: 3501 | D49: 2052 | E49: 11222 | F49: 11116 | G49: 9528 | H49: 7536 | I49: 10394 | J49: 12056
A50: 7 und mehr | B50: 52672 | C50: 1798 | D50: 1302 | E50: 8785 | F50: 9016 | G50: 7103 | H50: 6258 | I50: 7694 | J50: 10716
J125: x

Sheet Fußnotenerläuterungen
A1: Link zum Inhaltsverzeichnis
A2: Fußnotenerläuterungen
A3: 1) | B3: Alle Betriebe. Der Berichtskreis der Ergänzungserhebung im Bauhauptgewerbe 2020 ist gegenüber den Vorerhebungsjahren verdoppelt (Anwendung verbesserter methodischer Bundesvorgaben zur Berichtskreisbildung – neues Suchmodell). Der Berichtskreis des Ausbaugewerbes war nur geringfügig betroffen (siehe auch Methodik).
A4: 2) | B4: Betriebe von Unternehmen mit 10 und mehr tätigen Personen.
A5: 3) | B5: Ab 2011: Fortschreibung auf Basis der Ergebnisse der Gebäude- und Wohnungszählung (GWZ) im Rahmen des Zensus 2011.
A6: 4) | B6: Ab 2011: Einschließlich Wohnheime.
A7: 5) | B7: Ab 2022: Fortschreibung auf Basis der Ergebnisse der Gebäude- und Wohnungszählung (GWZ) im Rahmen des Zensus 2022.
A8: 6) | B8: Bezogen auf die Bevölkerung am 31.12. des Jahres.

Sheet Methodik
A1: Link zum Inhaltsverzeichnis
A2: Methodik
A3: Die Baustatistiken (Bauberichterstattung und Bautätigkeitsstatistik) stellen das Baugeschehen von der Planung der Bauvorhaben über den Einsatz der Produktionsfaktoren bis zum fertigen Bauwerk aus verschiedenen Blickwinkeln dar. Die Bauberichterstattung (Baugewerbestatistiken), die in das System der Statistik im Produzierenden Gewerbe integriert ist, liefert wich- tige Konjunkturindikatoren und Strukturdaten über die Bauwirtschaft, die bei den Betrieben und Unternehmen des Baugewerbes erhoben werden. Die Angaben der Bautätigkeitsstatistik (Baugenehmigungen, Baufertigstellungen, Abgänge und Bauüberhang) werden auf Gebäude bezo- gen und bei den Bauherren erfasst. Sie ergänzen die Konjunkturindikatoren durch Informationen über die Struktur des Baugeschehens.
A4: Baugewerbe: Die Zuordnung der Unternehmen oder Betriebe zu den Wirtschaftszweigen erfolgt ab 2008 auf der Grundlage der "Klassifika- tion der Wirtschaftszweige" Ausgabe 2008 (WZ 2008) nach ihrer Haupttätigkeit, d. h. nach der Tätigkeit, die den größten Beitrag zur Wert- schöpfung des Unternehmens oder Betriebes leistet. Im Sinne des Gesetzes über die Statistik im Produzierenden Gewerbe werden die Gruppen 41.2 Bau von Gebäuden, 42.1 Bau von Straßen und Bahnverkehrsstrecken, 42.2 Leitungstiefbau und Kläranlagenbau, 42.9 Son- stiger Tiefbau, 43.1 Abbrucharbeiten und vorbereitende Baustellenarbeiten sowie 43.9 Sonstige spezialisierte Bautätigkeiten dem Bau- hauptgewerbe zugeordnet. Die Gruppen 43.2 Bauinstallation und 43.3 Sonstiger Ausbau umfassen das Ausbaugewerbe.
A5: Bautätigkeit: Die Bautätigkeitsstatistik erstreckt sich auf alle genehmigungs- oder zustimmungspflichtigen sowie genehmigungsfreien Bau- maßnahmen im Hochbau, bei denen Wohnraum oder sonstiger Nutzraum geschaffen oder verändert wird. Erfasst werden Baugenehmigungen und Baufertigstellungen nach Merkmalen wie z. B. Art des Gebäudes, Größe des Bauwerks, Stellung des Bauherren sowie Art der Bautätigkeit. Die Erhebung des Bauüberhangs stellt alle genehmigten, aber am Jahresende noch nicht fertig gestellten Bauvorhaben fest.
A6: Wohnungsbestand: Die Statistiken des Wohnungswesens beschreiben quantitativ und qualitativ den Gesamtbestand an Gebäuden und Wohnungen und schreiben diesen jährlich fort. Durch die 2022 im Rahmen des Zensus bundesweit durchgeführte Gebäude- und Woh- nungszählung (GWZ) wurde die Fortschreibung auf eine neue Basis gestellt.
A7: Die Rechtsgrundlagen und tiefergehende methodische Erläuterungen entnehmen Sie bitte den Qualitätsberichten bzw. angegebenen Sta- tistischen Berichten (siehe "Mehr zum Thema").

Sheet Glossar
A1: Link zum Inhaltsverzeichnis
A2: Glossar
A3: Baufertigstellungen: Zeitpunkt der Bezugsfertigstellung, zu dem die Arbeiten am Bauvorhaben weitgehend abgeschlossen sind und zu dem das Gebäude bzw. die Wohnung bezogen oder – bei leer stehenden Gebäuden – bezugsfertig wird.
A4: Baugenehmigungen: Erteilung von bauamtlichen Genehmigungen zur Bauausführung – gleichgültig, ob vorläufig, endgültig oder mit Ein- schränkungen. Errichtung, Veränderung, Nutzungsänderung und Abbruch baulicher Anlagen bedürfen der Genehmigung, soweit das Bau- vorhaben nicht genehmigungsfrei ist, unter das Freistellungsverfahren fällt oder nicht der Bauaufsicht unterliegt.
A5: Bauherrin/Bauherr: Person oder Gruppe von Personen, die im eigenen Namen und für eigene oder fremde Rechnung ein Bauvorhaben durchführt oder durchführen lässt. Der Zeitpunkt der Baugenehmigung ist dabei entscheidend, unabhängig von einer ggf. beabsichtigten späteren Veräußerung.
A6: Baumaßnahmen an bestehenden Gebäuden sind bauliche Veränderungen an bestehenden Gebäuden durch Umbau‑, Ausbau‑, Erweite- rungs- oder Wiederherstellungsmaßnahmen. Dies kann zur Verringerung der Anzahl der Wohnungen bzw. der Wohn- oder Nutzfläche führen. Aus diesem Grund können in den Tabellen auch negative Werte erscheinen.
A7: Bauüberhang: Alle genehmigten, aber am Jahresende noch nicht fertig gestellten Bauvorhaben.
A8: Blockheizung: Ein Block ganzer Häuser wird durch eine Heizquelle beheizt, die sich in bzw. an einem Gebäude oder in unmittelbarer Nähe befindet.
A9: Etagenheizung: Beheizung aller Räume einer Wohnung durch eine Heizquelle, die sich innerhalb dieser Wohnung befindet, z. B. eine Gastherme.
A10: Fernheizung: Wärmeversorgung mehrerer Gebäude durch ein zentrales Fernheizwerk (Fernwärme).
A11: Fertigteilbau: Ein Bauwerk gilt als Fertigteilbau, wenn überwiegend geschosshohe oder raumbreite Fertigteile (vorgefertigte Bauteile) für Außen- oder Innenwände verwendet werden.
A12: Gebäude sind selbstständig benutzbare, überdachte Bauwerke, die auf Dauer errichtet sind. Bei Doppel- oder Reihenhäusern gilt jeder Teil, der von dem anderen durch eine Trennwand geschieden ist, als selbstständiges Gebäude. Unterkünfte zählen nicht zu den Gebäuden.
... A27: Abkürzungsverzeichnis a. n. g. Anderweitig nicht genannt

Sheet Mehr zum Thema
A1: Link zum Inhaltsverzeichnis
A2: Mehr zum Thema
A3: Weitere Informationen zum Thema finden Sie auf der Website des Statistischen Amtes Mecklenburg-Vorpommern
A4: > www.laiv-mv.de/statistik/
A5: Statistische Berichte Mecklenburg-Vorpommern
A6: > E213 | B6: Monatsmeldung der Betriebe von Unternehmen des Bauhauptgewerbes mit 20 und mehr tätigen Personen
A7: > E223 | B7: Tätige Personen und Umsatz der Betriebe im Baugewerbe (Strukturdaten)
A8: > F213 | B8: Baugenehmigungen
A9: > F213J | B9: Baugenehmigungen (Jahresbericht)
A10: > F223 | B10: Baufertigstellungen und Bauüberhang
A11: > F243 | B11: Bestand an Wohngebäuden und Wohnungen (Fortschreibung)
A12: Qualitätsberichte Statistisches Bundesamt
A13: > Bauen
A14: Fachliche Informationen
A15: Baugewerbe
A16: Frauke Kusenack, Telefon: 0385 588-56043, frauke.kusenack@statistik-mv.de
A17: Bautätigkeit und Wohnungen
A18: Dr. Henry Lewerentz, Telefon: 0385 588-56042, henry.lewerentz@statistik-mv.de
A19: Quellenangaben
A20: Daten der Grafik 22.5: Statistisches Bundesamt, GENESIS-Online, Code 31231-0010
