Workbook
Name _GrafikDaten_21.1: Titelblatt!$C$20:$E$30
Name _GrafikDaten_21.2: 'Überblick in Grafiken'!$C$3:$D$13
Name _GrafikDaten_21.3: 'Überblick in Grafiken'!$C$31:$E$49
Name _GrafikDaten_21.4: '21.2'!$L$15:$N$26
Name _GrafikDaten_21.5: '21.2'!$L$36:$N$54
Name _GrafikDaten_21.6: '21.3'!$I$24:$J$42
Name _GrafikDaten_21.7: '21.5'!$I$17:$L$28
Name _GrafikDaten_21.8: '21.5'!$I$39:$J$49
Name _Tabelle_21.1: '21.1'!$A$2:$H$55
Name _Tabelle_21.2: '21.2'!$A$2:$J$13
Name _Tabelle_21.3: '21.3'!$A$2:$G$22
Name _Tabelle_21.4: '21.4'!$A$2:$J$33
Name _Tabelle_21.5: '21.5'!$A$2:$G$15

Sheet Titelblatt
A1: Titelblatt des Kapitels 21 "Verarbeitendes Gewerbe sowie Bergbau": Link zum Inhaltsverzeichnis
A2: 21 | Verarbeitendes Gewerbe sowie Bergbau
A20: Grafik 21.1 | C20: Daten der Grafik 21.1 "Tätige Personen der Industriebetriebe am 30.09.2025 nach Kreisen"
C21: Kreis | D21: Tätige Personen je 1.000 EW | E21: Nachrichtlich: Bevölkerung am 30.09.2025
C22: Rostock | D22: ='21.2'!C7*1000/GrafikDaten_21.1[[#This Row],[Nachrichtlich: Bevölkerung am 30.09.2025]] -> 42.719718 | E22: 204683
C23: Schwerin | D23: ='21.2'!D7*1000/GrafikDaten_21.1[[#This Row],[Nachrichtlich: Bevölkerung am 30.09.2025]] -> 40.89068 | E23: 98262
C24: Mecklenburgische Seenplatte | D24: ='21.2'!E7*1000/GrafikDaten_21.1[[#This Row],[Nachrichtlich: Bevölkerung am 30.09.2025]] -> 37.517112 | E24: 244715
C25: Landkreis Rostock | D25: ='21.2'!F7*1000/GrafikDaten_21.1[[#This Row],[Nachrichtlich: Bevölkerung am 30.09.2025]] -> 36.491273 | E25: 218518
C26: Vorpommern-Rügen | D26: ='21.2'!G7*1000/GrafikDaten_21.1[[#This Row],[Nachrichtlich: Bevölkerung am 30.09.2025]] -> 16.275957 | E26: 215164
C27: Nordwestmecklenburg | D27: ='21.2'!H7*1000/GrafikDaten_21.1[[#This Row],[Nachrichtlich: Bevölkerung am 30.09.2025]] -> 53.128199 | E27: 156320
C28: Vorpommern-Greifswald | D28: ='21.2'!I7*1000/GrafikDaten_21.1[[#This Row],[Nachrichtlich: Bevölkerung am 30.09.2025]] -> 24.975993 | E28: 223895
C29: Ludwigslust-Parchim | D29: ='21.2'!J7*1000/GrafikDaten_21.1[[#This Row],[Nachrichtlich: Bevölkerung am 30.09.2025]] -> 64.502761 | E29: 207526
C30: Mecklenburg-Vorpommern | D30: ='21.2'!B7*1000/GrafikDaten_21.1[[#This Row],[Nachrichtlich: Bevölkerung am 30.09.2025]] -> 38.68629 | E30: 1569083

Sheet Inhalt
A1: Inhaltsverzeichnis des Kapitels 21 "Verarbeitendes Gewerbe sowie Bergbau": Die Gliederungen und Überschriften auf dieser Seite sind Links zum Inhalt.
A2: Inhaltsverzeichnis | C2: Seite
A3: Überblick | B3: Überblick in Grafiken | C3: =D3+510 -> 513 | D3: 3
B4: Überblick in Worten | C4: =D4+510 -> 514 | D4: 4
A5: Ergebnisse in Tabellen
A6: 21.1 | B6: Strukturdaten der Betriebe von Unternehmen mit im Allgemeinen 20 und mehr tätigen Personen im Zeitvergleich sowie 2025 nach Wirtschaftsgliederung | C6: =D6+510 -> 515 | D6: 5
A7: 21.2 | B7: Strukturdaten der Betriebe von Unternehmen mit im Allgemeinen 20 und mehr tätigen Personen 2025 nach Kreisen | C7: =D7+510 -> 516 | D7: 6
A8: 21.3 | B8: Strukturdaten der Betriebe von Unternehmen mit im Allgemeinen 20 und mehr tätigen Personen 2025 im Ländervergleich | C8: =D8+510 -> 517 | D8: 7
A9: 21.4 | B9: Produktion der Betriebe von Unternehmen mit im Allgemeinen 20 und mehr tätigen Personen im Zeitvergleich nach Güterabteilungen | C9: =D9+510 -> 518 | D9: 8
A10: 21.5 | B10: Bruttoanlageinvestitionen der Betriebe von Unternehmen mit 20 und mehr tätigen Personen im Zeitvergleich | C10: =D10+510 -> 519 | D10: 9
A11: Ergebnisse in Grafiken
A12: 21.1 | B12: Industriedichte am 30. September 2025 nach Kreisen | C12: =D12+510 -> 511 | D12: 1
A13: 21.2 | B13: Zum Absatz bestimmte Produktion der Industriebetriebe 2025 nach Güterabteilungen | C13: =D13+510 -> 513 | D13: 3
A14: 21.3 | B14: Industriedichte am 30. September 2025 im Ländervergleich | C14: =D14+510 -> 513 | D14: 3
A15: 21.4 | B15: Industriedichte am 30. September 2025 nach Kreisen | C15: =D15+510 -> 516 | D15: 6
A16: 21.5 | B16: Industriedichte am 30. September 2025 im Ländervergleich | C16: =D16+510 -> 516 | D16: 6
A17: 21.6 | B17: Exportquote 2025 im Ländervergleich | C17: =D17+510 -> 517 | D17: 7
A18: 21.7 | B18: Bruttoanlageinvestitionen im Zeitvergleich | C18: =D18+510 -> 519 | D18: 9
A19: 21.8 | B19: Bruttoanlageinvestitionen je tätige Person 2024 | C19: =D19+510 -> 519 | D19: 9
A20: Erläuterungen
A21: Methodik | C21: =D21+510 -> 520 | D21: 10
A22: Glossar | C22: =D22+510 -> 521 | D22: 11
A23: Mehr zum Thema | C23: =D23+510 -> 522 | D23: 12

Sheet Überblick in Grafiken
A1: Link zum Inhaltsverzeichnis
A2: Überblick in Grafiken
A3: Grafik 21.2 | C3: Daten der Grafik 21.2 "Zum Absatz bestimmte Produktion der Industriebetriebe 2025 nach Güterabteilungen"
C4: Güterabteilung | D4: 16,2 Mrd. EUR = 100
C5: Nahrungs- und Futtermittel sowie Getränke | D5: =('21.4'!J10+'21.4'!J11)*100/'21.4'!J6 -> 34.940087
C6: Maschinen | D6: ='21.4'!J28*100/'21.4'!J6 -> 11.252595
C7: Kraftwagen und Kraftwagenteile | D7: ='21.4'!J29*100/'21.4'!J6 -> 5.8065566
C8: Holz sowie Holz- und Korkwaren; Flecht- u. Korbmacherwaren | D8: =('21.4'!J16+'21.4'!J31)*100/'21.4'!J6 -> 6.8510546
C9: Chemische und Pharmazeutische Erzeugnisse; Gummi und Kunststoffwaren | D9: =('21.4'!J20+'21.4'!J21+'21.4'!J22)*100/'21.4'!J6 -> 9.0718565
C10: Metalle und Metallerzeugnisse | D10: =('21.4'!J24+'21.4'!J25)*100/'21.4'!J6 -> 8.8430828
C11: Sonstige Fahrzeuge (Schiffe, Boote, Yachten u. a.) | D11: ='21.4'!J30*100/'21.4'!J6 -> 3.2176591
C12: Datenverarbeitungsgeräte, elektronische und optische Erzeugnisse sowie elektrische Ausrüstungen | D12: =('21.4'!J26+'21.4'!J27)*100/'21.4'!J6 -> 4.8443215
C13: Übrige | D13: =100-(D5+D6+D7+D8+D9+D10+D11+D12) -> 15.172787
A31: Grafik 21.3 | C31: Daten der Grafik 21.3 "Industriedichte am 30. September 2025 im Ländervergleich"
C32: Bundesland | D32: Tätige Personen je 1.000 EW | E32: Nachrichtlich: Bevölkerung am 30.09.2025
C33: Baden-Württemberg | D33: ='21.3'!$C$7*1000/GrafikDaten_21.3[[#This Row],[Nachrichtlich: Bevölkerung am 30.09.2025]] -> 112.81679 | E33: 11242538
C34: Bayern | D34: ='21.3'!$C$8*1000/GrafikDaten_21.3[[#This Row],[Nachrichtlich: Bevölkerung am 30.09.2025]] -> 98.068047 | E34: 13254776
C35: Berlin | D35: ='21.3'!$C$9*1000/GrafikDaten_21.3[[#This Row],[Nachrichtlich: Bevölkerung am 30.09.2025]] -> 23.295383 | E35: 3695668
C36: Brandenburg | D36: ='21.3'!$C$10*1000/GrafikDaten_21.3[[#This Row],[Nachrichtlich: Bevölkerung am 30.09.2025]] -> 39.405896 | E36: 2553222
C37: Bremen | D37: ='21.3'!$C$11*1000/GrafikDaten_21.3[[#This Row],[Nachrichtlich: Bevölkerung am 30.09.2025]] -> 67.119359 | E37: 706145
C38: Hamburg | D38: ='21.3'!$C$12*1000/GrafikDaten_21.3[[#This Row],[Nachrichtlich: Bevölkerung am 30.09.2025]] -> 51.947927 | E38: 1867832
C39: Hessen | D39: ='21.3'!$C$13*1000/GrafikDaten_21.3[[#This Row],[Nachrichtlich: Bevölkerung am 30.09.2025]] -> 59.1957 | E39: 6278108
C40: Mecklenburg-Vorpommern | D40: ='21.3'!$C$14*1000/GrafikDaten_21.3[[#This Row],[Nachrichtlich: Bevölkerung am 30.09.2025]] -> 38.68629 | E40: 1569083
C41: Niedersachsen | D41: ='21.3'!$C$15*1000/GrafikDaten_21.3[[#This Row],[Nachrichtlich: Bevölkerung am 30.09.2025]] -> 69.400621 | E41: 8002205
C42: Nordrhein-Westfalen | D42: ='21.3'!$C$16*1000/GrafikDaten_21.3[[#This Row],[Nachrichtlich: Bevölkerung am 30.09.2025]] -> 65.440141 | E42: 18005065
C43: Rheinland-Pfalz | D43: ='21.3'!$C$17*1000/GrafikDaten_21.3[[#This Row],[Nachrichtlich: Bevölkerung am 30.09.2025]] -> 71.260008 | E43: 4124768
C44: Saarland | D44: ='21.3'!$C$18*1000/GrafikDaten_21.3[[#This Row],[Nachrichtlich: Bevölkerung am 30.09.2025]] -> 73.254359 | E44: 1008254
C45: Sachsen | D45: ='21.3'!$C$19*1000/GrafikDaten_21.3[[#This Row],[Nachrichtlich: Bevölkerung am 30.09.2025]] -> 67.697073 | E45: 4023719
C46: Sachsen-Anhalt | D46: ='21.3'!$C$20*1000/GrafikDaten_21.3[[#This Row],[Nachrichtlich: Bevölkerung am 30.09.2025]] -> 57.865423 | E46: 2122079
C47: Schleswig-Holstein | D47: ='21.3'!$C$21*1000/GrafikDaten_21.3[[#This Row],[Nachrichtlich: Bevölkerung am 30.09.2025]] -> 45.6922 | E47: 2960374
C48: Thüringen | D48: ='21.3'!$C$22*1000/GrafikDaten_21.3[[#This Row],[Nachrichtlich: Bevölkerung am 30.09.2025]] -> 76.728343 | E48: 2083311
C49: Deutschland | D49: ='21.3'!$C$6*1000/GrafikDaten_21.3[[#This Row],[Nachrichtlich: Bevölkerung am 30.09.2025]] -> 73.336542 | E49: 83497147

Sheet Überblick in Worten
A1: Link zum Inhaltsverzeichnis
A2: Überblick in Worten
A3: § | B3: Der Industriebereich von Mecklenburg-Vorpommern ist deutlich stärker durch die Herstellung von Nahrungs- und Futter- mitteln geprägt als beispielsweise durch den Maschinen- und Fahrzeugbau. Das schützt in einem gewissen Rahmen vor den Auswirkungen der anhaltenden Industriekrise, die besonders die Autobranche hart getroffen hat. Auch in der bis Ende 2021 andauernden Corona-Pandemie war der Industriebereich unseres Landes insgesamt weniger stark beeinträchtigt als in den meisten anderen Bundesländern.
A4: § | B4: Für Mecklenburg-Vorpommern ist der Industriebereich sehr wichtig und ein stabilisierender Wirtschaftsfaktor. Die bundes- weite industrielle Entwicklung wird jedoch durch Bundesländer mit tradiert großen Industrieansiedlungen geprägt. So war der industrielle Umsatzanteil Mecklenburg-Vorpommerns an Deutschland 2025 mit 1,1 Prozent genauso gering wie der des Saarlandes und stand in keinem Vergleich zum Umsatzbeitrag von zum Beispiel Bayern (21,6 Prozent), Baden-Württemberg (18,9 Prozent) oder Nordrhein-Westfalen (16,6 Prozent).
A5: § | B5: In Mecklenburg-Vorpommern erwirtschafteten die Betriebe von Unternehmen mit 20 und mehr tätigen Personen im Jahr 2025 insgesamt ein Umsatzvolumen von 23,9 Milliarden EUR.
A6: § | B6: Der gegenüber dem Vorjahr positiven Entwicklung des Inlandsumsatzes (+1,59 Milliarden EUR) stand ein Rückgang des Auslandsgeschäfts um 1,63 Milliarden EUR gegenüber. Die Exportquote der industriellen Großbetriebe sank entsprechend stark von 51,8 Prozent (2024) auf 45,1 Prozent (2025). Sie lag damit wieder unter der bundesdurchschnittlichen Export- quote von 51,0 Prozent (Vorjahr: 50,5 Prozent).
A7: § | B7: Die seit 2020 in Mecklenburg-Vorpommern rückläufige Entwicklung der Industriebeschäftigung in den Betrieben von Unternehmen mit 20 und mehr tätigen Personen setzte sich auch 2025 fort. Die Zahl der hier Beschäftigten ging gegenüber 2024 erneut zurück, und zwar um noch einmal 522 (Vorjahr: -546) von 61.224 Industriebeschäftigten (2024) auf 60.702 (2025).
A8: § | B8: Mit Abstand umsatzstärkste Branche ist in Mecklenburg-Vorpommern der Industriebereich zur Herstellung von Nahrungs- und Futtermitteln. Sein Anteil am industriellen Gesamtumsatz des Landes lag 2025 bei 25,0 Prozent. Hier wurde durch die industriellen Großbetriebe ein Gesamtumsatz von 5,96 Milliarden EUR erzielt (Vorjahr 5,83 Milliarden EUR). Dieser domi- nante Bereich trug entsprechend stark positiv zum Landesergebnis 2025 bei. Von den in den industriellen Großbetrieben Beschäftigten arbeitete 2025 etwa jede bzw. jeder vierte im Ernährungs- und Futtermittelgewerbe Mecklenburg-Vorpom- merns; insgesamt 15.964 Personen.
A9: § | B9: Die nächsten besonders beschäftigungsrelevanten Industriebereiche unseres Landes waren auch im Jahr 2025 der Ma- schinenbau mit 6.612 Beschäftigten (10,9 Prozent) und die Herstellung von Metallerzeugnissen mit rund 5.267 Beschäf- tigten (8,7 Prozent).

Sheet 21.1
A1: Link zum Inhaltsverzeichnis
A2: 21.1 Strukturdaten der Betriebe von Unternehmen mit im Allgemeinen 20 und mehr tätigen Personen
A3: im Zeitvergleich sowie 2025 nach Wirtschaftsgliederung
A5: Nr. der Klassi- fikation | B5: Merkmal | C5: Betriebe am 30.09. | D5: Tätige Personen am 30.09. | E5: Entgelte in 1.000 EUR | F5: Gesamt- umsatz in 1.000 EUR | G5: Darunter Auslands- umsatz in 1.000 EUR | H5: Export- quote in %
B6: 2015 | C6: 744 | D6: 58436 | E6: 1762339 | F6: 14899664 | G6: 4940263 | H6: 33.2
B7: 2016 | C7: 695 | D7: 57176 | E7: 1789730 | F7: 14610515 | G7: 4536683 | H7: 31.1
B8: 2017 | C8: 719 | D8: 58867 | E8: 1872372 | F8: 15967242 | G8: 5303426 | H8: 33.2
B9: 2018 | C9: 743 | D9: 63074 | E9: 2136528 | F9: 14912025 | G9: 4713157 | H9: 31.6
B10: 2019 | C10: 767 | D10: 65275 | E10: 2312714 | F10: 15185371 | G10: 5327806 | H10: 35.1
B11: 2020 | C11: 800 | D11: 64564 | E11: 2212385 | F11: 15455226 | G11: 5529480 | H11: 35.8
B12: 2021 | C12: 797 | D12: 64125 | E12: 2291397 | F12: 17929700 | G12: 7419289 | H12: 41.4
B13: 2022 | C13: 804 | D13: 62723 | E13: 2364948 | F13: 18387759 | G13: 6558878 | H13: 35.7
B14: 2023 | C14: 796 | D14: 61770 | E14: 2468890 | F14: 20989203 | G14: 9427710 | H14: 44.9
B15: 2024 | C15: 780 | D15: 61224 | E15: 2560034 | F15: 23947203 | G15: 12403095 | H15: 51.8
B16: 2025 | C16: 774 | D16: 60702 | E16: 2643573 | F16: 23899818 | G16: 10769744 | H16: 45.1
A17: B | B17: Bergbau und Gewinnung von Steinen und Erden | C17: 30 | D17: . | E17: . | F17: 147145 | G17: 15739 | H17: 10.7
A18: C | B18: Verarbeitendes Gewerbe | C18: 744 | D18: . | E18: . | F18: 23752672 | G18: 10754006 | H18: 45.3
A19: 10 | B19: H. v. Nahrungs- und Futtermitteln | C19: 132 | D19: 15964 | E19: 587044 | F19: 5964450 | G19: 1152248 | H19: 19.3
B20: darunter
A21: 10.1 | B21: Schlachten und Fleischverarbeitung | C21: 29 | D21: 3672 | E21: 118869 | F21: 1262554 | G21: . | H21: .
A22: 10.13 | B22: darunter: Fleischverarbeitung | C22: 22 | D22: 1636 | E22: 51121 | F22: 352191 | G22: . | H22: .
A23: 10.2 | B23: Fischverarbeitung | C23: 7 | D23: 540 | E23: 21299 | F23: 146013 | G23: . | H23: .
A24: 10.3 | B24: Obst- und Gemüseverarbeitung | C24: 6 | D24: 592 | E24: 26736 | F24: 276087 | G24: . | H24: .
A25: 10.5 | B25: Milchverarbeitung | C25: 12 | D25: 1557 | E25: 81038 | F25: 1174669 | G25: . | H25: .
A26: 10.7 | B26: H. v. Back- und Teigwaren | C26: 44 | D26: 4827 | E26: 118656 | F26: 410978 | G26: . | H26: .
A27: 10.8 | B27: H. v. sonstigen Nahrungsmitteln | C27: 23 | D27: . | E27: 196838 | F27: . | G27: . | H27: .
B28: darunter
A29: 10.82 | B29: H. v. Süßwaren (ohne Dauerbackwaren) | C29: 4 | D29: . | E29: . | F29: . | G29: . | H29: .
A30: 10.85 | B30: H. v. Fertiggerichten | C30: 5 | D30: . | E30: . | F30: . | G30: . | H30: .
A31: 10.9 | B31: H. v. Futtermitteln | C31: 9 | D31: 270 | E31: . | F31: 265264 | G31: . | H31: .
A32: 11 | B32: Getränkeherstellung | C32: 11 | D32: 1220 | E32: 57809 | F32: 389908 | G32: . | H32: .
A33: 12 | B33: Tabakverarbeitung | C33: 1 | D33: . | E33: . | F33: . | G33: - | H33: x
A34: 13 | B34: H. v. Textilien | C34: 6 | D34: . | E34: . | F34: . | G34: . | H34: .
A35: 14 | B35: H. v. Bekleidung | C35: 1 | D35: . | E35: . | F35: . | G35: . | H35: .
A36: 15 | B36: H. v. Leder, Lederwaren und Schuhen | C36: 1 | D36: . | E36: . | F36: . | G36: - | H36: x
A37: 16 | B37: H. v. Holz-, Flecht-, Korb- und Korkwaren (ohne Möbel) | C37: 36 | D37: 3501 | E37: 156889 | F37: 1226471 | G37: 576848 | H37: 47
A38: 17 | B38: H. v. Papier, Pappe und Waren daraus | C38: 6 | D38: . | E38: . | F38: . | G38: . | H38: .
A39: 18 | B39: H. v. Druckerzeugnissen; Vervielfältigung von bespielten Ton-, Bild- und Datenträgern | C39: 13 | D39: 1277 | E39: 51334 | F39: 227787 | G39: . | H39: .
A40: 19 | B40: Kokerei und Mineralölverarbeitung | C40: 1 | D40: . | E40: . | F40: . | G40: . | H40: .
A41: 20 | B41: H. v. chemischen Erzeugnissen | C41: 16 | D41: 878 | E41: 48316 | F41: 546976 | G41: 403047 | H41: 73.7
...

Sheet 21.2
A1: Link zum Inhaltsverzeichnis
A2: 21.2 Strukturdaten der Betriebe von Unternehmen mit im Allgemeinen 20 und mehr tätigen Personen 2025
A3: nach Kreisen
A5: Merkmal | B5: Mecklen- burg-Vor- pommern | C5: Kreisfreie Stadt Rostock | D5: Kreisfreie Stadt Schwerin | E5: Mecklen- burgische Seenplatte | F5: Landkreis Rostock | G5: Vorpom- mern- Rügen | H5: Nordwest- mecklen- burg | I5: Vorpom- mern- Greifswald | J5: Ludwigs- lust- Parchim
A6: Betriebe am 30.09. | B6: 774 | C6: 72 | D6: 54 | E6: 133 | F6: 116 | G6: 74 | H6: 97 | I6: 76 | J6: 152
A7: Tätige Personen am 30.09. | B7: 60702 | C7: 8744 | D7: 4018 | E7: 9181 | F7: 7974 | G7: 3502 | H7: 8305 | I7: 5592 | J7: 13386
A8: Industriedichte | B8: 38.7 | C8: 42.7 | D8: 40.9 | E8: 37.5 | F8: 36.5 | G8: 16.3 | H8: 53.1 | I8: 25 | J8: 64.5
A9: Entgelte in 1.000 EUR | B9: 2643573 | C9: 455145 | D9: 173261 | E9: 398609 | F9: 293878 | G9: 134782 | H9: 400529 | I9: 235090 | J9: 552280
A10: Gesamtumsatz in 1.000 EUR | B10: 23899818 | C10: 8985787 | D10: 1235941 | E10: 3036517 | F10: 1856146 | G10: 654818 | H10: 2762166 | I10: 1416922 | J10: 3951521
A11: darunter
A12: Auslandsumsatz in 1.000 EUR | B12: 10769744 | C12: 6217728 | D12: 316078 | E12: 1087811 | F12: 769126 | G12: 44216 | H12: 1209167 | I12: 329029 | J12: 796589
A13: Exportquote in % | B13: 45.1 | C13: 69.2 | D13: 25.6 | E13: 35.8 | F13: 41.4 | G13: 6.8 | H13: 43.8 | I13: 23.2 | J13: 20.2
A15: Grafik 21.4 | L15: Daten der Grafik 21.4 "Industriedichte am 30. September 2025 nach Kreisen"
L16: Kreis | M16: Tätige Personen je 1.000 EW | N16: Nachrichtlich: Bevölkerung am 30.09.2025
L17: Rostock | M17: =C7*1000/GrafikDaten_21.4[[#This Row],[Nachrichtlich: Bevölkerung am 30.09.2025]] -> 42.719718 | N17: 204683
L18: Schwerin | M18: =D7*1000/GrafikDaten_21.4[[#This Row],[Nachrichtlich: Bevölkerung am 30.09.2025]] -> 40.89068 | N18: 98262
L19: Mecklenburgische Seenplatte | M19: =E7*1000/GrafikDaten_21.4[[#This Row],[Nachrichtlich: Bevölkerung am 30.09.2025]] -> 37.517112 | N19: 244715
L20: Landkreis Rostock | M20: =F7*1000/GrafikDaten_21.4[[#This Row],[Nachrichtlich: Bevölkerung am 30.09.2025]] -> 36.491273 | N20: 218518
L21: Vorpommern-Rügen | M21: =G7*1000/GrafikDaten_21.4[[#This Row],[Nachrichtlich: Bevölkerung am 30.09.2025]] -> 16.275957 | N21: 215164
L22: Nordwestmecklenburg | M22: =H7*1000/GrafikDaten_21.4[[#This Row],[Nachrichtlich: Bevölkerung am 30.09.2025]] -> 53.128199 | N22: 156320
L23: Vorpommern-Greifswald | M23: =I7*1000/GrafikDaten_21.4[[#This Row],[Nachrichtlich: Bevölkerung am 30.09.2025]] -> 24.975993 | N23: 223895
L24: Ludwigslust-Parchim | M24: =J7*1000/GrafikDaten_21.4[[#This Row],[Nachrichtlich: Bevölkerung am 30.09.2025]] -> 64.502761 | N24: 207526
L25: Mecklenburg-Vorpommern | M25: =B7*1000/GrafikDaten_21.4[[#This Row],[Nachrichtlich: Bevölkerung am 30.09.2025]] -> 38.68629 | N25: 1569083
L26: Deutschland | M26: ='21.3'!C6*1000/GrafikDaten_21.4[[#This Row],[Nachrichtlich: Bevölkerung am 30.09.2025]] -> 73.336542 | N26: 83497147
A36: Grafik 21.5 | L36: Daten der Grafik 21.5 "Industriedichte am 30. September 2025 im Ländervergleich"
L37: Bundesland | M37: Tätige Personen je 1.000 EW | N37: Nachrichtlich: Bevölkerung am 30.09.2025
L38: Baden-Württemberg | M38: ='21.3'!$C$7*1000/GrafikDaten_21.5[[#This Row],[Nachrichtlich: Bevölkerung am 30.09.2025]] -> 112.81679 | N38: 11242538
L39: Bayern | M39: ='21.3'!$C$8*1000/GrafikDaten_21.5[[#This Row],[Nachrichtlich: Bevölkerung am 30.09.2025]] -> 98.068047 | N39: 13254776
L40: Berlin | M40: ='21.3'!$C$9*1000/GrafikDaten_21.5[[#This Row],[Nachrichtlich: Bevölkerung am 30.09.2025]] -> 23.295383 | N40: 3695668
L41: Brandenburg | M41: ='21.3'!$C$10*1000/GrafikDaten_21.5[[#This Row],[Nachrichtlich: Bevölkerung am 30.09.2025]] -> 39.405896 | N41: 2553222
L42: Bremen | M42: ='21.3'!$C$11*1000/GrafikDaten_21.5[[#This Row],[Nachrichtlich: Bevölkerung am 30.09.2025]] -> 67.119359 | N42: 706145
L43: Hamburg | M43: ='21.3'!$C$12*1000/GrafikDaten_21.5[[#This Row],[Nachrichtlich: Bevölkerung am 30.09.2025]] -> 51.947927 | N43: 1867832
L44: Hessen | M44: ='21.3'!$C$13*1000/GrafikDaten_21.5[[#This Row],[Nachrichtlich: Bevölkerung am 30.09.2025]] -> 59.1957 | N44: 6278108
L45: Mecklenburg-Vorpommern | M45: ='21.3'!$C$14*1000/GrafikDaten_21.5[[#This Row],[Nachrichtlich: Bevölkerung am 30.09.2025]] -> 38.68629 | N45: 1569083
L46: Niedersachsen | M46: ='21.3'!$C$15*1000/GrafikDaten_21.5[[#This Row],[Nachrichtlich: Bevölkerung am 30.09.2025]] -> 69.400621 | N46: 8002205
L47: Nordrhein-Westfalen | M47: ='21.3'!$C$16*1000/GrafikDaten_21.5[[#This Row],[Nachrichtlich: Bevölkerung am 30.09.2025]] -> 65.440141 | N47: 18005065
L48: Rheinland-Pfalz | M48: ='21.3'!$C$17*1000/GrafikDaten_21.5[[#This Row],[Nachrichtlich: Bevölkerung am 30.09.2025]] -> 71.260008 | N48: 4124768
L49: Saarland | M49: ='21.3'!$C$18*1000/GrafikDaten_21.5[[#This Row],[Nachrichtlich: Bevölkerung am 30.09.2025]] -> 73.254359 | N49: 1008254
L50: Sachsen | M50: ='21.3'!$C$19*1000/GrafikDaten_21.5[[#This Row],[Nachrichtlich: Bevölkerung am 30.09.2025]] -> 67.697073 | N50: 4023719
L51: Sachsen-Anhalt | M51: ='21.3'!$C$20*1000/GrafikDaten_21.5[[#This Row],[Nachrichtlich: Bevölkerung am 30.09.2025]] -> 57.865423 | N51: 2122079
...

Sheet 21.3
A1: Link zum Inhaltsverzeichnis
A2: 21.3 Strukturdaten der Betriebe von Unternehmen mit im Allgemeinen 20 und mehr tätigen Personen 2025
A3: im Ländervergleich
A5: Land | B5: Betriebe am 30.09. | C5: Tätige Personen am 30.09. | D5: Industrie- dichte | E5: Entgelte in 1.000 EUR | F5: Umsatz in 1.000 EUR | G5: Exportquote in %
A6: Deutschland | B6: 46096 | C6: 6123392 | D6: 73.336542 | E6: 363625441 | F6: 2254523414 | G6: 51
A7: Baden-Württemberg | B7: 8452 | C7: 1268347 | D7: 112.81679 | E7: 81962153 | F7: 426264262 | G7: 58.2
A8: Bayern | B8: 8136 | C8: 1299870 | D8: 98.068047 | E8: 79362759 | F8: 486480947 | G8: 58.1
A9: Berlin | B9: 761 | C9: 86092 | D9: 23.295383 | E9: 5372708 | F9: 36039670 | G9: 49.5
A10: Brandenburg | B10: 1197 | C10: 100612 | D10: 39.405896 | E10: 5114854 | F10: 37409980 | G10: 47.9
A11: Bremen | B11: 264 | C11: 47396 | D11: 67.119359 | E11: 3250033 | F11: 38548744 | G11: 67
A12: Hamburg | B12: 463 | C12: 97030 | D12: 51.947927 | E12: 7325974 | F12: 105805095 | G12: 36
A13: Hessen | B13: 2553 | C13: 371637 | D13: 59.1957 | E13: 23167604 | F13: 130528685 | G13: 55
A14: Mecklenburg-Vorpommern | B14: 774 | C14: 60702 | D14: 38.68629 | E14: 2643573 | F14: 23899818 | G14: 45.1
A15: Niedersachsen | B15: 3755 | C15: 555358 | D15: 69.400621 | E15: 32367189 | F15: 249497693 | G15: 47.6
A16: Nordrhein-Westfalen | B16: 10085 | C16: 1178254 | D16: 65.440141 | E16: 68241724 | F16: 374605758 | G16: 45.3
A17: Rheinland-Pfalz | B17: 2234 | C17: 293931 | D17: 71.260008 | E17: 17241263 | F17: 102684779 | G17: 53.4
... A22: Thüringen | B22: 1525 | C22: 159849 | D22: 76.728343 | E22: 7148330 | F22: 40225048 | G22: 36.2
A24: Grafik 21.6 | I24: Daten der Grafik 21.6 "Exportquote 2025 im Ländervergleich"
I25: Bundesland | J25: Exportquote in %
I26: Baden-Württemberg | J26: =G7 -> 58.2
I27: Bayern | J27: =G8 -> 58.1
I28: Berlin | J28: =G9 -> 49.5
I29: Brandenburg | J29: =G10 -> 47.9
I30: Bremen | J30: =G11 -> 67
I31: Hamburg | J31: =G12 -> 36
I32: Hessen | J32: =G13 -> 55
I33: Mecklenburg-Vorpommern | J33: =G14 -> 45.1
I34: Niedersachsen | J34: =G15 -> 47.6
I35: Nordrhein-Westfalen | J35: =G16 -> 45.3
I36: Rheinland-Pfalz | J36: =G17 -> 53.4
I37: Saarland | J37: =G18 -> 46.7
... I41: Thüringen | J41: =G22 -> 36.2
I42: Deutschland | J42: =G6 -> 51

Sheet 21.4
A1: Link zum Inhaltsverzeichnis
A2: 21.4 Produktion der Betriebe von Unternehmen mit im Allgemeinen 20 und mehr tätigen Personen im Zeitvergleich
A3: nach Güterabteilungen
A5: Güter- verzeich- nis | B5: Güterabteilung | C5: Betriebe 2010 | D5: Produktions- wert 2010 in 1.000 EUR | E5: Betriebe 2020 | F5: Produktions- wert 2020 in 1.000 EUR | G5: Betriebe 2024 | H5: Produktions- wert 2024 in 1.000 EUR | I5: Betriebe 2025 | J5: Produktions- wert 2025 in 1.000 EUR
B6: Insgesamt | C6: x | D6: 10352988 | E6: x | F6: 13301713 | G6: x | H6: 15316087 | I6: x | J6: 16191989
A7: 05 | B7: Kohle | C7: - | D7: - | E7: - | F7: - | G7: - | H7: - | I7: - | J7: -
A8: 06 | B8: Erdöl und Erdgas | C8: 1 | D8: . | E8: 1 | F8: . | G8: 1 | H8: . | I8: 1 | J8: .
A9: 08 | B9: Steine und Erden, sonstige Bergbauerzeugnisse | C9: 20 | D9: 34684 | E9: 26 | F9: 64824 | G9: 32 | H9: 82452 | I9: 31 | J9: 84117
A10: 10 | B10: Nahrungs- und Futtermittel | C10: 164 | D10: 3066173 | E10: 153 | F10: 3910448 | G10: 138 | H10: 5144417 | I10: 136 | J10: 5282051
A11: 11 | B11: Getränke | C11: 14 | D11: 316491 | E11: 12 | F11: 328721 | G11: 13 | H11: 425121 | I11: 12 | J11: 375444
A12: 12 | B12: Tabakerzeugnisse | C12: 1 | D12: . | E12: 1 | F12: . | G12: 1 | H12: . | I12: 1 | J12: .
A13: 13 | B13: Textilien | C13: 7 | D13: 48261 | E13: 10 | F13: 91661 | G13: 10 | H13: 67170 | I13: 10 | J13: 73541
A14: 14 | B14: Bekleidung | C14: 1 | D14: . | E14: 1 | F14: . | G14: 1 | H14: . | I14: 1 | J14: .
A15: 15 | B15: Leder und Lederwaren | C15: 1 | D15: . | E15: 1 | F15: . | G15: 3 | H15: 41641 | I15: 2 | J15: .
A16: 16 | B16: Holz sowie Holz- und Kork- waren (ohne Möbel); Flecht- und Korbmacherwaren | C16: 29 | D16: 635374 | E16: 33 | F16: 888386 | G16: 41 | H16: 902559 | I16: 39 | J16: 930618
A17: 17 | B17: Papier, Pappe und Waren daraus | C17: 8 | D17: 97611 | E17: 9 | F17: 136204 | G17: 10 | H17: 166257 | I17: 9 | J17: 161377
A18: 18 | B18: Druckerzeugnisse, bespielte Ton-, Bild- und Datenträger | C18: 18 | D18: 181256 | E18: 20 | F18: 191361 | G18: 18 | H18: 193535 | I18: 16 | J18: 199211
A19: 19 | B19: Kokereierzeugnisse und Mineralölerzeugnisse | C19: 1 | D19: . | E19: 2 | F19: . | G19: 2 | H19: . | I19: 2 | J19: .
A20: 20 | B20: Chemische Erzeugnisse | C20: 19 | D20: 868534 | E20: 23 | F20: 644652 | G20: 20 | H20: 791128 | I20: 22 | J20: 829941
A21: 21 | B21: Pharmazeutische Erzeugnisse | C21: 3 | D21: 44776 | E21: 5 | F21: 160088 | G21: 6 | H21: 194149 | I21: 7 | J21: 209525
A22: 22 | B22: Gummi- und Kunststoffwaren | C22: 43 | D22: 355475 | E22: 48 | F22: 458664 | G22: 45 | H22: 440594 | I22: 45 | J22: 429448
A23: 23 | B23: Glas und Glaswaren, Keramik, bearbeitete Steine und Erden | C23: 73 | D23: 309352 | E23: 96 | F23: 458549 | G23: 100 | H23: 482874 | I23: 97 | J23: 509661
A24: 24 | B24: Metalle | C24: 7 | D24: 246059 | E24: 8 | F24: 366885 | G24: 8 | H24: 661373 | I24: 8 | J24: 679246
A25: 25 | B25: Metallerzeugnisse | C25: 130 | D25: 609897 | E25: 145 | F25: 664116 | G25: 132 | H25: 781626 | I25: 126 | J25: 752625
A26: 26 | B26: Datenverarbeitungsgeräte, elektronische und optische Erzeugnisse | C26: 11 | D26: 577378 | E26: 14 | F26: 183379 | G26: 15 | H26: 160945 | I26: 15 | J26: 162369
A27: 27 | B27: Elektrische Ausrüstungen | C27: 25 | D27: 490175 | E27: 31 | F27: 569221 | G27: 31 | H27: 620426 | I27: 30 | J27: 622023
A28: 28 | B28: Maschinen | C28: 59 | D28: 856686 | E28: 73 | F28: 1603376 | G28: 74 | H28: 1551190 | I28: 72 | J28: 1822019
A29: 29 | B29: Kraftwagen und Kraftwagen- teile | C29: 27 | D29: 496098 | E29: 27 | F29: 1053472 | G29: 22 | H29: 972705 | I29: 23 | J29: 940197
A30: 30 | B30: sonstige Fahrzeuge | C30: 29 | D30: 623672 | E30: 25 | F30: 588012 | G30: 25 | H30: 375172 | I30: 24 | J30: 521003
A31: 31 | B31: Möbel | C31: 18 | D31: 154443 | E31: 22 | F31: 196061 | G31: 19 | H31: 188265 | I31: 19 | J31: 178704
A32: 32 | B32: Waren, a. n. g. | C32: 32 | D32: 75255 | E32: 47 | F32: 301458 | G32: 48 | H32: 332739 | I32: 47 | J32: 420264
A33: 33 | B33: Reparatur, Instandhaltung und Installation von Ma- schinen und Ausrüstungen (einschließlich Wartung) | C33: 106 | D33: 257821 | E33: 108 | F33: 383364 | G33: 115 | H33: 600850 | I33: 113 | J33: 789023

Sheet 21.5
A1: Link zum Inhaltsverzeichnis
A2: 21.5 Bruttoanlageinvestitionen der Betriebe von Unternehmen mit 20 und mehr tätigen Personen im Zeitvergleich
A5: Merkmal | B5: Brutto- anlage- investi- tionen insgesamt in 1.000 EUR davon... | C5: ...Bebaute Grund- stücke und Bauten in 1.000 EUR | D5: ...Grund- stücke ohne Bauten in 1.000 EUR | E5: ...Maschinen, maschinelle Anlagen, Be- triebs- u. Ge- schäftsaus- stattungen in 1.000 EUR | F5: Je tätige Person in EUR | G5: Im Verhältnis zum Umsatz in %
A6: 2015 | B6: 476518 | C6: 88473 | D6: 2964 | E6: 385081 | F6: 8318 | G6: 3.3
A7: 2016 | B7: 599206 | C7: 86157 | D7: 9889 | E7: 503159 | F7: 10514 | G7: 4.1
A8: 2017 | B8: 508376 | C8: 87671 | D8: 6166 | E8: 414539 | F8: 8800 | G8: 3.3
A9: 2018 | B9: 619326 | C9: 116423 | D9: 4688 | E9: 498215 | F9: 9839 | G9: 4.2
A10: 2019 | B10: 626152 | C10: 100195 | D10: 9502 | E10: 516455 | F10: 9623 | G10: 4.1
A11: 2020 | B11: 452951 | C11: 97685 | D11: 5732 | E11: 349533 | F11: 7084 | G11: 3
A12: 2021 | B12: 495178 | C12: 51036 | D12: 3012 | E12: 441130 | F12: 7812 | G12: 2.8
A13: 2022 | B13: 539318 | C13: 62959 | D13: 3958 | E13: 472401 | F13: 8682 | G13: 3
A14: 2023 | B14: 648197 | C14: 101182 | D14: 9099 | E14: 537916 | F14: 10699 | G14: 3.1
A15: 2024 | B15: 689296 | C15: 76297 | D15: 1581 | E15: 611419 | F15: 11429 | G15: 2.9
A17: Grafik 21.7 | I17: Daten der Grafik 21.7 "Bruttoanlageinvestitionen im Zeitvergleich"
I18: Jahr | J18: Bebaute Grundstücke und Bauten in Mill. EUR | K18: Grundstücke ohne Bauten in Mill. EUR | L18: Maschinen, maschinelle Anlagen, Betriebs- u. Geschäftsausstattungen in Mill. EUR
I19: 2015 | J19: =C6/1000 -> 88.473 | K19: =D6/1000 -> 2.964 | L19: =E6/1000 -> 385.081
I20: 2016 | J20: =C7/1000 -> 86.157 | K20: =D7/1000 -> 9.889 | L20: =E7/1000 -> 503.159
I21: 2017 | J21: =C8/1000 -> 87.671 | K21: =D8/1000 -> 6.166 | L21: =E8/1000 -> 414.539
I22: 2018 | J22: =C9/1000 -> 116.423 | K22: =D9/1000 -> 4.688 | L22: =E9/1000 -> 498.215
I23: 2019 | J23: =C10/1000 -> 100.195 | K23: =D10/1000 -> 9.502 | L23: =E10/1000 -> 516.455
I24: 2020 | J24: =C11/1000 -> 97.685 | K24: =D11/1000 -> 5.732 | L24: =E11/1000 -> 349.533
I25: 2021 | J25: =C12/1000 -> 51.036 | K25: =D12/1000 -> 3.012 | L25: =E12/1000 -> 441.13
I26: 2022 | J26: =C13/1000 -> 62.959 | K26: =D13/1000 -> 3.958 | L26: =E13/1000 -> 472.401
I27: 2023 | J27: 101.182 | K27: 9.099 | L27: 537.916
I28: 2024 | J28: =C15/1000 -> 76.297 | K28: =D15/1000 -> 1.581 | L28: =E15/1000 -> 611.419
A38: Grafik 21.8
I39: Daten der Grafik 21.8 "Bruttoanlageinvestitionen je tätige Person 2024 nach Kreisen"
I40: Kreise | J40: Buttoanlage- invesititonen je tätige Person in EUR
I41: Rostock | J41: 13949
I42: Schwerin | J42: 21136
I43: Mecklenburgische Seenplatte | J43: 8613
I44: Landkreis Rostock | J44: 4034
I45: Vorpommern-Rügen | J45: 5057
I46: Nordwestmecklenburg | J46: 14766
I47: Vorpommern-Greifswald | J47: 16782
I48: Ludwigslust-Parchim | J48: 10870
I49: Mecklenburg-Vorpommern | J49: 11429

Sheet Methodik
A1: Link zum Inhaltsverzeichnis
A2: Methodik
A3: Zum Verarbeitenden Gewerbe gehören alle Unternehmen und Betriebe, deren wirtschaftliche Tätigkeit überwiegend darin besteht, Roh- oder Grundstoffe und Erzeugnisse zu be- oder verarbeiten, und zwar in der Regel mit dem Ziel, andere Produkte herzustellen. Die Tätigkeit kann auch darin bestehen, Erzeugnisse zu veredeln, zu montieren oder zu reparieren. Das Verarbeitende Gewerbe schließt in diesem Sinne auch die Tätigkeiten von Handwerksbetrieben und ‑unternehmen ein.
A4: Die Zuordnung der Unternehmen und Betriebe zu den Wirtschaftszweigen erfolgt ab Berichtsjahr 2008 anhand der "Klassifikation der Wirtschaftszweige, Ausgabe 2008" (WZ 2008) nach ihrer Haupttätigkeit, d. h. nach der Tätigkeit, die den größten Beitrag zur Wertschöp- fung des Unternehmens oder des Betriebes leistet.
A5: In den Bereichen Verarbeitendes Gewerbe sowie Bergbau und Gewinnung von Steinen und Erden werden monatliche, vierteljährliche und jährliche Erhebungen bei den Betrieben und Unternehmen durchgeführt. Die kurzfristigen Erhebungen, also der Monatsbericht für Betriebe und die monatliche und vierteljährliche Produktionserhebung, liefern aktuelle Daten für die Konjunkturanalyse und die Ausgangsdaten zur Berechnung von Indizes. Sie erfassen alle Betriebe des Verarbeiten- den Gewerbes sowie des Bergbaus mit 50 und mehr tätigen Personen. Bei der vierteljährlichen Produktionserhebung werden auch die kleineren Betriebe von Unternehmen mit im Allgemeinen 20 und mehr tätigen Personen befragt. Die jährlichen Erhebungen liefern Daten für die mittel- und langfristige Beobachtung von Wachstumsprozessen und Strukturveränderun- gen. Der Jahresbericht für Betriebe ergänzt den Monatsbericht für Betriebe. Der zusammengefasste Berichtskreis des Monats- und Jahres- berichtes für Betriebe umfasst - sämtliche Betriebe der Wirtschaftsbereiche Verarbeitendes Gewerbe sowie Bergbau und Gewinnung von Steinen und Erden, wenn diese Betriebe zu Unternehmen gehören, deren wirtschaftlicher Schwerpunkt in den Wirtschaftsbereichen Verarbeitendes Gewerbe sowie Bergbau und Gewinnung von Steinen und Erden liegt, und in diesen Unternehmen mindestens 20 Personen tätig sind, sowie - die Betriebe der Wirtschaftsbereiche Verarbeitendes Gewerbe sowie Bergbau und Gewinnung von Steinen und Erden mit mindestens 20 tätigen Personen, sofern diese Betriebe zu Unternehmen gehören, deren wirtschaftlicher Schwerpunkt außerhalb der Wirtschaftsbe- reiche Verarbeitendes Gewerbe sowie Bergbau und Gewinnung von Steinen und Erden liegt.
A6: Bei folgenden kleinbetrieblich strukturierten Branchen wurde die Erfassungsgrenze auf 10 und mehr tätige Personen herabgesetzt (Klassen der WZ 2008):
A7: 08.11 - Gewinnung von Naturwerksteinen und Natursteinen, Kalk- und Gipsstein, Kreide und Schiefer 08.12 - Gewinnung von Kies und Sand, Ton und Kaolin 10.91 - Herstellung von Futtermitteln für Nutztiere 10.92 - Herstellung von Futtermitteln für sonstige Tiere 11.06 - Herstellung von Malz 16.10 - Sägewerke innerhalb des Wirtschaftszweiges "Säge-, Hobel- und Holzimprägnierwerke" 23.63 - Herstellung von Frischbeton (Transportbeton).
A8: Die Ergebnisse der jährlichen Investitionserhebung im Verarbeitenden Gewerbe sowie Bergbau und Gewinnung von Steinen und Erden umfassen den Berichtskreis wie oben beschrieben, aber ohne die Herabsetzung der Erfassungsgrenze für bestimmte Branchen. Sie bezie- hen sich auf das Geschäftsjahr.
A9: Die Rechtsgrundlagen und tiefergehende methodische Erläuterungen entnehmen Sie bitte den angegebenen Statistischen Berichten, ein- schließlich der Qualitätsberichte (siehe "Mehr zum Thema").

Sheet Glossar
A1: Link zum Inhaltsverzeichnis
A2: Glossar
A3: Als Auslandsumsatz gelten die Erlöse für alle direkten Lieferungen und Leistungen an Empfängerinnen bzw. Empfänger, die im Ausland ansässig sind, sowie Lieferungen an inländische Firmen, die als Exporteurinnen und Exporteure die bestellten Waren ohne Be- und Verar- beitung in das Ausland ausführen (Umsätze mit deutschen Exporteurinnen und Exporteuren).
A4: Ein Betrieb ist eine örtlich getrennte Niederlassung eines Unternehmens. Dazu zählen örtlich getrennte Produktions-, Verwaltungs- und Hilfsbetriebe (z. B. für Montage, Reparaturen, Verpackungsmittelherstellung), ferner mit dem Betrieb örtlich verbundene oder in dessen Nähe liegende Verwaltungs- und Hilfsbetriebsteile.
A5: Bruttoanlageinvestitionen sind aktivierte Bruttozugänge an Sachanlagen, bewertet zu Anschaffungs- bzw. Herstellungskosten ohne Ab- zug von Abschreibungen.
A6: Als Entgelte gilt die Bruttosumme der Bar- und Sachbezüge aller tätigen Personen. Sie enthalten alle Arten von Zuschlägen (z. B. für Akkord- oder Schichtarbeit), Vergütungen und Gratifikationen. Nicht einbezogen sind die Pflichtbeiträge der Arbeitgeberin bzw. des Arbeitgebers zur Sozialversicherung sowie andere Aufwendungen, die kein Arbeitseinkommen darstellen (z. B. Kantinenzuschuss, Spesen- ersatz).
A7: Die Exportquote ist der Anteil des Auslandsumsatzes am Gesamtumsatz.
A8: Produktion: Ausgewiesen wird der Wert der abgesetzten bzw. zum Absatz bestimmten Produktion. Grundlage der Zuordnung ist das "Güterverzeichnis für Produktionsstatistiken, Ausgabe 2019 (GP 2019)". Die zum Absatz bestimmte Produktion umfasst im Allgemeinen den verkaufsfähigen, für den Markt vorgesehenen Produktionsausstoß (ohne Handelsware und nur umgepackte Ware) sowie den Eigen- verbrauch. Dem Wert der zum Absatz bestimmten Produktion (Produktionswert) liegen die erzielten oder zum Zeitpunkt des Absatzes er- zielbaren Verkaufspreise ab Werk einschließlich Verpackung zugrunde. Nicht einbezogen sind dagegen die in Rechnung gestellte Umsatz- bzw. Mehrwertsteuer und die Verbrauchsteuern sowie gesondert in Rechnung gestellte Frachtkosten und Rabatte.
A9: Zu den tätigen Personen zählen tätige Inhaberinnen bzw. Inhaber sowie Mitinhaberinnen bzw. Mitinhaber, mithelfende Familienangehö- rige, die mindestens ein Drittel der branchenüblichen Arbeitszeiten im Betrieb/Unternehmen tätig sind, in einem vertraglichen Arbeits- bzw. Dienstverhältnis zum Betrieb/Unternehmen stehende Personen (auch Praktikantinnen und Praktikanten sowie Auszubildende), Heimarbeiterinnen und Heimarbeiter, die auf einer Entgeltliste geführt werden und an andere Unternehmen gegen Entgelt überlassene Mitarbeiterinnen und Mitarbeiter. Solange das Arbeitsverhältnis nicht gelöst ist, zählen zu den tätigen Personen z. B. auch Personen in Altersteilzeit sowie Erkrankte, Urlauberinnen und Urlauber sowie im Mutterschutz oder in der Elternzeit (weniger als ein Jahr) befindliche Personen und alle sonstigen vorübergehend Abwesenden.
A10: Als Umsatz gilt (unabhängig von Zahlungseingang oder Liefertermin) die Summe aller Rechnungsendbeträge (ohne Umsatzsteuer) der im Berichtsmonat abgerechneten Lieferungen und Leistungen an Dritte, einschließlich der darin enthaltenen Verbrauchsteuern sowie der Kosten für Fracht, Porto und Verpackung. Nicht berücksichtigt werden sofort gewährte Preisnachlässe (z. B. Rabatte) sowie Lieferungen und Leistungen zwischen Betrieben des- selben Unternehmens.
A11: Abkürzungsverzeichnis a. n. g. Anderweitig nicht genannt H. v. Herstellung von

Sheet Mehr zum Thema
A1: Link zum Inhaltsverzeichnis
A2: Mehr zum Thema
A3: Weitere Informationen zum Thema finden Sie auf der Website des Statistischen Amtes Mecklenburg-Vorpommern
A4: > https://www.laiv-mv.de/statistik/
A5: Statistische Berichte Mecklenburg-Vorpommern
A6: > E113 | B6: Monatsmeldung zu Beschäftigung und Umsatz der Betriebe mit 50 und mehr tätigen Personen (vorläufige Ergebnisse)
A7: > E113J | B7: Monatsmeldung zu Beschäftigung und Umsatz der Betriebe mit 50 und mehr tätigen Personen (endgültige Ergebnisse)
A8: > E123 | B8: Beschäftigung und Umsatz der Betriebe von Unternehmen mit 20 und mehr tätigen Personen (Jahresergebnis)
A9: Qualitätsberichte Statistisches Bundesamt
A10: > Verarbeitendes Gewerbe
A11: Fachliche Informationen
A12: Frauke Kusenack, Telefon: 0385 588-56043, frauke.kusenack@statistik-mv.de
A13: Quellenangaben
A14: Tabelle 21.3 sowie Daten der Grafiken 21.3 und 21.5: Statistisches Bundesamt, GENESIS-Online, Code 42271-0010
