Workbook
Name _GrafikDaten_2.1: Titelblatt!$C$21:$E$27
Name _GrafikDaten_2.10: '2.3.7'!$I$23:$J$41
Name _GrafikDaten_2.11: '2.4.1+2.4.2'!$H$21:$J$25
Name _GrafikDaten_2.2: 'Überblick in Grafiken'!$C$3:$H$36
Name _GrafikDaten_2.3: 'Überblick in Grafiken'!$C$42:$E$46
Name _GrafikDaten_2.4: '2.1.1'!$L$40:$P$46
Name _GrafikDaten_2.5: '2.1.2+2.1.3'!$H$13:$J$19
Name _GrafikDaten_2.6: '2.1.4+2.1.5'!$J$15:$O$18
Name _GrafikDaten_2.7: '2.1.6'!$H$23:$I$41
Name _GrafikDaten_2.8: '2.2.1'!$I$33:$M$42
Name _GrafikDaten_2.9: '2.3.1'!$I$39:$L$74
Name _Tabelle_2.1.1: '2.1.1'!$A$3:$J$38
Name _Tabelle_2.1.2: '2.1.2+2.1.3'!$A$3:$F$11
Name _Tabelle_2.1.3: '2.1.2+2.1.3'!$A$38:$E$53
Name _Tabelle_2.1.4: '2.1.4+2.1.5'!$A$3:$G$13
Name _Tabelle_2.1.5: '2.1.4+2.1.5'!$A$30:$H$55
Name _Tabelle_2.1.6: '2.1.6'!$A$3:$F$21
Name _Tabelle_2.2.1: '2.2.1'!$A$3:$G$31
Name _Tabelle_2.2.2: '2.2.2'!$A$3:$I$32
Name _Tabelle_2.3.1: '2.3.1'!$A$3:$G$38
Name _Tabelle_2.3.2: '2.3.2'!$A$3:$F$45
Name _Tabelle_2.3.3: '2.3.3'!$A$3:$G$59
Name _Tabelle_2.3.4: '2.3.4'!$A$3:$I$54
Name _Tabelle_2.3.5: '2.3.5+2.3.6'!$A$3:$G$19
Name _Tabelle_2.3.6: '2.3.5+2.3.6'!$A$22:$G$38
Name _Tabelle_2.3.7: '2.3.7'!$A$3:$G$21
Name _Tabelle_2.4.1: '2.4.1+2.4.2'!$A$3:$F$19
Name _Tabelle_2.4.2: '2.4.1+2.4.2'!$A$35:$E$53
Name _Tabelle_2.5.1: '2.5.1'!$A$3:$K$57
Name _Tabelle_2.5.2: '2.5.2+2.5.3'!$A$3:$L$50
Name _Tabelle_2.5.3: '2.5.2+2.5.3'!$A$52:$L$55

Sheet Titelblatt
A1: Titelblatt des Kapitels 2 "Privathaushalte und Familien": Link zum Inhaltsverzeichnis
A2: 2 | Privathaushalte und Familien
A20: Grafik 2.1
C21: Daten der Grafik 2.1 "Bevölkerung in Hauptwohnsitzhaushalten 2024 nach Altersgruppen und Geschlecht"
C22: Altersgruppen | D22: Männlich (Insgesamt = 100 %) | E22: Weiblich (Insgesamt = 100 %)
C23: Unter 25 | D23: ='2.2.1'!B15*100/'2.2.1'!B14 -> 22.852279 | E23: ='2.2.1'!B24*100/Tabelle_2.2.1[[#This Row],[Haushalts- mitglieder insgesamt]] -> 20.873848
C24: 25 bis unter 45 | D24: =('2.2.1'!B16+'2.2.1'!B17)*100/'2.2.1'!B14 -> 22.87847 | E24: =('2.2.1'!B25+'2.2.1'!B26)*100/'2.2.1'!B23 -> 20.949615
C25: 45 bis unter 65 | D25: =('2.2.1'!B18+'2.2.1'!B19)*100/'2.2.1'!B14 -> 30.264536 | E25: =('2.2.1'!B27+'2.2.1'!B28)*100/'2.2.1'!B23 -> 28.753631
C26: 65 bis unter 75 | D26: ='2.2.1'!B20*100/'2.2.1'!B14 -> 14.641173 | E26: ='2.2.1'!B29*100/'2.2.1'!B23 -> 16.062634
C27: 75 und mehr | D27: =('2.2.1'!B21+'2.2.1'!B22)*100/'2.2.1'!B14 -> 9.376637 | E27: =('2.2.1'!B30+'2.2.1'!B31)*100/'2.2.1'!B23 -> 13.372901

Sheet Inhalt
A1: Inhaltsverzeichnis des Kapitels 2 "Privathaushalte und Familien": Die Gliederungen und Überschriften auf dieser Seite sind Links zum Inhalt.
A2: Inhaltsverzeichnis | C2: Seite
A3: Überblick | B3: Überblick in Grafiken | C3: =D3+52 -> 55 | D3: 3
B4: Überblick in Worten | C4: =D4+52 -> 56 | D4: 4
A5: Ergebnisse in Tabellen
A6: 2.1 | B6: Privathaushalte und Hauptwohnsitzhaushalte
A7: 2.1.1 | B7: Privathaushalte im Zeitvergleich nach Haushaltsgröße | C7: =D7+52 -> 57 | D7: 5
A8: 2.1.2 | B8: Struktur der Privathaushalte im Zeitvergleich (Bevölkerung an Hauptwohnsitzhaushalten) | C8: =D8+52 -> 58 | D8: 6
A9: 2.1.3 | B9: Privathaushalte 2024 nach Anzahl der Haushaltsmitglieder | C9: =D9+52 -> 58 | D9: 6
A10: 2.1.4 | B10: Hauptwohnsitzhaushalte 2024 nach dem Alter der Haupteinkommensperson | C10: =D10+52 -> 59 | D10: 7
A11: 2.1.5 | B11: Einpersonenhaushalte im Zeitvergleich nach Altersgruppen | C11: =D11+52 -> 59 | D11: 7
A12: 2.1.6 | B12: Hauptwohnsitzhaushalte 2024 im Ländervergleich | C12: =D12+52 -> 60 | D12: 8
A13: 2.2 | B13: Bevölkerung in Hauptwohnsitzhaushalten
A14: 2.2.1 | B14: Bevölkerung in Hauptwohnsitzhaushalten 2024 nach Altersgruppen | C14: =D14+52 -> 61 | D14: 9
A15: 2.2.2 | B15: Bevölkerung in Hauptwohnsitzhaushalten 2024 nach überwiegendem Lebensunterhalt und monatlichem Nettoeinkommen des Haushalts | C15: =D15+52 -> 62 | D15: 10
A16: 2.3 | B16: Familien
A17: 2.3.1 | B17: Familien und Kinder in Familien im Zeitvergleich | C17: =D17+52 -> 63 | D17: 11
A18: 2.3.2 | B18: Familien und Familienmitglieder 2024 nach Familientyp und Zahl der ledigen Kinder in der Familie | C18: =D18+52 -> 64 | D18: 12
A19: 2.3.3 | B19: Familien 2024 nach Zahl der ledigen Kinder und deren Altersgruppen | C19: =D19+52 -> 65 | D19: 13
A20: 2.3.4 | B20: Familien 2024 nach Zahl der ledigen Kinder und monatlichem Nettoeinkommen der Familie | C20: =D20+52 -> 66 | D20: 14
A21: 2.3.5 | B21: Familien 2024 nach Zahl der ledigen Kinder und der Beteiligung am Erwerbsleben | C21: =D21+52 -> 67 | D21: 15
A22: 2.3.6 | B22: Familien mit Kindern unter 18 Jahren 2024 nach Zahl der ledigen Kinder und Beteiligung am Erwerbsleben | C22: =D22+52 -> 67 | D22: 15
A23: 2.3.7 | B23: Familien 2024 im Ländervergleich | C23: =D23+52 -> 68 | D23: 16
A24: 2.4 | B24: Kinder
A25: 2.4.1 | B25: Ledige Kinder in der Familie 2024 nach Altersgruppen, Zahl der ledigen Geschwister in der Familie und Familientyp | C25: =D25+52 -> 69 | D25: 17
A26: 2.4.2 | B26: Ledige Kinder in der Familie 2024 nach Familientyp im Ländervergleich | C26: =D26+52 -> 69 | D26: 17
A27: 2.5 | B27: Kirchliche Verhältnisse
A28: 2.5.1 | B28: Evangelische Kirche im Zeitvergleich | C28: =D28+52 -> 70 | D28: 18
A29: 2.5.2 | B29: Römisch-Katholische Kirche im Zeitvergleich | C29: =D29+52 -> 71 | D29: 19
A30: 2.5.3 | B30: Jüdische Gemeinden im Zeitvergleich | C30: =D30+52 -> 71 | D30: 19
A31: Ergebnisse in Grafiken
A32: 2.1 | B32: Bevölkerung in Hauptwohnsitzhaushalten 2024 nach Altersgruppen und Geschlecht | C32: =D32+52 -> 53 | D32: 1
A33: 2.2 | B33: Entwicklung der Privathaushalte nach Haushaltsgröße | C33: =D33+52 -> 55 | D33: 3
A34: 2.3 | B34: Familien 1991 und 2024 nach Zahl der Kinder im Haushalt | C34: =D34+52 -> 55 | D34: 3
A35: 2.4 | B35: Privathaushalte im Zeitvergleich nach Haushaltsgröße | C35: =D35+52 -> 57 | D35: 5
A36: 2.5 | B36: Struktur der Privathaushalte 1991 und 2024 | C36: =D36+52 -> 58 | D36: 6
A37: 2.6 | B37: Hauptwohnsitzhaushalte 2024 nach dem Alter der Haupteinkommensperson | C37: =D37+52 -> 59 | D37: 7
A38: 2.7 | B38: Haushaltsmitglieder je Haushalt 2024 im Ländervergleich | C38: =D38+52 -> 60 | D38: 8
A39: 2.8 | B39: Bevölkerung in Hauptwohnsitzhaushalten 2024 nach Altersgruppen | C39: =D39+52 -> 61 | D39: 9
A40: 2.9 | B40: Kinder in Familien im Zeitvergleich | C40: =D40+52 -> 63 | D40: 11
A41: 2.10 | B41: Familienmitglieder je Familie 2024 im Ländervergleich | C41: =D41+52 -> 68 | D41: 16
A42: 2.11 | B42: Ledige Kinder in der Familie 2024 nach Zahl der Geschwister | C42: =D42+52 -> 69 | D42: 17
A43: Erläuterungen
A44: Fußnotenerläuterungen | C44: =D44+52 -> 72 | D44: 20
A45: Methodik | C45: =D45+52 -> 73 | D45: 21
A46: Glossar | C46: =D46+52 -> 74 | D46: 22
A47: Mehr zum Thema | C47: =D47+52 -> 75 | D47: 23

Sheet Überblick in Grafiken
A1: Link zum Inhaltsverzeichnis
A2: Überblick in Grafiken
A3: Grafik 2.2 | C3: Daten der Grafik 2.2 "Entwicklung der Privathaushalte nach Haushaltsgröße"
C4: Jahr | D4: Haushalte mit 1 Person | E4: Haushalte mit 2 Personen | F4: Haushalte mit 3 Personen | G4: Haushalte mit 4 Personen | H4: Haushalte mit 5 Personen und mehr
C5: 1991 | D5: 179800 | E5: 208800 | F5: 158100 | G5: 150500 | H5: 45200
C6: 1992 | D6: 176700 | E6: 215800 | F6: 153300 | G6: 148200 | H6: 42700
C7: 1993 | D7: 190000 | E7: 227500 | F7: 148500 | G7: 143200 | H7: 37600
C8: 1994 | D8: 201100 | E8: 241100 | F8: 146400 | G8: 132900 | H8: 35600
C9: 1995 | D9: 208000 | E9: 244200 | F9: 150400 | G9: 123400 | H9: 35000
C10: 1996 | D10: 218300 | E10: 245700 | F10: 143300 | G10: 122000 | H10: 35300
C11: 1997 | D11: 218200 | E11: 250800 | F11: 139100 | G11: 120900 | H11: 35600
C12: 1998 | D12: 234200 | E12: 254500 | F12: 138200 | G12: 117200 | H12: 31300
C13: 1999 | D13: 254700 | E13: 266100 | F13: 138100 | G13: 110200 | H13: 28600
C14: 2000 | D14: 280000 | E14: 274800 | F14: 140200 | G14: 96800 | H14: 28300
C15: 2001 | D15: 294200 | E15: 281300 | F15: 133900 | G15: 93300 | H15: 25500
C16: 2002 | D16: 291500 | E16: 292700 | F16: 135600 | G16: 84700 | H16: 25300
... C36: 2022 | D36: 358400 | E36: 318600 | F36: 95900 | G36: 59400 | H36: 21900
A37: Grafik 2.3 | C37: 2023 | D37: 356100 | E37: 303300 | F37: 95600 | G37: 57300 | H37: 21100
C38: 2024 | D38: =Tabelle_2.1.1[[#This Row],[Ein- personen- haushalte]] -> 355700 | E38: =Tabelle_2.1.1[[#This Row],[Zwei- personen- haushalte]] -> 301500 | F38: =Tabelle_2.1.1[[#This Row],[Drei- personen- haushalte]] -> 93600 | G38: =Tabelle_2.1.1[[#This Row],[Vier- personen- haushalte]] -> 59100 | H38: =Tabelle_2.1.1[[#This Row],[Haushalte mit 5 oder mehr Personen]] -> 19300
C42: Daten der Grafik 2.3 "Familien 1991 und 2024 nach Zahl der Kinder im Haushalt"
C43: Familien mit … Kindern | D43: 1991 (Insgesamt = 100 %) | E43: 2024
C44: 1 Kind | D44: 48.7 | E44: ='2.3.3'!C5*100/'2.3.3'!B5 -> 57.692308
C45: 2 Kindern | D45: 41 | E45: ='2.3.3'!D5*100/'2.3.3'!B5 -> 32.570594
C46: 3 und mehr Kindern | D46: 10.3 | E46: ='2.3.3'!E5*100/'2.3.3'!B5 -> 9.7370983

Sheet Überblick in Worten
A1: Link zum Inhaltsverzeichnis
A2: Überblick in Worten
A3: § | B3: Im Jahresdurchschnitt 2024 lebten 1.549.600 Personen in 812.900 Privathaushalten mit Hauptwohnsitz in Mecklenburg- Vorpommern.
A4: § | B4: Die durchschnittliche Größe von Haushalten mit Hauptwohnsitz im Land lag 2024 bei 1,91 Personen je Haushalt und damit unter dem Bundesdurchschnitt von 2,01 Personen je Haushalt.
A5: § | B5: 345.200 Haushalte waren Einpersonenhaushalte. Damit bestand fast jeder zweite Hauptwohnsitzhaushalt aus nur einer Person (42,5 Prozent).
A6: § | B6: Der Anteil der Zweipersonenhaushalte lag 2024 im Land bei 36,5 Prozent. 11,5 Prozent waren Dreipersonenhaushalte und 7,2 Prozent Vierpersonenhaushalte. Mit 2,4 Prozent machten die Haushalte mit mindestens fünf Mitgliedern den kleinsten Teil aus.
A7: § | B7: Ihren Lebensunterhalt bestritten 44,2 Prozent der Bevölkerung in Hauptwohnsitzhaushalten überwiegend aus eigener Erwerbstätigkeit und 29,4 Prozent überwiegend aus Rente oder Pension. Auf Arbeitslosengeld I bzw. Bürgergeld für den Lebensunterhalt waren 4,8 Prozent der Bevölkerung angewiesen.
A8: § | B8: "Familie ist dort, wo Kinder sind". Nach dieser vereinfacht formulierten Abgrenzung des Familienbegriffs im Mikrozensus lebten im Land im Jahresdurchschnitt 2024 insgesamt 205.400 Familien. Dazu gehörten 109.300 Ehepaare mit Kindern, 35.800 Lebensgemeinschaften mit Kindern sowie 60.300 Alleinerziehende.
A9: § | B9: 86,9 Prozent der Ehepaare mit Kindern hatten ein monatliches Nettoeinkommen von 3.000 EUR und mehr. 2022 lag ihr Anteil bei 79,4 Prozent, 2020 bei 69,7 Prozent. Zeitgleich ging der Anteil der Alleinerziehenden, die weniger als 2.500 EUR Nettohaushaltseinkommen hatten, von 69,8 Prozent (2020) über 63,7 Prozent (2022) auf 49,1 Prozent (2024) zurück.
A10: § | B10: Von den rund 60.300 Alleinerziehenden im Land waren rund 50.000 Mütter (82,9 Prozent).
A11: § | B11: Von den 317.900 ledigen Kindern in Familien lebten 26,5 Prozent bei alleinerziehenden Müttern und Vätern.
A12: § | B12: Über die Hälfte der Familien (57,7 Prozent) waren Ein-Kind-Familien. In 9,7 Prozent der Familien lebten 2024 drei oder mehr Kinder.
A13: § | B13: Mit Geschwistern im Familienhaushalt lebten 62,7 Prozent der Kinder.

Sheet 2.1.1
A1: Link zum Inhaltsverzeichnis
A2: 2.1 Privathaushalte und Hauptwohnsitzhaushalte
A3: 2.1.1 Privathaushalte im Zeitvergleich nach Haushaltsgröße
A4: Jahr | B4: Privat- haushalte insgesamt | C4: Ein- personen- haushalte | D4: Zwei- personen- haushalte | E4: Drei- personen- haushalte | F4: Vier- personen- haushalte | G4: Haushalte mit 5 oder mehr Personen | H4: Mehr- personen- haushalte | I4: Personen je Haushalt | J4: Nachrichtlich: Personen je Haushalt in Deutschland
A5: 1991 | B5: 742500 | C5: 179800 | D5: 208800 | E5: 158100 | F5: 150500 | G5: 45200 | H5: 562700 | I5: 2.58 | J5: 2.27
A6: 1992 | B6: 736700 | C6: 176700 | D6: 215800 | E6: 153300 | F6: 148200 | G6: 42700 | H6: 560000 | I6: 2.56 | J6: 2.26
A7: 1993 | B7: 746900 | C7: 190000 | D7: 227500 | E7: 148500 | F7: 143200 | G7: 37600 | H7: 556900 | I7: 2.49 | J7: 2.25
A8: 1994 | B8: 757100 | C8: 201100 | D8: 241100 | E8: 146400 | F8: 132900 | G8: 35600 | H8: 556000 | I8: 2.43 | J8: 2.23
A9: 1995 | B9: 760800 | C9: 208000 | D9: 244200 | E9: 150400 | F9: 123200 | G9: 35000 | H9: 552800 | I9: 2.4 | J9: 2.22
A10: 1996 | B10: 764600 | C10: 218300 | D10: 245700 | E10: 143300 | F10: 122000 | G10: 35300 | H10: 546300 | I10: 2.37 | J10: 2.2
A11: 1997 | B11: 764600 | C11: 218200 | D11: 250800 | E11: 139100 | F11: 120900 | G11: 35600 | H11: 546400 | I11: 2.37 | J11: 2.2
A12: 1998 | B12: 775400 | C12: 234200 | D12: 254500 | E12: 138200 | F12: 117200 | G12: 31300 | H12: 541200 | I12: 2.31 | J12: 2.19
A13: 1999 | B13: 797600 | C13: 254700 | D13: 266100 | E13: 138100 | F13: 110200 | G13: 28600 | H13: 542900 | I13: 2.25 | J13: 2.18
A14: 2000 | B14: 820100 | C14: 280000 | D14: 274800 | E14: 140200 | F14: 96800 | G14: 28300 | H14: 540100 | I14: 2.18 | J14: 2.16
A15: 2001 | B15: 828100 | C15: 294200 | D15: 281300 | E15: 133900 | F15: 93300 | G15: 25500 | H15: 533900 | I15: 2.13 | J15: 2.15
A16: 2002 | B16: 829900 | C16: 291500 | D16: 292700 | E16: 135600 | F16: 84700 | G16: 25300 | H16: 538400 | I16: 2.12 | J16: 2.14
... A24: 2010 | B24: 853100 | C24: 344300 | D24: 320000 | E24: 117600 | F24: 56200 | G24: 15000 | H24: 508800 | I24: 1.92 | J24: 2.03
A25: 2011 1) | B25: 830400 | C25: 334300 | D25: 309900 | E25: 115900 | F25: 55100 | G25: 15200 | H25: 496100 | I25: 1.93 | J25: 2.03
A26: 2012 | B26: 835500 | C26: 338800 | D26: 318700 | E26: 110900 | F26: 51400 | G26: 15700 | H26: 496700 | I26: 1.92 | J26: 2.02
A27: 2013 | B27: 827900 | C27: 336300 | D27: 313900 | E27: 107600 | F27: 53900 | G27: 16200 | H27: 491600 | I27: 1.92 | J27: 2.02
A28: 2014 | B28: 828800 | C28: 334900 | D28: 316900 | E28: 105100 | F28: 55300 | G28: 16600 | H28: 493900 | I28: 1.92 | J28: 2.01
A29: 2015 | B29: 837000 | C29: 340700 | D29: 323800 | E29: 99000 | F29: 56300 | G29: 17200 | H29: 496300 | I29: 1.91 | J29: 2
A30: 2016 | B30: 838400 | C30: 339800 | D30: 321900 | E30: 101900 | F30: 57800 | G30: 17000 | H30: 498600 | I30: 1.92 | J30: 2.01
A31: 2017 | B31: 825700 | C31: 334700 | D31: 315200 | E31: 97400 | F31: 59000 | G31: 19400 | H31: 491000 | I31: 1.93 | J31: 2
A32: 2018 | B32: 830400 | C32: 346700 | D32: 313400 | E32: 91200 | F32: 56800 | G32: 22300 | H32: 483600 | I32: 1.92 | J32: 1.99
A33: 2019 | B33: 836700 | C33: 354700 | D33: 307300 | E33: 96300 | F33: 57100 | G33: 21300 | H33: 482000 | I33: 1.91 | J33: 1.99
A34: 2020 | B34: 833400 | C34: 342800 | D34: 315500 | E34: 96100 | F34: 59700 | G34: 19300 | H34: 490600 | I34: 1.9218033 | J34: 2.02
A35: 2021 | B35: 843200 | C35: 351100 | D35: 319500 | E35: 91500 | F35: 61600 | G35: 19500 | H35: 492100 | I35: 1.9150467 | J35: 2.03
A36: 2022 | B36: 854300 | C36: 358400 | D36: 318600 | E36: 95900 | F36: 59400 | G36: 21900 | H36: 495900 | I36: 1.92 | J36: 2.02
A37: 2023 2) | B37: 833500 | C37: 356100 | D37: 303300 | E37: 95600 | F37: 57300 | G37: 21100 | H37: 477300 | I37: 1.91 | J37: 2.01
A38: 2024 | B38: 829300 | C38: 355700 | D38: 301500 | E38: 93600 | F38: 59100 | G38: 19300 | H38: 473600 | I38: 1.9 | J38: 2
A40: Grafik 2.4 | L40: Daten der Grafik 2.4 "Privathaushalte im Zeitvergleich nach Haushaltsgröße"
L41: Haushalte mit … Personen | M41: 1991 | N41: 2011 | O41: 2020 | P41: 2024
L42: 1 | M42: 179800 | N42: 334300 | O42: 342800 | P42: =C38 -> 355700
L43: 2 | M43: 208800 | N43: 309900 | O43: 315500 | P43: =D38 -> 301500
L44: 3 | M44: 158100 | N44: 115900 | O44: 96100 | P44: =E38 -> 93600
L45: 4 | M45: 150500 | N45: 55100 | O45: 59700 | P45: =F38 -> 59100
L46: 5 und mehr | M46: 45200 | N46: 15200 | O46: 19300 | P46: =G38 -> 19300

Sheet 2.1.2+2.1.3
A1: Link zum Inhaltsverzeichnis
A2: 2.1 Privathaushalte und Hauptwohnsitzhaushalte
A3: 2.1.2 Struktur der Privathaushalte im Zeitvergleich (Bevölkerung an Hauptwohnsitzhaushalten)
A4: Haushaltsgröße | B4: April 1991 in % | C4: Jahresdurchschnitt 2011 in % | D4: Jahresdurchschnitt 2020 in % | E4: Jahresdurchschnitt 2024 in % | F4: Nachrichtlich: Deutschland 2024 in %
A5: Insgesamt | B5: 100 | C5: 100 | D5: 100 | E5: 100 | F5: 100
A6: davon Haushalte mit …
A7: 1 Person | B7: 24.2 | C7: 40.3 | D7: 41.1 | E7: 42.5 | F7: 42.3
A8: 2 Personen | B8: 28.1 | C8: 37.3 | D8: 37.9 | E8: 36.5 | F8: 32.8
A9: 3 Personen | B9: 21.3 | C9: 14.035727 | D9: 11.5 | E9: 11.5 | F9: 11.7
A10: 4 Personen | B10: 20.26936 | C10: 6.6 | D10: 7.2 | E10: 7.2 | F10: 9.4
A11: 5 und mehr Personen | B11: 6.0875421 | C11: 1.847126 | D11: 2.3 | E11: 2.4 | F11: 3.8
A13: Grafik 2.5 | H13: Daten der Grafik 2.5 "Struktur der Privathaushalte"
H14: Haushalte mit … | I14: 1991 | J14: 2024
H15: 1 Person | I15: 24.2 | J15: =E7 -> 42.5
H16: 2 Personen | I16: 28.1 | J16: =E8 -> 36.5
H17: 3 Personen | I17: 21.3 | J17: =E9 -> 11.5
H18: 4 Personen | I18: 20.3 | J18: =E10 -> 7.2
H19: 5 und mehr Personen | I19: 6.1 | J19: =E11 -> 2.4
A38: 2.1.3 Privathaushalte 2024 nach Anzahl der Haushaltsmitglieder
A39: Haushaltsgröße | B39: Haushalte | C39: Haushalte in % | D39: Haushaltsmitglieder | E39: Haushaltsmitglieder in %
A40: Insgesamt | B40: 829300 | C40: 100 | D40: 1579500 | E40: 100
A41: davon Haushalte mit ...
A42: 1 Person | B42: 355700 | C42: 42.9 | D42: 355700 | E42: 22.5
A43: 2 Personen | B43: 301500 | C43: 36.4 | D43: 603100 | E43: 38.2
A44: 3 Personen | B44: 93600 | C44: 11.3 | D44: 280700 | E44: 17.8
A45: 4 Personen | B45: 59100 | C45: 7.1 | D45: 236400 | E45: 15
A46: 5 Personen und mehr | B46: 19300 | C46: 2.3 | D46: 103600 | E46: 6.6
A47: darunter am Hauptwohnsitz | B47: 812900 | C47: 100 | D47: 1555600 | E47: 100
A48: davon Haushalte mit ...
A49: 1 Person | B49: 345200 | C49: 42.5 | D49: 345200 | E49: 22.2
A50: 2 Personen | B50: 296700 | C50: 36.5 | D50: 593300 | E50: 38.1
A51: 3 Personen | B51: 93200 | C51: 11.5 | D51: 279700 | E51: 18
A52: 4 Personen | B52: 58500 | C52: 7.2 | D52: 234100 | E52: 15
A53: 5 Personen und mehr | B53: 19300 | C53: 2.4 | D53: 103200 | E53: 6.6

Sheet 2.1.4+2.1.5
A1: Link zum Inhaltsverzeichnis
A2: 2.1 Privathaushalte und Hauptwohnsitzhaushalte
A3: 2.1.4 Hauptwohnsitzhaushalte 2024 nach dem Alter der Haupteinkommensperson
A4: Alter von ... bis unter … Jahren | B4: Hauptwohnsitz- haushalte insgesamt | C4: Einpersonen- haushalte | D4: Zweipersonen- haushalte | E4: Dreipersonen- haushalte | F4: Haushalte mit 4 oder mehr Personen | G4: Mehrpersonen- haushalte
A5: Insgesamt | B5: 812900 | C5: 345200 | D5: 296700 | E5: 93200 | F5: 77800 | G5: 467700
A6: unter 25 | B6: 42600 | C6: 28400 | D6: 10700 | E6: / | F6: / | G6: 14200
A7: 25 bis unter 35 | B7: 81600 | C7: 36900 | D7: 21000 | E7: 14800 | F7: 8800 | G7: 44700
A8: 35 bis unter 45 | B8: 131100 | C8: 35900 | D8: 23600 | E8: 31400 | F8: 40100 | G8: 95100
A9: 45 bis unter 55 | B9: 115700 | C9: 38700 | D9: 29200 | E9: 25800 | F9: 22100 | G9: 77100
A10: 55 bis unter 65 | B10: 171100 | C10: 63500 | D10: 89400 | E10: 13900 | F10: / | G10: 107700
A11: 65 bis unter 75 | B11: 143700 | C11: 63900 | D11: 75400 | E11: / | F11: / | G11: 79800
A12: 75 bis unter 85 | B12: 80000 | C12: 44000 | D12: 34600 | E12: / | F12: / | G12: 35900
A13: 85 und mehr | B13: 47100 | C13: 33900 | D13: 12800 | E13: / | F13: . | G13: 13200
A15: Grafik 2.6 | J15: Daten der Grafik 2.6 "Hauptwohnsitzhaushalte 2024 nach dem Alter der Haupteinkommensperson (Alle Altersgruppen = 100 %)"
J16: Merkmal | K16: Unter 25 | L16: 25 bis unter 45 | M16: 45 bis unter 65 | N16: 65 bis unter 85 | O16: 85 und mehr
J17: Insgesamt | K17: =B6*100/B5 -> 5.240497 | L17: =(B7+B8)*100/B5 -> 26.16558 | M17: =(B9+B10)*100/B5 -> 35.281092 | N17: =(B11+B12)*100/B5 -> 27.51876 | O17: =B13*100/B5 -> 5.7940706
J18: Einpersonenhaushalte | K18: =C6*100/C5 -> 8.2271147 | L18: =(C7+C8)*100/C5 -> 21.089224 | M18: =(C9+C10)*100/C5 -> 29.606025 | N18: =(C11+C12)*100/C5 -> 31.257242 | O18: =C13*100/C5 -> 9.820394
A30: 2.1.5 Einpersonenhaushalte im Zeitvergleich nach Altersgruppen
A31: Alter von ... bis unter ... Jahren | B31: 2018 | C31: 2019 | D31: 2020 | E31: 2021 | F31: 2022 | G31: 2023 | H31: 2024
A32: Insgesamt | B32: 346700 | C32: 354700 | D32: 335900 | E32: 341900 | F32: 347400 | G32: 344600 | H32: 345200
A33: unter 25 | B33: 30400 | C33: 34600 | D33: 27300 | E33: 27900 | F33: 29800 | G33: 30000 | H33: 28400
A34: 25 bis unter 35 | B34: 51600 | C34: 49600 | D34: 40500 | E34: 37400 | F34: 42200 | G34: 39500 | H34: 36900
A35: 35 bis unter 45 | B35: 33700 | C35: 37100 | D35: 38700 | E35: 40200 | F35: 38400 | G35: 35600 | H35: 35900
A36: 45 bis unter 55 | B36: 45900 | C36: 43900 | D36: 39500 | E36: 38700 | F36: 35000 | G36: 38000 | H36: 38700
A37: 55 bis unter 65 | B37: 61400 | C37: 63600 | D37: 66200 | E37: 66200 | F37: 66600 | G37: 64000 | H37: 63500
A38: 65 bis unter 85 | B38: 101800 | C38: 103400 | D38: 101300 | E38: 104000 | F38: 108000 | G38: 110400 | H38: 107900
A39: 85 und mehr | B39: 21800 | C39: 22500 | D39: 22400 | E39: 27500 | F39: 27400 | G39: 27100 | H39: 33900
A40: Männlich | B40: 171100 | C40: 172300 | D40: 162800 | E40: 165300 | F40: 165300 | G40: 163800 | H40: 166200
A41: unter 25 | B41: 17200 | C41: 18500 | D41: 12200 | E41: 13700 | F41: 16100 | G41: 16000 | H41: 16100
A42: 25 bis unter 35 | B42: 35400 | C42: 33400 | D42: 27100 | E42: 26200 | F42: 28700 | G42: 26800 | H42: 24100
A43: 35 bis unter 45 | B43: 25600 | C43: 26800 | D43: 29700 | E43: 31000 | F43: 28400 | G43: 27700 | H43: 27200
... A46: 65 bis unter 85 | B46: 29100 | C46: 29500 | D46: 27800 | E46: 29300 | F46: 33300 | G46: 32300 | H46: 32200
A47: 85 und mehr | B47: / | C47: / | D47: / | E47: / | F47: / | G47: / | H47: 7500
A48: Weiblich | B48: 175700 | C48: 182500 | D48: 173100 | E48: 176600 | F48: 182100 | G48: 180800 | H48: 179000
A49: unter 25 | B49: 13200 | C49: 16100 | D49: 15100 | E49: 14100 | F49: 13700 | G49: 13900 | H49: 12200
A50: 25 bis unter 35 | B50: 16200 | C50: 16200 | D50: 13400 | E50: 11200 | F50: 13600 | G50: 12800 | H50: 12900
A51: 35 bis unter 45 | B51: 8200 | C51: 10400 | D51: 9000 | E51: 9300 | F51: 10000 | G51: 7900 | H51: 8700
A52: 45 bis unter 55 | B52: 16500 | C52: 14300 | D52: 13100 | E52: 12600 | F52: 12000 | G52: 12900 | H52: 12200
A53: 55 bis unter 65 | B53: 30700 | C53: 33000 | D53: 31600 | E53: 32100 | F53: 35100 | G53: 32700 | H53: 30900
A54: 65 bis unter 85 | B54: 72800 | C54: 73900 | D54: 73500 | E54: 74700 | F54: 74700 | G54: 78100 | H54: 75800
A55: 85 und mehr | B55: 18100 | C55: 18600 | D55: 17400 | E55: 22600 | F55: 23100 | G55: 22500 | H55: 26400

Sheet 2.1.6
A1: Link zum Inhaltsverzeichnis
A2: 2.1 Privathaushalte und Hauptwohnsitzhaushalte
A3: 2.1.6 Hauptwohnsitzhaushalte 2024 im Ländervergleich
A4: Land | B4: Hauptwohnsitz- haushalte | C4: Anteil der Einpersonen- haushalte in % | D4: Anteil der Mehrpersonen- haushalte in % | E4: Nachrichtlich: Haushaltsmitglieder | F4: Nachrichtlich: Haushaltsmitglieder je Haushalt
A5: Deutschland | B5: 41211000 | C5: 42.3 | D5: 57.7 | E5: 82777000 | F5: 2.01
A6: Baden-Württemberg | B6: 5387000 | C6: 40.7 | D6: 59.3 | E6: 11206000 | F6: 2.08
A7: Bayern | B7: 6481000 | C7: 42.1 | D7: 57.9 | E7: 13161000 | F7: 2.03
A8: Berlin | B8: 1982000 | C8: 51.3 | D8: 48.7 | E8: 3659000 | F8: 1.85
A9: Brandenburg | B9: 1263000 | C9: 40 | D9: 60 | E9: 2516000 | F9: 1.99
A10: Bremen | B10: 361000 | C10: 48.1 | D10: 51.9 | E10: 692000 | F10: 1.92
A11: Hamburg | B11: 987000 | C11: 50.9 | D11: 49.1 | E11: 1843000 | F11: 1.87
A12: Hessen | B12: 3061000 | C12: 42.1 | D12: 57.9 | E12: 6229000 | F12: 2.0251552
A13: Mecklenburg-Vorpommern | B13: 813000 | C13: 42.5 | D13: 57.5 | E13: 1556000 | F13: 1.91
A14: Niedersachsen | B14: 3943000 | C14: 42.5 | D14: 57.5 | E14: 7921000 | F14: 2.01
A15: Nordrhein-Westfalen | B15: 8703000 | C15: 40.8 | D15: 59.2 | E15: 17818000 | F15: 2.05
A16: Rheinland-Pfalz | B16: 1963000 | C16: 38 | D16: 62 | E16: 4092000 | F16: 2.08
... A21: Thüringen | B21: 1067000 | C21: 41.8 | D21: 58.2 | E21: 2079000 | F21: 1.95
A23: Grafik 2.7 | H23: Daten der Grafik 2.7 "Haushaltsmitglieder je Haushalt 2024 im Ländervergleich"
H24: Bundesland | I24: Haushaltsmitglieder je Haushalt
H25: Baden-Württemberg | I25: =F6 -> 2.08
H26: Bayern | I26: =F7 -> 2.03
H27: Berlin | I27: =F8 -> 1.85
H28: Brandenburg | I28: =F9 -> 1.99
H29: Bremen | I29: =F10 -> 1.92
H30: Hamburg | I30: =F11 -> 1.87
H31: Hessen | I31: =F12 -> 2.0251552
H32: Mecklenburg-Vorpommern | I32: =F13 -> 1.91
H33: Niedersachsen | I33: =F14 -> 2.01
H34: Nordrhein-Westfalen | I34: =F15 -> 2.05
H35: Rheinland-Pfalz | I35: =F16 -> 2.08
H36: Saarland | I36: =F17 -> 1.98
... H40: Thüringen | I40: =F21 -> 1.95
H41: Deutschland | I41: =F5 -> 2.01

Sheet 2.2.1
A1: Link zum Inhaltsverzeichnis
A2: 2.2 Bevölkerung in Hauptwohnsitzhaushalten
A3: 2.2.1 Bevölkerung in Hauptwohnsitzhaushalten 2024 nach Altersgruppen
A4: Alter von ... bis unter ... Jahren | B4: Haushalts- mitglieder insgesamt | C4: Haushalts- mitglieder der Einpersonen- haushalte | D4: Haushalts- mitglieder der Zweipersonen- haushalte | E4: Haushalts- mitglieder der Dreipersonen- haushalte | F4: Haushalts- mitglieder der Haushalte mit 4 oder mehr Personen | G4: Haushalts- mitglieder der Mehrpersonen- haushalte
A5: Insgesamt | B5: 1555600 | C5: 345200 | D5: 593300 | E5: 279700 | F5: 337300 | G5: 1210400
A6: unter 25 | B6: 339800 | C6: 28400 | D6: 48600 | E6: 88900 | F6: 173900 | G6: 311400
A7: 25 bis unter 35 | B7: 131400 | C7: 36900 | D7: 38200 | E7: 32400 | F7: 24000 | G7: 94500
A8: 35 bis unter 45 | B8: 209100 | C8: 35900 | D8: 35500 | E8: 58300 | F8: 79400 | G8: 173100
A9: 45 bis unter 55 | B9: 186500 | C9: 38700 | D9: 55400 | E9: 50700 | F9: 41800 | G9: 147900
A10: 55 bis unter 65 | B10: 272300 | C10: 63500 | D10: 168600 | E10: 29100 | F10: 11100 | G10: 208800
A11: 65 bis unter 75 | B11: 239000 | C11: 63900 | D11: 157300 | E11: 13100 | F11: / | G11: 175100
A12: 75 bis unter 85 | B12: 119400 | C12: 44000 | D12: 68500 | E12: / | F12: / | G12: 75400
A13: 85 und mehr | B13: 58100 | C13: 33900 | D13: 21300 | E13: / | F13: / | G13: 24200
A14: Männlich | B14: 763600 | C14: 166200 | D14: 288800 | E14: 143600 | F14: 165000 | G14: 597400
A15: unter 25 | B15: 174500 | C15: 16100 | D15: 23600 | E15: 49400 | F15: 85300 | G15: 158300
A16: 25 bis unter 35 | B16: 67500 | C16: 24100 | D16: 19300 | E16: 14200 | F16: 10000 | G16: 43400
A17: 35 bis unter 45 | B17: 107200 | C17: 27200 | D17: 16200 | E17: 28800 | F17: 35000 | G17: 80000
A18: 45 bis unter 55 | B18: 96600 | C18: 26400 | D18: 20100 | E18: 25500 | F18: 24600 | G18: 70200
A19: 55 bis unter 65 | B19: 134500 | C19: 32800 | D19: 79200 | E19: 15700 | F19: 6800 | G19: 101800
A20: 65 bis unter 75 | B20: 111800 | C20: 22000 | D20: 80900 | E20: 6900 | F20: / | G20: 89800
A21: 75 bis unter 85 | B21: 51500 | C21: 10200 | D21: 38100 | E21: / | F21: / | G21: 41300
A22: 85 und mehr | B22: 20100 | C22: 7500 | D22: 11500 | E22: / | F22: / | G22: 12600
A23: Weiblich | B23: 791900 | C23: 179000 | D23: 304500 | E23: 136100 | F23: 172400 | G23: 613000
A24: unter 25 | B24: 165300 | C24: 12200 | D24: 25000 | E24: 39500 | F24: 88500 | G24: 153100
A25: 25 bis unter 35 | B25: 64000 | C25: 12900 | D25: 18900 | E25: 18200 | F25: 14000 | G25: 51100
A26: 35 bis unter 45 | B26: 101900 | C26: 8700 | D26: 19300 | E26: 29500 | F26: 44400 | G26: 93100
A27: 45 bis unter 55 | B27: 89900 | C27: 12200 | D27: 35300 | E27: 25200 | F27: 17200 | G27: 77700
A28: 55 bis unter 65 | B28: 137800 | C28: 30700 | D28: 89400 | E28: 13400 | F28: / | G28: 107100
A29: 65 bis unter 75 | B29: 127200 | C29: 42000 | D29: 76400 | E29: 6200 | F29: / | G29: 85200
A30: 75 bis unter 85 | B30: 67900 | C30: 33800 | D30: 30400 | E30: / | F30: / | G30: 34100
A31: 85 und mehr | B31: 38000 | C31: 26400 | D31: 9900 | E31: / | F31: / | G31: 11600
A33: Grafik 2.8 | I33: Daten der Grafik 2.8 "Bevölkerung in Hauptwohnsitzhaushalten 2024 nach Altersgruppen"
I34: Altersgruppe | J34: Männliche Haushaltsmitglieder insgesamt | K34: Weibliche Haushaltsmitglieder insgesamt | L34: Männliche Haushaltsmitglieder in Mehrpersonenhaushalten | M34: Weibliche Haushaltsmitglieder in Mehrpersonenhaushalten
I35: Unter 25 | J35: =B15 -> 174500 | K35: =B24 -> 165300 | L35: =G15 -> 158300 | M35: =G24 -> 153100
I36: 25 bis unter 35 | J36: =B16 -> 67500 | K36: =B25 -> 64000 | L36: =G16 -> 43400 | M36: =G25 -> 51100
I37: 35 bis unter 45 | J37: =B17 -> 107200 | K37: =B26 -> 101900 | L37: =G17 -> 80000 | M37: =G26 -> 93100
I38: 45 bis unter 55 | J38: =B18 -> 96600 | K38: =B27 -> 89900 | L38: =G18 -> 70200 | M38: =G27 -> 77700
I39: 55 bis unter 65 | J39: =B19 -> 134500 | K39: =B28 -> 137800 | L39: =G19 -> 101800 | M39: =G28 -> 107100
I40: 65 bis unter 75 | J40: =B20 -> 111800 | K40: =B29 -> 127200 | L40: =G20 -> 89800 | M40: =G29 -> 85200
I41: 75 bis unter 85 | J41: =B21 -> 51500 | K41: =B30 -> 67900 | L41: =G21 -> 41300 | M41: =G30 -> 34100
I42: 85 und mehr | J42: =B22 -> 20100 | K42: =B31 -> 38000 | L42: =G22 -> 12600 | M42: =G31 -> 11600

Sheet 2.2.2
A1: Link zum Inhaltsverzeichnis
A2: 2.2 Bevölkerung in Hauptwohnsitzhaushalten
A3: 2.2.2 Bevölkerung in Hauptwohnsitzhaushalten 2024 nach überwiegendem Lebensunterhalt und monatlichem Nettoeinkommen
A4: des Haushalts
A5: Überwiegender Lebensunterhalt | B5: Bevölkerung insgesamt | C5: Bevölkerung mit Angabe zum monatlichen Netto- einkommen | D5: Einkommen unter 1.000 EUR | E5: Einkommen von 1.000 bis unter 1.500 EUR | F5: Einkommen von 1.500 bis unter 2.000 EUR | G5: Einkommen von 2.000 bis unter 2.500 EUR | H5: Einkommen von 2.500 bis unter 3.000 EUR | I5: Einkommen von 3.000 EUR und mehr
A6: Insgesamt | B6: 1555600 | C6: 1554800 | D6: 67200 | E6: 119300 | F6: 155700 | G6: 188000 | H6: 172000 | I6: 852600
A7: eigene Erwerbs-/Berufs- tätigkeit | B7: 687400 | C7: 687100 | D7: 9100 | E7: 24300 | F7: 52100 | G7: 58700 | H7: 56500 | I7: 486300
A8: Arbeitslosengeld I/Bürger- geld | B8: 74100 | C8: 74100 | D8: 22100 | E8: 17000 | F8: 10700 | G8: 7600 | H8: 7200 | I8: 9600
A9: Rente/Pension | B9: 457200 | C9: 457200 | D9: 17600 | E9: 56000 | F9: 68200 | G9: 94500 | H9: 78000 | I9: 143000
A10: Einkünfte von Angehörigen | B10: 276800 | C10: 276500 | D10: 6500 | E10: 12300 | F10: 18300 | G10: 21100 | H10: 23500 | I10: 194700
A11: eigenes Vermögen | B11: 7300 | C11: 7300 | D11: / | E11: / | F11: / | G11: / | H11: / | I11: .
A12: Sozialhilfe | B12: 22200 | C12: 22200 | D12: 6900 | E12: / | F12: / | G12: / | H12: / | I12: .
A13: sonstige Unterstützung | B13: 24400 | C13: 24300 | D13: / | E13: / | F13: / | G13: / | H13: / | I13: 8100
A14: Elterngeld | B14: 6200 | C14: 6200 | D14: . | E14: / | F14: / | G14: / | H14: / | I14: /
A15: Einpersonenhaushalte | B15: 345200 | C15: 345200 | D15: 59600 | E15: 86600 | F15: 85200 | G15: 61000 | H15: 27300 | I15: 25400
A16: eigene Erwerbs-/Berufs- tätigkeit | B16: 141100 | C16: 141100 | D16: 8500 | E16: 21500 | F16: 38900 | G16: 32100 | H16: 18000 | I16: 22000
A17: Arbeitslosengeld I/Bürger- geld | B17: 27500 | C17: 27500 | D17: 20200 | E17: / | F17: / | G17: / | H17: / | I17: /
A18: Rente/Pension | B18: 151600 | C18: 151600 | D18: 16700 | E18: 51200 | F18: 43400 | G18: 28400 | H18: 8900 | I18: /
A19: Einkünfte von Angehörigen | B19: 7200 | C19: 7200 | D19: / | E19: / | F19: / | G19: . | H19: . | I19: .
A20: eigenes Vermögen | B20: / | C20: / | D20: / | E20: / | F20: / | G20: / | H20: / | I20: /
A21: Sozialhilfe | B21: 9500 | C21: 9500 | D21: 6500 | E21: / | F21: / | G21: . | H21: / | I21: .
A22: sonstige Unterstützung | B22: 6500 | C22: 6500 | D22: / | E22: / | F22: / | G22: / | H22: / | I22: .
A23: Elterngeld | B23: . | C23: . | D23: . | E23: . | F23: . | G23: . | H23: . | I23: .
A24: Mehrpersonenhaushalte | B24: 1210400 | C24: 1209600 | D24: 7600 | E24: 32700 | F24: 70500 | G24: 127000 | H24: 144800 | I24: 827100
A25: eigene Erwerbs-/Berufs- tätigkeit | B25: 546300 | C25: 546000 | D25: / | E25: / | F25: 13200 | G25: 26600 | H25: 38500 | I25: 464300
A26: Arbeitslosengeld I/Bürger- geld | B26: 46600 | C26: 46600 | D26: / | E26: 11500 | F26: 9500 | G26: 7300 | H26: 7000 | I26: 9500
A27: Rente/Pension | B27: 305600 | C27: 305600 | D27: / | E27: / | F27: 24800 | G27: 66100 | H27: 69100 | I27: 139900
A28: Einkünfte von Angehörigen | B28: 269500 | C28: 269200 | D28: / | E28: 9800 | F28: 17900 | G28: 21100 | H28: 23500 | I28: 194700
A29: eigenes Vermögen | B29: 5500 | C29: 5500 | D29: / | E29: / | F29: / | G29: / | H29: / | I29: /
A30: Sozialhilfe | B30: 12700 | C30: 12700 | D30: / | E30: / | F30: / | G30: / | H30: / | I30: /
A31: sonstige Unterstützung | B31: 18000 | C31: 17800 | D31: / | E31: / | F31: / | G31: / | H31: / | I31: 8100
A32: Elterngeld | B32: 7200 | C32: 7200 | D32: . | E32: / | F32: / | G32: / | H32: / | I32: /

Sheet 2.3.1
A1: Link zum Inhaltsverzeichnis
A2: 2.3 Familien
A3: 2.3.1 Familien und Kinder in Familien im Zeitvergleich
A4: Jahr | B4: Familien 3) mit Kindern 4) im Haushalt | C4: Ehepaare mit Kindern | D4: Alleinerziehende 5) | E4: Ledige Kinder in Familien insgesamt | F4: Ledige Kinder unter 18 Jahre | G4: Ledige Kinder 18 Jahre und älter
A5: 1991 | B5: 386700 | C5: 298200 | D5: x | E5: 642000 | F5: 493400 | G5: 148600
A6: 1992 | B6: 374700 | C6: 288900 | D6: x | E6: 620900 | F6: 476800 | G6: 144100
A7: 1993 | B7: 360700 | C7: 274900 | D7: x | E7: 593600 | F7: 457400 | G7: 136200
A8: 1994 | B8: 347800 | C8: 256100 | D8: x | E8: 566400 | F8: 424500 | G8: 141900
A9: 1995 | B9: 343600 | C9: 250900 | D9: x | E9: 553600 | F9: 408300 | G9: 145300
A10: 1996 | B10: 332300 | C10: 241600 | D10: x | E10: 539000 | F10: 394700 | G10: 144300
A11: 1997 | B11: 327700 | C11: 233800 | D11: x | E11: 534200 | F11: 379400 | G11: 154800
A12: 1998 | B12: 318800 | C12: 222500 | D12: x | E12: 515300 | F12: 360900 | G12: 154400
A13: 1999 | B13: 307600 | C13: 207600 | D13: x | E13: 494000 | F13: 339700 | G13: 154300
A14: 2000 | B14: 297600 | C14: 197800 | D14: x | E14: 471100 | F14: 312800 | G14: 158300
A15: 2001 | B15: 285100 | C15: 188900 | D15: x | E15: 444200 | F15: 289500 | G15: 154700
A16: 2002 | B16: 283500 | C16: 185600 | D16: x | E16: 435100 | F16: 281900 | G16: 153200
... A18: 2004 | B18: 285600 | C18: 174100 | D18: x | E18: 425300 | F18: 276400 | G18: 148900
A19: 2005 | B19: 271800 | C19: 162700 | D19: 75400 | E19: 398200 | F19: 254900 | G19: 143300
A20: 2006 | B20: 260900 | C20: 156000 | D20: 70400 | E20: 375700 | F20: 238700 | G20: 137000
A21: 2007 | B21: 252200 | C21: 147900 | D21: 69200 | E21: 361900 | F21: 224000 | G21: 137900
A22: 2008 | B22: 239200 | C22: 142800 | D22: 63500 | E22: 344300 | F22: 212000 | G22: 132300
A23: 2009 | B23: 226600 | C23: 134800 | D23: 60100 | E23: 328100 | F23: 206300 | G23: 121800
A24: 2010 | B24: 221700 | C24: 132000 | D24: 59900 | E24: 319500 | F24: 207900 | G24: 111600
A25: 2011 1) | B25: 217100 | C25: 124300 | D25: 59800 | E25: 313500 | F25: 214400 | G25: 99100
A26: 2012 | B26: 212400 | C26: 117500 | D26: 63900 | E26: 308500 | F26: 219600 | G26: 88900
A27: 2013 | B27: 207000 | C27: 116900 | D27: 57400 | E27: 304700 | F27: 223900 | G27: 80900
A28: 2014 | B28: 209700 | C28: 113700 | D28: 61300 | E28: 310400 | F28: 228300 | G28: 82000
A29: 2015 | B29: 202400 | C29: 106700 | D29: 61100 | E29: 304900 | F29: 232900 | G29: 72000
A30: 2016 | B30: 208300 | C30: 107900 | D30: 62700 | E30: 309800 | F30: 234900 | G30: 74800
A31: 2017 | B31: 205200 | C31: 106300 | D31: 57200 | E31: 309900 | F31: 235800 | G31: 74200
A32: 2018 | B32: 200800 | C32: 107500 | D32: 56700 | E32: 308300 | F32: 233300 | G32: 75000
A33: 2019 | B33: 199000 | C33: 104600 | D33: 54700 | E33: 307200 | F33: 241600 | G33: 65600
A34: 2020 | B34: 206100 | C34: 108500 | D34: 58700 | E34: 317200 | F34: 244600 | G34: 72600
A35: 2021 | B35: 207200 | C35: 109300 | D35: 60200 | E35: 320500 | F35: 246700 | G35: 73800
A36: 2022 | B36: 211900 | C36: 110300 | D36: 61600 | E36: 325700 | F36: 249000 | G36: 76700
A37: 2023 2) | B37: 202300 | C37: 108800 | D37: 55300 | E37: 315000 | F37: 240500 | G37: 74600
A38: 2024 | B38: 205400 | C38: 109300 | D38: 60300 | E38: 317900 | F38: 241800 | G38: 76200
I39: Daten der Grafik 2.9 "Kinder in Familien im Zeitvergleich"
A40: Grafik 2.9 | I40: Jahr | J40: Familien mit Kindern im Haushalt | K40: Ledige Kinder unter 18 Jahre | L40: Ledige Kinder 18 Jahre und älter
I41: 1991 | J41: 386700 | K41: 493400 | L41: 148600
I42: 1992 | J42: 374700 | K42: 476800 | L42: 144100
I43: 1993 | J43: 360700 | K43: 457400 | L43: 136200
I44: 1994 | J44: 347800 | K44: 424500 | L44: 141900
I45: 1995 | J45: 343600 | K45: 408300 | L45: 145300
I46: 1996 | J46: 332300 | K46: 394700 | L46: 144300
I47: 1997 | J47: 327700 | K47: 379400 | L47: 154800
I48: 1998 | J48: 318800 | K48: 360900 | L48: 154400
I49: 1999 | J49: 307600 | K49: 339700 | L49: 154300
I50: 2000 | J50: 297600 | K50: 312800 | L50: 158300
I51: 2001 | J51: 285100 | K51: 289500 | L51: 154700
I52: 2002 | J52: 283500 | K52: 281900 | L52: 153200
... I73: 2023 | J73: 202300 | K73: 240500 | L73: 74600
I74: 2024 | J74: =B38 -> 205400 | K74: =F38 -> 241800 | L74: =G38 -> 76200

Sheet 2.3.2
A1: Link zum Inhaltsverzeichnis
A2: 2.3 Familien
A3: 2.3.2 Familien und Familienmitglieder 2024 nach Familientyp und Zahl der ledigen Kinder in der Familie
A4: Merkmal | B4: Familien | C4: Familien in % | D4: Familienmitglieder | E4: Familienmitglieder in % | F4: Familienmitglieder je Familie
A5: Insgesamt | B5: 205400 | C5: 100 | D5: 668400 | E5: 100 | F5: 3.25
A6: Ehepaare | B6: 109300 | C6: 53.2 | D6: 398500 | E6: 59.6 | F6: 3.65
A7: davon mit Kindern ohne Altersbegrenzung
A8: mit 1 Kind | B8: 55800 | C8: 27.2 | D8: 167500 | E8: 25.1 | F8: 2.9982206
A9: mit 2 Kindern | B9: 40600 | C9: 19.8 | D9: 162300 | E9: 24.3 | F9: 4.002584
A10: mit 3 Kindern und mehr | B10: 12900 | C10: 6.3 | D10: 68800 | E10: 10.3 | F10: 5.33
A11: darunter mit Kindern unter 18 Jahren | B11: 81400 | C11: 39.6 | D11: 310600 | E11: 46.5 | F11: 3.82
A12: davon
A13: mit 1 Kind | B13: 31500 | C13: 15.3 | D13: 94600 | E13: 14.2 | F13: 3
A14: mit 2 Kindern | B14: 37500 | C14: 18.3 | D14: 149800 | E14: 22.4 | F14: 3.99
A15: mit 3 Kindern und mehr | B15: 12400 | C15: 6 | D15: 66100 | E15: 9.9 | F15: 5.33
A16: Lebensgemeinschaften | B16: 35800 | C16: 17.4 | D16: 125300 | E16: 18.7 | F16: 3.5026178
A17: davon mit Kindern ohne Altersbegrenzung
A18: mit 1 Kind | B18: 21000 | C18: 10.2 | D18: 63000 | E18: 9.4 | F18: 3.0044843
A19: mit 2 Kindern | B19: 12200 | C19: 5.9 | D19: 48800 | E19: 7.3 | F19: 4
A20: mit 3 Kindern und mehr | B20: / | C20: / | D20: 13500 | E20: 2 | F20: /
A21: darunter mit Kindern unter 18 Jahren | B21: 33100 | C21: 16.1 | D21: 116900 | E21: 17.5 | F21: 3.53
A22: davon
A23: mit 1 Kind | B23: 18800 | C23: 9.2 | D23: 56400 | E23: 8.4 | F23: 3.0049261
A24: mit 2 Kindern | B24: 11800 | C24: 5.7 | D24: 47000 | E24: 7 | F24: 3.98
A25: mit 3 Kindern und mehr | B25: / | C25: / | D25: 13500 | E25: 2 | F25: /
A26: Alleinerziehende | B26: 60300 | C26: 29.4 | D26: 144600 | E26: 21.6 | F26: 2.4
A27: davon mit Kindern ohne Altersbegrenzung
A28: mit 1 Kind | B28: 41700 | C28: 20.3 | D28: 83300 | E28: 12.5 | F28: 2
A29: mit 2 Kindern | B29: 14200 | C29: 6.9 | D29: 42500 | E29: 6.4 | F29: 3
A30: mit 3 Kindern und mehr | B30: / | C30: / | D30: 18800 | E30: 2.8 | F30: /
A31: darunter mit Kindern unter 18 Jahren | B31: 39300 | C31: 19.1 | D31: 99600 | E31: 14.9 | F31: 2.53
A32: davon
A33: mit 1 Kind | B33: 23500 | C33: 11.4 | D33: 47100 | E33: 7 | F33: 2
A34: mit 2 Kindern | B34: 11500 | C34: 5.6351953 | D34: 34400 | E34: 5.1 | F34: 3
A35: mit 3 Kindern und mehr | B35: / | C35: / | D35: 18200 | E35: 2.7 | F35: /
A36: darunter alleinerziehende Mütter | B36: 50000 | C36: 24.3 | D36: 120800 | E36: 18.1 | F36: 2.42
A37: davon mit Kindern ohne Altersbegrenzung
A38: mit 1 Kind | B38: 33900 | C38: 16.5 | D38: 67700 | E38: 10.1 | F38: 2
A39: mit 2 Kindern | B39: 12000 | C39: 5.8 | D39: 35900 | E39: 5.4 | F39: 3
A40: mit 3 Kindern und mehr | B40: / | C40: / | D40: 17200 | E40: 2.36 | F40: /
A41: darunter mit Kindern unter 18 Jahren | B41: 32300 | C41: 15.7 | D41: 82800 | E41: 12.4 | F41: 2.56
A42: davon
A43: mit 1 Kind | B43: 18800 | C43: 9.2 | D43: 37500 | E43: 5.6 | F43: 2
A44: mit 2 Kindern | B44: 9600 | C44: 4.7 | D44: 28700 | E44: 4.3 | F44: 3
A45: mit 3 Kindern und mehr | B45: / | C45: / | D45: 16600 | E45: 2.5 | F45: /

Sheet 2.3.3
A1: Link zum Inhaltsverzeichnis
A2: 2.3 Familien
A3: 2.3.3 Familien 2024 nach Zahl der ledigen Kinder und deren Altersgruppen
A4: Merkmal | B4: Familien insgesamt | C4: Mit 1 ledigem Kind | D4: Mit 2 ledigen Kindern | E4: Mit 3 und mehr ledigen Kindern | F4: Familien- mitglieder | G4: Familien- mitglieder je Familie
A5: Insgesamt | B5: 205400 | C5: 118500 | D5: 66900 | E5: 20000 | F5: 668400 | G5: 3.25
A6: und zwar mit Kindern im Alter von … bis unter … Jahren
A7: unter 3 | B7: 26600 | C7: 13600 | D7: 9100 | E7: / | F7: 93300 | G7: 3.51
A8: 3 bis unter 6 | B8: 30600 | C8: 11800 | D8: 13300 | E8: / | F8: 112200 | G8: 3.67
A9: 6 bis unter 10 | B9: 38100 | C9: 16300 | D9: 16100 | E9: / | F9: 132100 | G9: 3.47
A10: 10 bis unter 15 | B10: 39500 | C10: 18900 | D10: 16900 | E10: / | F10: 131300 | G10: 3.32
A11: 15 bis unter 18 | B11: 19000 | C11: 13300 | D11: / | E11: / | F11: 58200 | G11: 3.06
A12: 18 bis unter 27 | B12: 26100 | C12: 21500 | D12: / | E12: / | F12: 74900 | G12: 2.87
A13: 27 und mehr | B13: 25400 | C13: 23100 | D13: / | E13: / | F13: 66500 | G13: 2.62
A14: unter 18 | B14: 153900 | C14: 73900 | D14: 60700 | E14: 19300 | F14: 527100 | G14: 3.42
A15: 18 und mehr | B15: 51600 | C15: 44600 | D15: 6300 | E15: / | F15: 141300 | G15: 2.74
A16: Ehepaare | B16: 109300 | C16: 55800 | D16: 40600 | E16: 12900 | F16: 398500 | G16: 3.65
A17: und zwar mit Kindern im Alter von … bis unter … Jahren
A18: unter 3 | B18: 13300 | C18: / | D18: / | E18: / | F18: 50700 | G18: 3.81
A19: 3 bis unter 6 | B19: 16700 | C19: / | D19: 8400 | E19: / | F19: 66500 | G19: 3.98
A20: 6 bis unter 10 | B20: 18900 | C20: / | D20: 8500 | E20: / | F20: 74700 | G20: 3.95
A21: 10 bis unter 15 | B21: 21600 | C21: 8000 | D21: 11100 | E21: / | F21: 81200 | G21: 3.76
A22: 15 bis unter 18 | B22: 11000 | C22: 6800 | D22: / | E22: / | F22: 37400 | G22: 3.4
A23: 18 bis unter 27 | B23: 15600 | C23: 12900 | D23: / | E23: / | F23: 50100 | G23: 3.21
A24: 27 und mehr | B24: 12300 | C24: 11400 | D24: / | E24: . | F24: 37900 | G24: 3.08
A25: unter 18 | B25: 81400 | C25: 31500 | D25: 37500 | E25: 12400 | F25: 310600 | G25: 3.82
A26: 18 und mehr | B26: 27900 | C26: 24300 | D26: / | E26: / | F26: 88000 | G26: 3.15
A27: Lebensgemeinschaften | B27: 35800 | C27: 21000 | D27: 12200 | E27: / | F27: 125300 | G27: 3.5
A28: und zwar mit Kindern im Alter von … bis unter … Jahren
A29: unter 3 | B29: 8900 | C29: / | D29: / | E29: / | F29: 30400 | G29: 3.42
A30: 3 bis unter 6 | B30: 7600 | C30: / | D30: / | E30: / | F30: 28400 | G30: 3.74
A31: 6 bis unter 10 | B31: 8000 | C31: / | D31: / | E31: / | F31: 28800 | G31: 3.6
A32: 10 bis unter 15 | B32: / | C32: / | D32: / | E32: / | F32: 19600 | G32: /
A33: 15 bis unter 18 | B33: / | C33: / | D33: / | F33: 9800 | G33: /
A34: 18 bis unter 27 | B34: / | C34: / | D34: / | E34: . | F34: 6000 | G34: /
A35: 27 und mehr | B35: / | C35: / | D35: / | E35: . | F35: / | G35: /
A36: unter 18 | B36: 33100 | C36: 18800 | D36: 11800 | E36: / | F36: 116900 | G36: 3.53
A37: 18 und mehr | B37: / | C37: / | D37: / | E37: . | F37: 8400 | G37: /
A38: Alleinerziehende | B38: 60300 | C38: 41700 | D38: 14100 | E38: / | F38: 144600 | G38: 2.4
A39: und zwar mit Kindern im Alter von … bis unter … Jahren
A40: unter 3 | B40: / | C40: / | D40: / | E40: / | F40: 12200 | G40: /
A41: 3 bis unter 6 | B41: 6200 | C41: / | D41: / | E41: / | F41: 17300 | G41: 2.79
A42: 6 bis unter 10 | B42: 11200 | C42: 6200 | D42: / | E42: / | F42: 28600 | G42: 2.55
A43: 10 bis unter 15 | B43: 12400 | C43: 7900 | D43: / | E43: / | F43: 30600 | G43: 2.47
A44: 15 bis unter 18 | B44: / | C44: / | D44: / | E44: . | F44: 11000 | G44: /
A45: 18 bis unter 27 | B45: 8600 | C45: 7100 | D45: / | E45: . | F45: 18800 | G45: 2.19
A46: 27 und mehr | B46: 12400 | C46: 11000 | D46: / | E46: / | F46: 26200 | G46: 2.11
A47: unter 18 | B47: 39300 | C47: 23500 | D47: 11500 | E47: / | F47: 99600 | G47: 2.53
A48: 18 und mehr | B48: 21000 | C48: 18100 | D48: / | E48: / | F48: 45000 | G48: 2.14
A49: darunter alleinerziehende Mütter | B49: 50000 | C49: 33900 | D49: 12000 | E49: / | F49: 120800 | G49: 2.42
A50: und zwar mit Kindern im Alter von … bis unter … Jahren
A51: unter 3 | B51: / | C51: / | D51: / | E51: / | F51: 9300 | G51: /
A52: 3 bis unter 6 | B52: / | C52: / | D52: / | E52: / | F52: 15300 | G52: /
A53: 6 bis unter 10 | B53: 9100 | C53: / | D53: / | E53: / | F53: 23600 | G53: 2.59
A54: 10 bis unter 15 | B54: 10100 | C54: 6200 | D54: / | E54: / | F54: 25300 | G54: 2.5
A55: 15 bis unter 18 | B55: / | C55: / | D55: / | E55: . | F55: 9200 | G55: /
A56: 18 bis unter 27 | B56: 6800 | C56: / | D56: / | E56: . | F56: 15100 | G56: 2.22
A57: 27 und mehr | B57: 10800 | C57: 9700 | D57: / | E57: / | F57: 23000 | G57: 2.13
A58: unter 18 | B58: 32300 | C58: 18800 | D58: 9600 | E58: / | F58: 82800 | G58: 2.56
A59: 18 und mehr | B59: 17700 | C59: 15100 | D59: / | E59: / | F59: 38100 | G59: 2.15

Sheet 2.3.4
A1: Link zum Inhaltsverzeichnis
A2: 2.3 Familien
A3: 2.3.4 Familien 2024 nach Zahl der ledigen Kinder und monatlichem Nettoeinkommen der Familie
A4: Zahl der ledigen Kinder | B4: Familien insgesamt | C4: Familien mit Angabe zum monatlichen Netto- einkommen | D4: Ein- kommen unter 1.000 EUR | E4: Ein- kommen von 1.000 bis unter 1.500 EUR | F4: Ein- kommen von 1.500 bis unter 2.000 EUR | G4: Ein- kommen von 2.000 bis unter 2.500 EUR | H4: Ein- kommen von 2.500 bis unter 3.000 EUR | I4: Ein- kommen von 3.000 EUR und mehr
A5: Insgesamt | B5: 205400 | C5: 205300 | D5: / | E5: 8600 | F5: 13000 | G5: 16000 | H5: 18800 | I5: 146800
A6: davon mit Kindern ohne Altersbegrenzung
A7: mit 1 Kind | B7: 118500 | C7: 118500 | D7: / | E7: 6700 | F7: 9100 | G7: 10900 | H7: 11700 | I7: 78400
A8: mit 2 Kindern | B8: 66900 | C8: 66900 | D8: / | E8: / | F8: / | G8: / | H8: / | I8: 53200
A9: mit 3 Kindern und mehr | B9: 20000 | C9: 20000 | D9: . | E9: / | F9: / | G9: / | H9: / | I9: 15200
A10: darunter mit Kindern unter 18 Jahren | B10: 153900 | C10: 153800 | D10: / | E10: 6900 | F10: 10300 | G10: 12500 | H10: 13700 | I10: 108400
A11: davon
A12: mit 1 Kind | B12: 73900 | C12: 73900 | D12: / | E12: / | F12: 6500 | G12: 7700 | H12: 7100 | I12: 45900
A13: mit 2 Kindern | B13: 60700 | C13: 60600 | D13: / | E13: / | F13: / | G13: / | H13: / | I13: 48100
A14: mit 3 Kindern und mehr | B14: 19300 | C14: 19300 | D14: . | E14: / | F14: / | G14: / | H14: / | I14: 14500
A15: Ehepaare | B15: 109300 | C15: 109200 | D15: / | E15: / | F15: / | G15: / | H15: 6800 | I15: 95000
A16: davon mit Kindern ohne Altersbegrenzung
A17: mit 1 Kind | B17: 55800 | C17: 55800 | D17: / | E17: / | F17: / | G17: / | H17: / | I17: 47700
A18: mit 2 Kindern | B18: 40600 | C18: 40500 | D18: / | E18: / | F18: / | G18: / | H18: / | I18: 36400
A19: mit 3 Kindern und mehr | B19: 12900 | C19: 12900 | D19: . | E19: . | F19: / | G19: / | H19: / | I19: 10900
A20: darunter mit Kindern unter 18 Jahren | B20: 81400 | C20: 81300 | D20: / | E20: / | F20: / | G20: / | H20: / | I20: 69400
A21: davon
A22: mit 1 Kind | B22: 31500 | C22: 31500 | D22: / | E22: / | F22: / | G22: / | H22: / | I22: 25500
A23: mit 2 Kindern | B23: 37500 | C23: 37400 | D23: / | E23: / | F23: / | G23: / | H23: / | I23: 33500
A24: mit 3 Kindern und mehr | B24: 12400 | C24: 12400 | D24: . | E24: . | F24: / | G24: / | H24: / | I24: 10400
A25: Lebensgemeinschaften | B25: 35800 | C25: 35800 | D25: / | E25: / | F25: / | G25: / | H25: / | I25: 30900
A26: davon mit Kindern ohne Altersbegrenzung
A27: mit 1 Kind | B27: 21000 | C27: 21000 | D27: / | E27: / | F27: / | G27: / | H27: / | I27: 17700
A28: mit 2 Kindern | B28: 12200 | C28: 12200 | D28: / | E28: / | F28: / | G28: / | H28: / | I28: 10800
A29: mit 3 Kindern und mehr | B29: / | C29: / | D29: . | E29: . | F29: / | G29: . | H29: / | I29: /
A30: darunter mit Kindern unter 18 Jahren | B30: 33100 | C30: 33100 | D30: / | E30: / | F30: / | G30: / | H30: / | I30: 28700
A31: davon
A32: mit 1 Kind | B32: 18800 | C32: 18800 | D32: / | E32: / | F32: / | G32: / | H32: / | I32: 15800
A33: mit 2 Kindern | B33: 11800 | C33: 11800 | D33: . | E33: / | F33: / | G33: / | H33: / | I33: 10500
A34: mit 3 Kindern und mehr | B34: / | C34: / | D34: . | E34: . | F34: / | G34: . | H34: / | I34: /
A35: Alleinerziehende | B35: 60300 | C35: 60300 | D35: / | E35: 7100 | F35: 10500 | G35: 10500 | H35: 9800 | I35: 20900
A36: davon mit Kindern ohne Altersbegrenzung
A37: mit 1 Kind | B37: 41700 | C37: 41700 | D37: / | E37: / | F37: 7700 | G37: 7600 | H37: 6400 | I37: 13000
A38: mit 2 Kindern | B38: 14100 | C38: 14100 | D38: / | E38: / | F38: / | G38: / | H38: / | I38: 6000
A39: mit 3 Kindern und mehr | B39: / | C39: / | D39: / | E39: / | F39: / | G39: / | H39: / | I39: /
A40: darunter mit Kindern unter 18 Jahren | B40: 39300 | C40: 39300 | D40: / | E40: / | F40: 8100 | G40: 7900 | H40: 6000 | I40: 10300
A41: davon
A42: mit 1 Kind | B42: 23500 | C42: 23500 | D42: / | E42: / | F42: / | G42: / | H42: / | I42: /
A43: mit 2 Kindern | B43: 11500 | C43: 11500 | D43: / | E43: / | F43: / | G43: / | H43: / | I43: /
A44: mit 3 Kindern und mehr | B44: / | C44: / | D44: . | E44: / | F44: / | G44: / | H44: / | I44: /
A45: darunter alleinerziehende Mütter | B45: 50000 | C45: 50000 | D45: / | E45: 6300 | F45: 9000 | G45: 9400 | H45: 8400 | I45: 15200
A46: davon mit Kindern ohne Altersbegrenzung
A47: mit 1 Kind | B47: 33900 | C47: 33900 | D47: / | E47: / | F47: 6500 | G47: 6800 | H47: / | I47: 8900
A48: mit 2 Kindern | B48: 12000 | C48: 12000 | D48: / | E48: / | F48: / | G48: / | H48: / | I48: /
A49: mit 3 Kindern und mehr | B49: / | C49: / | D49: . | E49: / | F49: / | G49: / | H49: / | I49: /
A50: darunter mit Kindern unter 18 Jahren | B50: 32300 | C50: 32300 | D50: / | E50: / | F50: 6800 | G50: 7100 | H50: / | I50: 7000
A51: davon
A52: mit 1 Kind | B52: 18800 | C52: 18800 | D52: / | E52: / | F52: / | G52: / | H52: / | I52: /
A53: mit 2 Kindern | B53: 9600 | C53: 9600 | D53: / | E53: / | F53: / | G53: / | H53: / | I53: /
A54: mit 3 Kindern und mehr | B54: / | C54: / | D54: . | E54: / | F54: / | G54: / | H54: / | I54: /

Sheet 2.3.5+2.3.6
A1: Link zum Inhaltsverzeichnis
A2: 2.3 Familien
A3: 2.3.5 Familien 2024 nach Zahl der ledigen Kinder und der Beteiligung am Erwerbsleben
A4: Beteiligung am Erwerbsleben | B4: Familien insgesamt | C4: Mit 1 ledigem Kind | D4: Mit 2 ledigen Kindern | E4: Mit 3 und mehr ledigen Kindern | F4: Ledige Kinder insgesamt | G4: Ledige Kinder je Familie
A5: Insgesamt | B5: 205400 | C5: 118500 | D5: 66900 | E5: 20000 | F5: 317900 | G5: 1.55
A6: Ehepaare | B6: 109300 | C6: 55800 | D6: 4600 | E6: 12900 | F6: 179900 | G6: 1.65
A7: beide Partner erwerbstätig | B7: 83000 | C7: 38800 | D7: 34900 | E7: 9300 | F7: 138200 | G7: 1.67
A8: nur ein Partner erwerbstätig | B8: 15800 | C8: 9200 | D8: / | E8: / | F8: 26800 | G8: 1.7
A9: beide Partner erwerbslos oder Nichterwerbspersonen | B9: 10600 | C9: 7800 | D9: / | E9: / | F9: 14800 | G9: 1.4
A10: Lebensgemeinschaften | B10: 35800 | C10: 21000 | D10: 12200 | E10: / | F10: 53700 | G10: 1.5
A11: beide Partner erwerbstätig | B11: 30000 | C11: 17400 | D11: 10300 | E11: / | F11: 45400 | G11: 1.51
A12: nur ein Partner erwerbstätig | B12: / | C12: / | D12: / | E12: / | F12: 6600 | G12: /
A13: beide Partner erwerbslos oder Nichterwerbspersonen | B13: / | C13: / | D13: / | E13: / | F13: / | G13: /
A14: Alleinerziehende | B14: 60300 | C14: 41700 | D14: 14200 | E14: / | F14: 84300 | G14: 1.4
A15: Elternteil erwerbstätig | B15: 37700 | C15: 25100 | D15: 10300 | E15: / | F15: 52800 | G15: 1.4
A16: Elternteil erwerbslos oder Nichterwerbspersonen | B16: 22600 | C16: 16600 | D16: / | E16: / | F16: 31500 | G16: 1.39
A17: darunter alleinerziehende Mütter | B17: 50000 | C17: 33900 | D17: 12000 | E17: / | F17: 70900 | G17: 1.42
A18: Mutter erwerbstätig | B18: 30100 | C18: 19600 | D18: 8500 | E18: / | F18: 42800 | G18: 1.42
A19: Mutter erwerbslos oder Nichterwerbspersonen | B19: 19800 | C19: 14300 | D19: / | E19: / | F19: 28100 | G19: 1.42
A22: 2.3.6 Familien mit Kindern unter 18 Jahren 2024 nach Zahl der ledigen Kinder und der Beteiligung am Erwerbsleben
A23: Beteiligung am Erwerbsleben | B23: Familien mit ledigen Kindern unter 18 Jahren insgesamt | C23: Mit 1 ledigem Kind unter 18 Jahren | D23: Mit 2 ledigen Kindern unter 18 Jahren | E23: Mit 3 und mehr ledigen Kindern unter 18 Jahren | F23: Ledige Kinder unter 18 Jahren | G23: Ledige Kinder je Familie mit Kindern unter 18 Jahren
A24: Insgesamt | B24: 153900 | C24: 73900 | D24: 60700 | E24: 19300 | F24: 234100 | G24: 1.52
A25: Ehepaare | B25: 81400 | C25: 31500 | D25: 37500 | E25: 12400 | F25: 133000 | G25: 1.63
A26: beide Partner erwerbstätig | B26: 67800 | C26: 26000 | D26: 32800 | E26: 8900 | F26: 108500 | G26: 1.6
A27: nur ein Partner erwerbstätig | B27: 9800 | C27: / | D27: / | E27: / | F27: 17900 | G27: 1.83
A28: beide Partner erwerbslos oder Nichterwerbspersonen | B28: / | C28: / | D28: / | E28: / | F28: / | G28: /
A29: Lebensgemeinschaften | B29: 33100 | C29: 18800 | D29: 11800 | E29: / | F29: 45800 | G29: 1.38
A30: beide Partner erwerbstätig | B30: 28200 | C30: 16000 | D30: 10000 | E30: / | F30: 39300 | G30: 1.39
A31: nur ein Partner erwerbstätig | B31: / | C31: / | D31: / | E31: / | F31: / | G31: /
A32: beide Partner erwerbslos oder Nichterwerbspersonen | B32: / | C32: / | D32: . | E32: / | F32: / | G32: /
A33: Alleinerziehende | B33: 39300 | C33: 23500 | D33: 11500 | E33: / | F33: 55300 | G33: 1.41
A34: Elternteil erwerbstätig | B34: 28900 | C34: 17500 | D34: 9100 | E34: / | F34: 39700 | G34: 1.37
A35: Elternteil erwerbslos oder Nichterwerbspersonen | B35: 10400 | C35: / | D35: / | E35: / | F35: 15600 | G35: 1.5
A36: darunter alleinerziehende Mütter | B36: 32300 | C36: 18800 | D36: 9600 | E36: / | F36: 46100 | G36: 1.43
A37: Mutter erwerbstätig | B37: 22900 | C37: 13500 | D37: 7400 | E37: / | F37: 31700 | G37: 1.38
A38: Mutter erwerbslos oder Nichterwerbspersonen | B38: 9400 | C38: / | D38: / | E38: / | F38: 14500 | G38: 1.54

Sheet 2.3.7
A1: Link zum Inhaltsverzeichnis
A2: 2.3 Familien
A3: 2.3.7 Familien 2024 im Ländervergleich
A4: Land | B4: Familien insgesamt | C4: Ehepaare | D4: Lebens- gemeinschaften | E4: Alleinerziehende | F4: Nachrichtlich: Familienmitglieder | G4: Nachrichtlich: Familienmitglieder je Familie
A5: Deutschland | B5: 11798000 | C5: 7799000 | D5: 1149000 | E5: 2850000 | F5: 40541000 | G5: 3.4362604
A6: Baden-Württemberg | B6: 1654000 | C6: 1185000 | D6: 120000 | E6: 349000 | F6: 5803000 | G6: 3.5084643
A7: Bayern | B7: 1920000 | C7: 1367000 | D7: 149000 | E7: 403000 | F7: 6646000 | G7: 3.4614583
A8: Berlin | B8: 504000 | C8: 264000 | D8: 72000 | E8: 168000 | F8: 1683000 | G8: 3.3392857
A9: Brandenburg | B9: 367000 | C9: 198000 | D9: 63000 | E9: 106000 | F9: 1199000 | G9: 3.27
A10: Bremen | B10: 92000 | C10: 57000 | D10: 8000 | E10: 27000 | F10: 321000 | G10: 3.49
A11: Hamburg | B11: 260000 | C11: 156000 | D11: 26000 | E11: 78000 | F11: 879000 | G11: 3.38
A12: Hessen | B12: 908000 | C12: 614000 | D12: 75000 | E12: 218000 | F12: 3135000 | G12: 3.45
A13: Mecklenburg-Vorpommern | B13: 205000 | C13: 109000 | D13: 36000 | E13: 60000 | F13: 668000 | G13: 3.26
A14: Niedersachsen | B14: 1108000 | C14: 751000 | D14: 105000 | E14: 252000 | F14: 3853000 | G14: 3.48
A15: Nordrhein-Westfalen | B15: 2551000 | C15: 1757000 | D15: 196000 | E15: 599000 | F15: 8870000 | G15: 3.48
A16: Rheinland-Pfalz | B16: 602000 | C16: 410000 | D16: 52000 | E16: 140000 | F16: 2066000 | G16: 3.43
... A21: Thüringen | B21: 285000 | C21: 157000 | D21: 48000 | E21: 79000 | F21: 935000 | G21: 3.28
A23: Grafik 2.10 | I23: Daten der Grafik 2.10 "Familienmitglieder je Familie mit Kindern 2024 im Ländervergleich"
I24: Bundesland | J24: Familienmitglieder je Familie
I25: Baden-Württemberg | J25: =G6 -> 3.5084643
I26: Bayern | J26: =G7 -> 3.4614583
I27: Berlin | J27: =G8 -> 3.3392857
I28: Brandenburg | J28: =G9 -> 3.27
I29: Bremen | J29: =G10 -> 3.49
I30: Hamburg | J30: =G11 -> 3.38
I31: Hessen | J31: =G12 -> 3.45
I32: Mecklenburg-Vorpommern | J32: =G13 -> 3.26
I33: Niedersachsen | J33: =G14 -> 3.48
I34: Nordrhein-Westfalen | J34: =G15 -> 3.48
I35: Rheinland-Pfalz | J35: =G16 -> 3.43
I36: Saarland | J36: =G17 -> 3.35
... I40: Thüringen | J40: =G21 -> 3.28
I41: Deutschland | J41: =G5 -> 3.4362604

Sheet 2.4.1+2.4.2
A1: Link zum Inhaltsverzeichnis
A2: 2.4 Kinder
A3: 2.4.1 Ledige Kinder in der Familie 2024 nach Altersgruppen, Zahl der ledigen Geschwister in der Familie und Familientyp
A4: Zahl der Geschwister in der Familie | B4: Ledige Kinder insgesamt | C4: Ledige Kinder bei Ehepaaren | D4: Ledige Kinder bei Lebens- gemeinschaften | E4: Ledige Kinder bei Allein- erziehenden | F4: Ledige Kinder bei alleinerziehen- den Müttern
A5: Insgesamt | B5: 317900 | C5: 179900 | D5: 53700 | E5: 84300 | F5: 70900
A6: ohne Geschwister | B6: 118500 | C6: 55800 | D6: 21000 | E6: 41700 | F6: 33900
A7: mit Geschwistern | B7: 199400 | C7: 124100 | D7: 32700 | E7: 42600 | F7: 37000
A8: 1 Geschwisterkind | B8: 133900 | C8: 81100 | D8: 24400 | E8: 28300 | F8: 23900
A9: 2 Geschwister und mehr | B9: 65600 | C9: 42900 | D9: 8300 | E9: 14300 | F9: 13100
A10: darunter unter 18 Jahren | B10: 241800 | C10: 136600 | D10: 49000 | E10: 56200 | F10: 46800
A11: ohne Geschwister | B11: 73900 | C11: 31500 | D11: 18800 | E11: 23500 | F11: 18800
A12: mit Geschwistern | B12: 167900 | C12: 105000 | D12: 30200 | E12: 32600 | F12: 28000
A13: 1 Geschwisterkind | B13: 111200 | C13: 68200 | D13: 22400 | E13: 20600 | F13: 17000
A14: 2 Geschwister und mehr | B14: 56700 | C14: 36800 | D14: 7800 | E14: 12100 | F14: 11000
A15: darunter 18 Jahre und mehr | B15: 76200 | C15: 43300 | D15: / | E15: 28100 | F15: 24100
A16: ohne Geschwister | B16: 44600 | C16: 24300 | D16: / | E16: 18100 | F16: 15100
A17: mit Geschwistern | B17: 31600 | C17: 19000 | D17: / | E17: 10000 | F17: 9000
A18: 1 Geschwisterkind | B18: 22700 | C18: 12900 | D18: / | E18: 7800 | F18: 7000
A19: 2 Geschwister und mehr | B19: 8900 | C19: 6100 | D19: / | E19: / | F19: /
A21: Grafik 2.11 | H21: Daten der Grafik 2.11 "Ledige Kinder in der Familie 2024 nach Zahl der Geschwister"
H22: Merkmal | I22: Unter 18 Jahren (Insgesamt = 100 %) | J22: 18 Jahre und mehr (Insgesamt = 100 %)
H23: Ohne Geschwister | I23: =B11*100/B10 -> 30.562448 | J23: =B16*100/B15 -> 58.530184
H24: Mit 1 Geschwisterkind | I24: =B13*100/B10 -> 45.98842 | J24: =B18*100/B15 -> 29.790026
H25: Mit 2 und mehr Geschwister | I25: =B14*100/B10 -> 23.449132 | J25: =B19*100/B15 -> 11.67979
A35: 2.4.2 Ledige Kinder in der Familie 2024 nach Familientyp im Ländervergleich
A36: Land | B36: Ledige Kinder insgesamt | C36: Ledige Kinder bei Ehepaaren | D36: Ledige Kinder bei Lebens- gemeinschaften | E36: Ledige Kinder bei Allein- erziehenden
A37: Deutschland | B37: 19796000 | C37: 13899000 | D37: 1788000 | E37: 4109000
A38: Baden-Württemberg | B38: 2843000 | C38: 2144000 | D38: 189000 | E38: 510000
A39: Bayern | B39: 3210000 | C39: 2419000 | D39: 228000 | E39: 563000
A40: Berlin | B40: 843000 | C40: 485000 | D40: 112000 | E40: 246000
A41: Brandenburg | B41: 571000 | C41: 322000 | D41: 102000 | E41: 146000
A42: Bremen | B42: 164000 | C42: 108000 | D42: 15000 | E42: 41000
A43: Hamburg | B43: 436000 | C43: 281000 | D43: 38000 | E43: 117000
A44: Hessen | B44: 1537000 | C44: 1103000 | D44: 118000 | E44: 316000
A45: Mecklenburg-Vorpommern | B45: 318000 | C45: 180000 | D45: 54000 | E45: 84000
A46: Niedersachsen | B46: 1890000 | C46: 1354000 | D46: 165000 | E46: 370000
A47: Nordrhein-Westfalen | B47: 4366000 | C47: 3176000 | D47: 309000 | E47: 881000
A48: Rheinland-Pfalz | B48: 1002000 | C48: 724000 | D48: 80000 | E48: 199000
... A53: Thüringen | B53: 445000 | C53: 261000 | D53: 75000 | E53: 108000

Sheet 2.5.1
A1: Link zum Inhaltsverzeichnis
A2: 2.5 Kirchliche Verhältnisse
A3: 2.5.1 Evangelische Kirche im Zeitvergleich
A4: Jahr | B4: Kirchge- meinden | C4: Pastoren | D4: Gemein- demit- glieder in 1.000 | E4: Taufen | F4: Konfir- matio- nen | G4: Trau- ungen | H4: Bestat- tungen | I4: Über-/ Wieder- eintritte | J4: Austritte | K4: Gottes- dienstbe- sucherin- nen und ‑besucher in 1.000
A5: Evangelisch-Lutherische Kirche in Norddeutschland 6)
A6: Kirchenkreis Mecklenburg
A7: 1950 | B7: / | C7: / | D7: 1200 | E7: / | F7: / | G7: / | H7: / | I7: / | J7: / | K7: /
A8: 1965 | B8: / | C8: / | D8: 1025.9 | E8: 7942 | F8: / | G8: / | H8: / | I8: / | J8: / | K8: /
A9: 1970 | B9: / | C9: / | D9: 859 | E9: 4656 | F9: / | G9: / | H9: / | I9: / | J9: / | K9: /
A10: 1975 | B10: / | C10: / | D10: 754.5 | E10: 2087 | F10: 4243 | G10: 939 | H10: 8951 | I10: / | J10: / | K10: 903.7
A11: 1980 | B11: / | C11: / | D11: 645.3 | E11: 2246 | F11: 2648 | G11: 735 | H11: 7974 | I11: 94 | J11: 1466 | K11: 805.6
A12: 1985 | B12: / | C12: / | D12: 520 | E12: 2262 | F12: 2091 | G12: 529 | H12: 7207 | I12: 268 | J12: 827 | K12: 805.2
A13: 1990 | B13: 387 | C13: 322 | D13: 405.7 | E13: 2875 | F13: 1701 | G13: 398 | H13: 6253 | I13: 602 | J13: 30123 | K13: 814.1
A14: 1995 | B14: 383 | C14: 325 | D14: 251.3 | E14: 1409 | F14: 2120 | G14: 255 | H14: 4638 | I14: 607 | J14: 4904 | K14: 822.6
A15: 2000 | B15: 337 | C15: 246 | D15: 230 | E15: 1833 | F15: 1696 | G15: 329 | H15: 3841 | I15: 343 | J15: 1714 | K15: 786.3
A16: 2005 | B16: 295 | C16: 232 | D16: 211.7 | E16: 1951 | F16: 1209 | G16: 292 | H16: 3425 | I16: 427 | J16: 986 | K16: 783.7
A17: 2010 | B17: 268 | C17: 233 | D17: 192.9 | E17: 1621 | F17: 924 | G17: 614 | H17: 3114 | I17: 417 | J17: 1250 | K17: 578.1
A18: 2011 | B18: 270 | C18: 208 | D18: 189.9 | E18: 1777 | F18: 1013 | G18: 611 | H18: 2809 | I18: 294 | J18: 1180 | K18: 674.6
A19: 2012 | B19: 266 | C19: 194 | D19: 186.7 | E19: 1576 | F19: 1014 | G19: 246 | H19: 2749 | I19: 294 | J19: 1066 | K19: 674.3
A20: 2013 | B20: 265 | C20: 194 | D20: 183.3 | E20: 1414 | F20: 983 | G20: 195 | H20: 2811 | I20: 241 | J20: 1412 | K20: 665.8
A21: 2014 | B21: 265 | C21: 185 | D21: 177.9 | E21: 1351 | F21: 938 | G21: 200 | H21: 2204 | I21: 184 | J21: 3320 | K21: 657
A22: 2015 | B22: 257 | C22: 182 | D22: 174.3 | E22: 1362 | F22: 873 | G22: 154 | H22: 2359 | I22: 198 | J22: 2102 | K22: 624.9
A23: 2016 | B23: 253 | C23: 187 | D23: 170.4 | E23: 1472 | F23: 844 | G23: 204 | H23: 2193 | I23: 289 | J23: 1614 | K23: 631
A24: 2017 | B24: 251 | C24: 183 | D24: 167.2 | E24: 1368 | F24: 906 | G24: 177 | H24: 2126 | I24: 226 | J24: 1438 | K24: .
A25: 2018 | B25: 246 | C25: 179 | D25: 163.7 | E25: 1137 | F25: 832 | G25: 158 | H25: 2282 | I25: 224 | J25: 1594 | K25: .
A26: 2019 | B26: 239 | C26: 172 | D26: 160.1 | E26: 1155 | F26: 774 | G26: 127 | H26: 2005 | I26: 256 | J26: 1882 | K26: .
A27: 2020 | B27: 226 | C27: 168 | D27: 158 | E27: 574 | F27: 502 | G27: 58 | H27: 1829 | I27: 179 | J27: 1644 | K27: .
A28: 2021 | B28: 214 | C28: 168 | D28: 152.636 | E28: 761 | F28: 940 | G28: 67 | H28: 1820 | I28: 145 | J28: 2056 | K28: .
A29: 2022 | B29: 202 | C29: 157 | D29: 147.7 | E29: 1026 | F29: 738 | G29: 119 | H29: 1726 | I29: 198 | J29: 2669 | K29: .
A30: 2023 | B30: 202 | C30: 152 | D30: 142.995 | E30: 863 | F30: 670 | G30: 87 | H30: 1660 | I30: 153 | J30: 2585 | K30: .
A31: 2024 | B31: 201 | C31: 138 | D31: 138.064 | E31: 753 | F31: 640 | G31: 99 | H31: 1465 | I31: 130 | J31: 2539 | K31: .
A32: 2025 | B32: 186 | C32: 131 | D32: 133.498 | E32: 720 | F32: 651 | G32: 65 | H32: 1345 | I32: 132 | J32: 2567 | K32: .
A33: Pommerscher Evangelischer Kirchenkreis
A34: 1955 | B34: 317 | C34: 218 | D34: . | E34: 11183 | F34: 11332 | G34: 4179 | H34: 6441 | I34: 224 | J34: 3180 | K34: 1269.1
A35: 1960 7) | B35: 317 | C35: 215 | D35: . | E35: 6504 | F35: 1657 | G35: 2268 | H35: 6335 | I35: 152 | J35: 3809 | K35: 800
A36: 1970 | B36: 352 | C36: 220 | D36: . | E36: 2479 | F36: 3546 | G36: 713 | H36: 5860 | I36: 88 | J36: 1888 | K36: 654.4
A37: 1980 7) | B37: 356 | C37: 223 | D37: . | E37: 1174 | F37: 1239 | G37: 322 | H37: 4788 | I37: 104 | J37: 1327 | K37: 700
A38: 1988 7) | B38: 356 | C38: 200 | D38: . | E38: 1047 | F38: 676 | G38: 290 | H38: 3612 | I38: 210 | J38: 595 | K38: 800
A39: 1995 | B39: 250 | C39: 183 | D39: 138.9 | E39: 893 | F39: 1148 | G39: 133 | H39: 2624 | I39: 375 | J39: 2346 | K39: 413.3
A40: 2000 | B40: 292 | C40: 136 | D40: 117.2 | E40: 540 | F40: 766 | G40: 200 | H40: 2350 | I40: 259 | J40: 578 | K40: 357.5
A41: 2005 | B41: 240 | C41: 117 | D41: 104 | E41: 589 | F41: 369 | G41: 118 | H41: 1867 | I41: 127 | J41: 416 | K41: 343.1
A42: 2010 | B42: 186 | C42: 105 | D42: 94 | E42: 952 | F42: 271 | G42: 139 | H42: 1171 | I42: 128 | J42: 468 | K42: 309.3
A43: 2011 | B43: 185 | C43: 105 | D43: 92 | E43: 585 | F43: 256 | G43: 120 | H43: 1280 | I43: 101 | J43: 417 | K43: 364.1
A44: 2012 | B44: 176 | C44: 106 | D44: 90 | E44: 780 | F44: 261 | G44: 168 | H44: 1271 | I44: 130 | J44: 413 | K44: .
A45: 2013 | B45: 170 | C45: 108 | D45: 87.7 | E45: 493 | F45: 251 | G45: 108 | H45: 907 | I45: 120 | J45: 482 | K45: .
A46: 2014 | B46: 169 | C46: 113 | D46: 85.3 | E46: 576 | F46: 236 | G46: 123 | H46: 848 | I46: 76 | J46: 1320 | K46: 390.7
A47: 2015 | B47: 154 | C47: 109 | D47: 83.2 | E47: 552 | F47: 296 | G47: 119 | H47: 933 | I47: 75 | J47: 830 | K47: 384.1
A48: 2016 | B48: 154 | C48: 104 | D48: 81.4 | E48: 537 | F48: 283 | G48: 115 | H48: 836 | I48: 100 | J48: 596 | K48: 482.4
A49: 2017 | B49: 153 | C49: 98 | D49: 79.6 | E49: 468 | F49: 261 | G49: 110 | H49: 854 | I49: 87 | J49: 606 | K49: .
A50: 2018 | B50: 153 | C50: 99 | D50: 76.8 | E50: 534 | F50: 312 | G50: 123 | H50: 1041 | I50: 99 | J50: 644 | K50: .
A51: 2019 | B51: 152 | C51: 99 | D51: 75 | E51: 497 | F51: 318 | G51: 103 | H51: 1009 | I51: 85 | J51: 707 | K51: .
A52: 2020 | B52: 151 | C52: 99 | D52: 73 | E52: 201 | F52: 166 | G52: 56 | H52: 949 | I52: 74 | J52: 643 | K52: .
A53: 2021 | B53: 149 | C53: 92 | D53: 70.85 | E53: 297 | F53: 407 | G53: 51 | H53: 1070 | I53: 62 | J53: 826 | K53: .
A54: 2022 | B54: 139 | C54: 88 | D54: 68.4 | E54: 438 | F54: 311 | G54: 92 | H54: 980 | I54: 74 | J54: 1006 | K54: .
A55: 2023 | B55: 137 | C55: 86 | D55: 65.939 | E55: 289 | F55: 280 | G55: 62 | H55: 883 | I55: 75 | J55: 1043 | K55: .
A56: 2024 | B56: 137 | C56: 81 | D56: 63.554 | E56: 300 | F56: 276 | G56: 53 | H56: 825 | I56: 50 | J56: 996 | K56: .
A57: 2025 | B57: 136 | C57: 89 | D57: 61.102 | E57: 273 | F57: 309 | G57: 50 | H57: 818 | I57: 61 | J57: 991 | K57: .

Sheet 2.5.2+2.5.3
A1: Link zum Inhaltsverzeichnis
A2: 2.5 Kirchliche Verhältnisse
A3: 2.5.2 Römisch-Katholische Kirche im Zeitvergleich
A4: Jahr | B4: Pfar- reien | C4: Pfarr- seel- sorger | D4: Kirchen- mit- glieder in 1.000 | E4: Taufen | F4: Erst- kommu- nionen | G4: Firmun- gen | H4: Trau- ungen | I4: Bestat- tungen | J4: Über-/ Wieder- eintritte | K4: Austritte | L4: Gottes- dienstbe- sucherin- nen und ‑besu- cher 8) in 1.000
A5: Bereich des Erzbistums Hamburg
A6: 1950 | B6: 62 | C6: 89 | D6: 172.9 | E6: 2664 | F6: . | G6: . | H6: 1174 | I6: 1703 | J6: 233 | K6: 333 | L6: 51.1
A7: 1960 | B7: 66 | C7: 92 | D7: 130 | E7: 1812 | F7: . | G7: . | H7: 743 | I7: 1483 | J7: 75 | K7: 619 | L7: 36.6
A8: 1970 | B8: 67 | C8: 87 | D8: 106.8 | E8: 881 | F8: . | G8: . | H8: 412 | I8: 1389 | J8: 25 | K8: 155 | L8: 25.5
A9: 1980 | B9: 63 | C9: 67 | D9: 85.9 | E9: 523 | F9: . | G9: . | H9: 210 | I9: 1234 | J9: 12 | K9: 115 | L9: 18.3
A10: 1990 | B10: 61 | C10: 52 | D10: 61.2 | E10: 437 | F10: 371 | G10: . | H10: 161 | I10: 869 | J10: 8 | K10: 4515 | L10: .
A11: 1995 | B11: 57 | C11: 53 | D11: 57.8 | E11: 224 | F11: 390 | G11: 205 | H11: 101 | I11: 638 | J11: 9 | K11: 934 | L11: 11.4
A12: 2000 | B12: 54 | C12: 46 | D12: 56.2 | E12: 306 | F12: 299 | G12: 322 | H12: 108 | I12: 497 | J12: 16 | K12: 303 | L12: 10.4
A13: 2005 | B13: 39 | C13: 36 | D13: 43 | E13: 271 | F13: 182 | G13: 247 | H13: 107 | I13: 423 | J13: 21 | K13: 222 | L13: 8.4
A14: 2010 | B14: 25 | C14: 25 | D14: 40.5 | E14: 230 | F14: 218 | G14: 205 | H14: 111 | I14: 392 | J14: 21 | K14: 345 | L14: 7.2
A15: 2011 | B15: 23 | C15: 27 | D15: 40.2 | E15: 244 | F15: 235 | G15: 130 | H15: 88 | I15: 347 | J15: 18 | K15: 283 | L15: 6.8
A16: 2012 | B16: 23 | C16: 28 | D16: 40.1 | E16: 230 | F16: 222 | G16: 262 | H16: 102 | I16: 344 | J16: 30 | K16: 275 | L16: 6.5
A17: 2013 | B17: 23 | C17: 28 | D17: 40.3 | E17: 210 | F17: 206 | G17: 173 | H17: 99 | I17: 371 | J17: 13 | K17: 383 | L17: 6.2
A18: 2014 | B18: 23 | C18: 28 | D18: 40.3 | E18: 217 | F18: 201 | G18: 233 | H18: 91 | I18: 317 | J18: 12 | K18: 656 | L18: 6
A19: 2015 | B19: 23 | C19: 25 | D19: 40.3 | E19: 217 | F19: 205 | G19: 149 | H19: 88 | I19: 362 | J19: 17 | K19: 487 | L19: 5.8
A20: 2016 | B20: 23 | C20: 28 | D20: 40.5 | E20: 201 | F20: 196 | G20: 223 | H20: 75 | I20: 349 | J20: 11 | K20: 438 | L20: 5.5
A21: 2017 | B21: 17 | C21: 26 | D21: 40.5 | E21: 199 | F21: 206 | G21: 128 | H21: 66 | I21: 358 | J21: 9 | K21: 366 | L21: 5.5
A22: 2018 | B22: 15 | C22: 29 | D22: 40.2 | E22: 194 | F22: 180 | G22: 212 | H22: 63 | I22: 282 | J22: 19 | K22: 440 | L22: 5.6
... A29: 2025 | B29: 8 | C29: 16 | D29: 34.72 | E29: 125 | F29: 194 | G29: 125 | H29: 28 | I29: 290 | J29: 13 | K29: 659 | L29: 3.23
A30: Bereich des Erzbistums Berlin
A31: 1990 | B31: 11 | C31: 19 | D31: 19.9 | E31: 102 | F31: 74 | G31: 21 | H31: . | I31: 293 | J31: 7 | K31: 1179 | L31: .
A32: 1995 | B32: 19 | C32: 17 | D32: 15.2 | E32: 46 | F32: 93 | G32: 116 | H32: 23 | I32: 187 | J32: 2 | K32: 142 | L32: 2.7
A33: 2000 | B33: 19 | C33: 17 | D33: 15.5 | E33: 86 | F33: 94 | G33: 65 | H33: 31 | I33: 139 | J33: 2 | K33: 66 | L33: 2.3
A34: 2005 | B34: 8 | C34: 12 | D34: 13 | E34: 77 | F34: 67 | G34: 59 | H34: 36 | I34: 133 | J34: 5 | K34: 45 | L34: 2
A35: 2010 | B35: 8 | C35: 11 | D35: 13.2 | E35: 75 | F35: 73 | G35: 83 | H35: 49 | I35: 115 | J35: 6 | K35: 115 | L35: 1.9
A36: 2011 | B36: 8 | C36: 12 | D36: 13.5 | E36: 85 | F36: 61 | G36: 32 | H36: 35 | I36: 92 | J36: 9 | K36: 84 | L36: 2
A37: 2012 | B37: 8 | C37: 12 | D37: 13.7 | E37: 65 | F37: 70 | G37: 66 | H37: 30 | I37: 88 | J37: 2 | K37: 105 | L37: 2
A38: 2013 | B38: 8 | C38: 12 | D38: 13.8 | E38: 60 | F38: 43 | G38: 45 | H38: 33 | I38: 108 | J38: 5 | K38: 121 | L38: 1.8
A39: 2014 | B39: 8 | C39: 11 | D39: 14.2 | E39: 62 | F39: 62 | G39: 15 | H39: 20 | I39: 90 | J39: 6 | K39: 211 | L39: 1.6
A40: 2015 | B40: 8 | C40: 10 | D40: 14.5 | E40: 67 | F40: 43 | G40: 23 | H40: 31 | I40: 109 | J40: 3 | K40: 143 | L40: 1.6
A41: 2016 | B41: 8 | C41: 11 | D41: 14.5 | E41: 75 | F41: 57 | G41: 21 | H41: 30 | I41: 116 | J41: 2 | K41: 129 | L41: 1.446
A42: 2017 | B42: 8 | C42: 11 | D42: 14.7 | E42: 78 | F42: 65 | G42: 73 | H42: 34 | I42: 94 | J42: 5 | K42: 182 | L42: 1.5
A43: 2018 | B43: 8 | C43: 11 | D43: 15 | E43: 71 | F43: 102 | G43: 88 | H43: 24 | I43: 99 | J43: 6 | K43: 197 | L43: 2
... A50: 2025 | B50: 3 | C50: 9 | D50: 14 | E50: 44 | F50: 81 | G50: 71 | H50: 13 | I50: 64 | J50: 12 | K50: 247 | L50: 1
A52: 2.5.3 Jüdische Gemeinden im Zeitvergleich
A53: Merkmal | B53: 2002 | C53: 2005 | D53: 2010 | E53: 2015 | F53: 2018 | G53: 2019 | H53: 2020 | I53: 2022 | J53: 2023 | K53: 2024 | L53: 2025
A54: Gemeinden | B54: 2 | C54: 2 | D54: 2 | E54: 2 | F54: 2 | G54: 2 | H54: 2 | I54: 2 | J54: 2 | K54: 2 | L54: 2
A55: Mitglieder | B55: 1304 | C55: 1741 | D55: 1616 | E55: 1412 | F55: 1266 | G55: 1211 | H55: 1187 | I55: 1111 | J55: 1101 | K55: 1086 | L55: .

Sheet Fußnotenerläuterungen
A1: Link zum Inhaltsverzeichnis
A2: Fußnotenerläuterungen
A3: 1) | B3: Ab 2011 hochgerechnet unter Berücksichtigung der Bevölkerungsfortschreibung nach Zensus 2011.
A4: 2) | B4: Ab 2023 hochgerechnet unter Berücksichtigung der Bevölkerungsfortschreibung nach Zensus 2022.
A5: 3) | B5: Für die Lange Reihe wurde nach aktueller Abgrenzung des Familienbegriffs rückgerechnet. Danach gehören zu den Familien in Privathaushalten nur Familienformen mit Kindern im Haushalt; also Ehepaare, Lebensgemeinschaften sowie Alleinerzie- hende, wenn sie aktuell mit Kindern im Familienhaushalt leben.
A6: 4) | B6: Ohne Altersbegrenzung.
A7: 5) | B7: Alleinerziehende werden im Mikrozensus erst seit 2005 getrennt von nichtehelichen Lebensgemeinschaften erfasst. Bis dahin galten Partnerinnen und Partner nichtehelicher Lebensgemeinschaften als alleinerziehend, was zu überhöhter Ausweisung der tatsächlich im Haushalt alleinerziehenden Situation bis 2004 führte.
A8: 6) | B8: Gründung der Evangelisch-Lutherischen Kirche in Norddeutschland durch Fusion der Pommerschen Evangelischen Kirche, der Evangelisch-Lutherischen Kirche in Mecklenburg und der Nordelbischen Evangelisch-Lutherischen Kirche am 27.05.2012.
A9: 7) | B9: Zahl der Gottesdienstbesucherinnen und -besucher geschätzt.
A10: 8) | B10: Durchschnitt je Sonntag.

Sheet Methodik
A1: Link zum Inhaltsverzeichnis
A2: Methodik
A3: Der Mikrozensus ist die größte Haushaltsbefragung der amtlichen Statistik in Deutschland, mit der seit 1957 wichtige Daten über die wirt- schaftliche und soziale Situation der Bevölkerung ermittelt werden. Die Erhebung wird bei einem Prozent der Bevölkerung, die per Zufalls- stichprobe ausgewählt wird, durchgeführt. Dazu werden in Mecklenburg-Vorpommern etwa 10.600 Befragungen im Jahr durchgeführt. In die gesetzlich festgelegte Erhebung integriert sind für einen Teil der zu befragenden Haushalte Fragen der EU-weiten Statistik zur Arbeits- marktbeteiligung, Fragen zu Einkommen und Lebensbedingungen und Fragen zur Nutzung von Informations- und Kommunikationstechno- logien. Die ermittelten Befragungsergebnisse werden unter Nutzung fortgeschriebener Bevölkerungseckzahlen auf die Gesamtbevölkerung hoch­ gerechnet.
A4: Ab der Veröffentlichung der Endergebnisse 2023 werden für die Hochrechnung des Mikrozensus Daten der Bevölkerungsfortschreibung herangezogen, die auf den Eckwerten des Zensus 2022 basieren. Das Hochrechnungsverfahren bleibt dabei unverändert. Jedoch wird mit der Umstellung der aktuelle Bevölkerungsstand in der Hochrechnung berücksichtigt. Vor der Umstellung basierten die Bevölkerungseck- werte auf der Fortschreibung der Ergebnisse des Zensus 2011. Die neu ermittelten Eckwerte bzw. Bevölkerungszahlen weichen von der bisher gültigen Bevölkerungszahl ab: Der registergestützte Zensus hat gezeigt, dass am 15. Mai 2022 in Deutschland 1,4 Millionen Men- schen weniger lebten als nach bisheriger Fortschreibung (-1,6 %). Insbesondere die Gruppe der Personen mit ausländischer Staatsange- hörigkeit ist nach den neuen Bevölkerungszahlen im Vergleich zur vorherigen Fortschreibung kleiner (-1 Million, -8,1 %).
A5: Das im Jahr 2016 novellierte Mikrozensusgesetz führte zu inhaltlichen Änderungen bei der Erhebung und Aufbereitung der Ergebnisse in den Themenbereichen Erwerbstätigkeit und Bevölkerung. Ab dem Erhebungsjahr 2017 wird der gesamte Merkmalskatalog nur noch bei der Bevölkerung in Privathaushalten erfasst. Für die deutschlandweit rund 1,233 Millionen Menschen in Gemeinschaftsunterkünften (unter 2 Prozent der Bevölkerung) werden einige ausgewählte Angaben wie Geschlecht, Alter, Familienstand, Staatsangehörigkeit und Hauptstatus erhoben. Die Vergleichbarkeit der Daten ab 2017 zu den Angaben der Vorjahre ist aufgrund dieser Änderung geringfügig ein- geschränkt.
A6: In die Erhebung sind seit 2020 für einen Teil der zu befragenden Haushalte Fragen der EU-weiten Statistik zur Arbeitsmarktbeteiligung, Fragen zu Einkommen und Lebensbedingungen und Fragen zur Nutzung von Informations- und Kommunikationstechnologien integriert. Zudem werden seit dem Berichtsjahr 2020 die Daten nur noch für Hauptwohnsitzhaushalte ausgewiesen und nicht länger für alle Privat- haushalte.
A28: Die Vergleichbarkeit der Daten ab 2020 zu den Angaben der Vorjahre ist aufgrund dieser Änderungen eingeschränkt.
A29: Für die familienbezogene Auswertung wird nach Lebensformen unterschieden, wobei zu den Familien im Mikrozensus ausschließlich jene Familienhaushalte zählen, in denen aktuell ledige Kinder mit mindestens einem Elternteil (auch Stief- oder Adoptivelternteil) leben.

Sheet Glossar
A1: Link zum Inhaltsverzeichnis
A2: Glossar
A3: Bei einer Gliederung nach Altersgruppen werden die Ergebnisse entsprechend der Altersjahrmethode nachgewiesen. Die Angaben bezie- hen sich auf das Alter in der Berichtswoche. Beim unterjährigen Mikrozensus mit gleitender Berichtswoche ist dies die Woche, die der Be- fragung vorangeht.
A4: In der Gliederung nach der Beteiligung am Erwerbsleben wird zwischen Erwerbspersonen (Erwerbstätige und Erwerbslose) und Nichter- werbspersonen unterschieden.
A5: Um die Haushalte in der Statistik abgrenzen zu können, wird eine Bezugsperson im Haushalt benötigt. Ihre Erhebungsmerkmale (z. B. Alter, Familienstand, Stellung im Beruf) werden dann für die gesamte Einheit "Haushalt" in der Statistik nachgewiesen. Die gesamte Einheit "Haushalt" wird stellvertretend durch die Erhebungsmerkmale der Haupteinkommensbezieherin bzw. des Haupteinkommensbeziehers des Haushalts statistisch nachgewiesen. Personen unter 15 Jahren sind als Bezugsperson ausgeschlossen.
A6: Die Familie im "statistischen Sinn" umfasst im Mikrozensus alle Eltern-Kind-Gemeinschaften, d. h. Ehepaare, nichteheliche (gegenge- schlechtliche) und gleichgeschlechtliche Lebensgemeinschaften sowie alleinerziehende Mütter und Väter mit ledigen Kindern im Haushalt. Einbezogen sind in diesen Familienbegriff – neben leiblichen Kindern – auch Stief‑/Pflege- und Adoptivkinder ohne Altersbegrenzung. Damit besteht eine "statistische" Familie immer aus zwei Generationen (Zwei-Generationen-Regel): Eltern/‑teile und im Haushalt lebende ledige Kinder. Kinder, die noch gemeinsam mit den Eltern in einem Haushalt leben, dort aber bereits eigene Kinder versorgen, sowie Kin- der, die nicht mehr ledig sind oder mit einer Partnerin bzw. einem Partner in einer Lebensgemeinschaft leben, werden im Mikrozensus nicht der Herkunftsfamilie zugerechnet, sondern zählen statistisch als eigene Familie bzw. Familienform.
A7: NICHT zu den Familien zählen im Mikrozensus Paare – Ehepaare und Lebensgemeinschaften – ohne Kinder sowie Alleinstehende. Hierzu gehören alle Frauen und Männer, die noch keine Kinder haben, deren Kinder noch im Haushalt leben, dort aber bereits eigene Kinder ver- sorgen, deren Kinder nicht mehr ledig oder Partnerin bzw. Partner einer Lebensgemeinschaft sind, sowie Frauen und Männer, die niemals Kinder versorgt haben, also dauerhaft kinderlos waren.
A8: Als Haushalt (Privathaushalt) zählt jede zusammen wohnende und eine wirtschaftliche Einheit bildende Personengemeinschaft sowie Per- sonen, die allein wohnen und wirtschaften. Zum Haushalt können verwandte und familienfremde Personen gehören (z. B. Hauspersonal). Gemeinschafts- und Anstaltsunterkünfte gelten nicht als Haushalte, können aber Privathaushalte beherbergen (z. B. Haushalt der Leitung der Gemeinschaftsunterkunft). Haushalte mit mehreren Wohnungen werden unter Umständen mehrfach gezählt.
A9: Ein Hauptwohnsitzhaushalt ist ein Haushalt, in dem mindestens eine Person wohnt und wirtschaftet, die an der zu befragenden Anschrift mit ihrem einzigen Wohnsitz oder dem Hauptwohnsitz gemeldet ist.
A10: Die Haushaltsgröße ergibt sich aus der Zahl der Haushaltsmitglieder.
A11: Alle Personen, die allein oder zusammen mit anderen Personen eine wirtschaftliche Einheit (Privathaushalt) bilden, werden als Haushalts- mitglieder bezeichnet.
A12: Kinder sind ledige Personen, die mit ihren Eltern oder einem Elternteil in einem Haushalt bzw. einer Familie zusammenleben. Eine Altersbe- grenzung für die Zählung als Kind besteht nicht. Als Kinder gelten auch ledige Stief-, Adoptiv- oder Pflegekinder, sofern die zuvor genannten Voraussetzungen vorliegen.
A13: Ermittelt wird die Gesamthöhe des individuellen Nettoeinkommens durch eine Selbsteinstufung der Befragten in vorgegebene Einkom- mensgruppen. Das monatliche Nettoeinkommen setzt sich aus der Summe aller Einkommensarten zusammen. Zu den wichtigsten Ein- kommensarten zählen: Lohn oder Gehalt, Unternehmereinkommen, Arbeitslosen­geld/‑hilfe, Sozialhilfe, Rente, Kindergeld, Wohngeld, BAföG, Stipendien, Alimentationszahlungen, private Unterstützungen. Entsprechend erfolgt eine Einstufung für den Haushalt in Einkom- mensklassen (Haushaltsnettoeinkommen).

Sheet Mehr zum Thema
A1: Link zum Inhaltsverzeichnis
A2: Mehr zum Thema
A3: Weitere Informationen zum Thema finden Sie auf der Website des Statistischen Amtes Mecklenburg-Vorpommern
A4: > https://www.laiv-mv.de/statistik/
A5: Statistische Berichte Mecklenburg-Vorpommern
A6: > A153 21 | B6: Bevölkerung, Haushalte und Familien (Mikrozensus) – Teil 1: Bevölkerung und Haushalte
A7: > A153 22 | B7: Bevölkerung, Haushalte und Familien (Mikrozensus) – Teil 2: Familien
A8: Qualitätsberichte Statistisches Bundesamt
A9: > Privathaushalte und Familien
A10: Fachliche Informationen
A11: Privathaushalte und Familien
A12: Christoph Epperlein, Telefon: 0385 588-56411, christoph.epperlein@statistik-mv.de
A13: Kirchliche Verhältnisse
A14: Marco Zimmermann, Telefon: 0385 588-56422, marco.zimmermann@statistik-mv.de
A15: Quellenangaben
A16: Vergleichsdaten: Statistisches Bundesamt
A17: Tabelle 2.1.6, 2.3.7 und 2.4.2 sowie Daten der Grafik 2.10: Statistische Ämter der Länder, gemäß statistischer Berichte auf den
A18: jeweiligen Veröffentlichungsplattformen
A19: Tabelle 2.5.1: Evangelisch-Lutherische Kirche in Norddeutschland
... A21: Tabelle 2.5.3: Zentralwohlfahrtsstelle der Juden in Deutschland e. V. und Zentralrat der Juden in Deutschland

Sheet  
