Workbook
Name _GrafikDaten_18.1: Titelblatt!$C$20:$E$30
Name _GrafikDaten_18.2: 'Überblick in Grafiken'!$C$3:$D$9
Name _GrafikDaten_18.3: 'Überblick in Grafiken'!$C$20:$G$33
Name _GrafikDaten_18.4: 'Überblick in Grafiken'!$C$40:$E$775
Name _GrafikDaten_18.5: '18.2.4'!$J$22:$M$34
Name _GrafikDaten_18.6: '18.3.3'!$G$23:$H$35
Name _Tabelle_18.1.1: '18.1.1'!$A$3:$K$42
Name _Tabelle_18.1.2: '18.1.2+18.1.3'!$A$3:$J$14
Name _Tabelle_18.1.3: '18.1.2+18.1.3'!$A$17:$J$28
Name _Tabelle_18.2.1: '18.2.1+18.2.2+18.2.3'!$A$3:$G$14
Name _Tabelle_18.2.2: '18.2.1+18.2.2+18.2.3'!$A$17:$G$23
Name _Tabelle_18.2.3: '18.2.1+18.2.2+18.2.3'!$A$26:$G$44
Name _Tabelle_18.2.4: '18.2.4'!$A$3:$H$20
Name _Tabelle_18.2.5: '18.2.5'!$A$3:$K$20
Name _Tabelle_18.2.6: '18.2.6+18.2.7'!$A$3:$H$21
Name _Tabelle_18.2.7: '18.2.6+18.2.7'!$A$24:$I$36
Name _Tabelle_18.2.8: '18.2.8'!$A$3:$E$24
Name _Tabelle_18.2.9: '18.2.9'!$A$3:$E$37
Name _Tabelle_18.3.1: '18.3.1+18.3.2'!$A$3:$J$16
Name _Tabelle_18.3.2: '18.3.1+18.3.2'!$A$19:$J$32
Name _Tabelle_18.3.3: '18.3.3'!$A$3:$E$21
Name _Tabelle_18.3.4: '18.3.4'!$A$3:$H$18
Name _Tabelle_18.3.5: '18.3.5'!$A$3:$G$36

Sheet Titelblatt
A1: Titelblatt des Kapitels 18 "Umwelt": Link zum Inhaltsverzeichnis
A2: 18 | Umwelt
A20: Grafik 18.1 | C20: Daten der Grafik 18.1 "Haushaltsabfälle je Einwohnerin bzw. Einwohner 2024 nach Kreisen (Durchschnittliche Bevölkerung 2024)"
C21: Kreise | D21: kg/EW | E21: Nachrichtlich: Durchschnittliche Bevölkerung 2024)
C22: Rostock | D22: ='18.3.1+18.3.2'!C27 -> 449.79769 | E22: 205128
C23: Schwerin | D23: ='18.3.1+18.3.2'!D27 -> 438.13936 | E23: 98079
C24: Mecklenburgische Seenplatte | D24: ='18.3.1+18.3.2'!E27 -> 407.60694 | E24: 246947
C25: Landkreis Rostock | D25: ='18.3.1+18.3.2'!F27 -> 381.13572 | E25: 218751
C26: Vorpommern-Rügen | D26: ='18.3.1+18.3.2'!G27 -> 551.56554 | E26: 215689
C27: Nordwestmecklenburg | D27: ='18.3.1+18.3.2'!H27 -> 499.72656 | E27: 156926
C28: Vorpommern-Greifswald | D28: ='18.3.1+18.3.2'!I27 -> 531.73273 | E28: 225569
C29: Ludwigslust-Parchim | D29: ='18.3.1+18.3.2'!J27 -> 417.73834 | E29: 208732
C30: Mecklenburg-Vorpommern | D30: ='18.3.1+18.3.2'!B27 -> 459 | E30: 1575918

Sheet Inhalt
A1: Inhaltsverzeichnis des Kapitels 18 "Umwelt": Die Gliederungen und Überschriften auf dieser Seite sind Links zum Inhalt.
A2: Inhaltsverzeichnis | C2: Seite
A3: Überblick | B3: Überblick in Grafiken | C3: =D3+428 -> 431 | D3: 3
B4: Überblick in Worten | C4: =D4+428 -> 432 | D4: 4
A5: Ergebnisse in Tabellen
A6: 18.1 | B6: Umweltschutzinvestitionen, Umweltschutzgüter und -leistungen
A7: 18.1.1 | B7: Umweltschutzinvestitionen der Betriebe im Produzierenden Gewerbe (ohne Baugewerbe) im Zeitvergleich nach Umweltbereichen sowie 2024 nach Wirtschaftsgliederung | C7: =D7+428 -> 433 | D7: 5
A8: 18.1.2 | B8: Umsatz mit Umweltschutzgütern und -leistungen im Zeitvergleich | C8: =D8+428 -> 434 | D8: 6
A9: 18.1.3 | B9: Umsatz mit Umweltschutzgütern und -leistungen 2024 nach Kreisen | C9: =D9+428 -> 434 | D9: 6
A10: 18.2 | B10: Wasser und Abwasser
A11: 18.2.1 | B11: Wassergewinnung im Zeitvergleich nach Wirtschaftsgliederung | C11: =D11+428 -> 435 | D11: 7
A12: 18.2.2 | B12: Wasserabgabe der Wasserversorgungsunternehmen an Letztverbraucherinnen und Letztverbraucher im Zeitvergleich | C12: =D12+428 -> 435 | D12: 7
A13: 18.2.3 | B13: Abwasserentsorgung im Zeitvergleich | C13: =D13+428 -> 435 | D13: 7
A14: 18.2.4 | B14: Anschluss der Bevölkerung an die öffentliche Wasserversorgung und Abwasserentsorgung im Zeitvergleich | C14: =D14+428 -> 436 | D14: 8
A15: 18.2.5 | B15: Anschluss der Bevölkerung an die öffentliche Wasserversorgung und Abwasserentsorgung 2022 nach Kreisen | C15: =D15+428 -> 437 | D15: 9
A16: 18.2.6 | B16: Anschluss der Bevölkerung an die öffentliche Kanalisation 2022 im Ländervergleich | C16: =D16+428 -> 438 | D16: 10
A17: 18.2.7 | B17: Klärschlammentsorgung aus der öffentlichen biologischen Abwasserbehandlung im Zeitvergleich | C17: =D17+428 -> 438 | D17: 10
A18: 18.2.8 | B18: Durchschnittliche Entgelte für die öffentliche Wasserversorgung und Abwasserentsorgung am 1. Januar im Zeitvergleich | C18: =D18+428 -> 439 | D18: 11
A19: 18.2.9 | B19: Unfälle mit wassergefährdenden Stoffen 2024 | C19: =D19+428 -> 440 | D19: 12
A20: 18.3 | B20: Abfallwirtschaft
A21: 18.3.1 | B21: Aufkommen an Haushaltsabfällen im Zeitvergleich | C21: =D21+428 -> 441 | D21: 13
A22: 18.3.2 | B22: Aufkommen an Haushaltsabfällen 2024 nach Kreisen | C22: =D22+428 -> 441 | D22: 13
A23: 18.3.3 | B23: Entsorgungsanlagen, eingesetzte Abfälle, abgegebene Abfälle bzw. Erzeugnisse 2024 | C23: =D23+428 -> 442 | D23: 14
A24: 18.3.4 | B24: In Entsorgungsanlagen behandelte bzw. beseitigte Abfallmenge im Zeitvergleich nach ausgewählten Abfallarten | C24: =D24+428 -> 443 | D24: 15
A25: 18.3.5 | B25: Erzeugte und zur Entsorgung abgegebene gefährliche Abfälle im Zeitvergleich sowie nach ausgewählten Abfallarten und nach Wirtschaftsgliederung der Erzeuger | C25: =D25+428 -> 444 | D25: 16
A26: Ergebnisse in Grafiken
A27: 18.1 | B27: Haushaltsabfälle je Einwohnerin bzw. Einwohner 2024 nach Kreisen | C27: =D27+428 -> 429 | D27: 1
A28: 18.2 | B28: Umsatz in der Umweltschutzwirtschaft 2024 nach Umweltschutzbereichen | C28: =D28+428 -> 431 | D28: 3
A29: 18.3 | B29: Aufkommen an Haushaltsabfällen im Zeitvergleich nach Abfallarten | C29: =D29+428 -> 431 | D29: 3
A30: 18.4 | B30: Entgelte für die öffentliche Wasserversorgung 2025 nach Gemeinden | C30: =D30+428 -> 431 | D30: 3
A31: 18.5 | B31: Jahresabwassermenge in Mecklenburg-Vorpommern im Zeitvergleich | C31: =D31+428 -> 436 | D31: 8
A32: 18.6 | B32: In Abfallentsorgungsanlagen behandelte bzw. beseitigte Abfallmengen 2024 nach Anlagenarten | C32: =D32+428 -> 442 | D32: 14
A33: Erläuterungen
A34: Fußnotenerläuterungen | C34: =D34+428 -> 445 | D34: 17
A35: Methodik | C35: =D35+428 -> 446 | D35: 18
A36: Glossar | C36: =D36+428 -> 447 | D36: 19
A37: Mehr zum Thema | C37: =D37+428 -> 448 | D37: 20

Sheet Überblick in Grafiken
A1: Link zum Inhaltsverzeichnis
A2: Überblick in Grafiken
A3: Grafik 18.2 | C3: Daten der Grafik 18.2 "Umsatz in der Umweltschutzwirtschaft 2024 nach Umweltschutzbereichen" Gesamtumsatz: 5,18 Mrd. EUR=100 %
C4: Umweltschutzbereich | D4: Anteil in %
C5: Abfallwirtschaft | D5: ='18.1.2+18.1.3'!J7*100/'18.1.2+18.1.3'!J5 -> 1.0407112
C6: Abwasserwirtschaft | D6: ='18.1.2+18.1.3'!J8*100/'18.1.2+18.1.3'!J5 -> 4.904718
C7: Schutz und Sanierung von Boden, Grund- und Oberflächenwasser | D7: ='18.1.2+18.1.3'!J12*100/'18.1.2+18.1.3'!J5 -> 0.17244152
C8: Klimaschutz | D8: ='18.1.2+18.1.3'!J13*100/'18.1.2+18.1.3'!J5 -> 92.721605
C9: Übrige Bereiche (Lärmbekämpfung, Luftreinhaltung, Arten- und Landschaftsschutz) und bereichsübergreifend | D9: =(Tabelle_18.1.2[[#This Row],[2024 in 1.000 EUR]]+'18.1.2+18.1.3'!J10+'18.1.2+18.1.3'!J11+'18.1.2+18.1.3'!J14)*100/'18.1.2+18.1.3'!J5 -> 1.1605052
A20: Grafik 18.3 | C20: Daten der Grafik 18.3 "Aufkommen an Haushaltsabfällen im Zeitvergleich nach Abfallarten"
C21: Jahr | D21: Haus- und Sperrmüll | E21: Wertstoffe | F21: Organische Abfälle (Biotonne, Garten/Parkabfälle) | G21: Sonstige Abfälle
C22: 2005 | D22: 400.555 | E22: 245.585 | F22: 70.921 | G22: 0.945
C23: 2010 | D23: 378.109 | E23: 222.407 | F23: 81.916 | G23: 0.9574
C24: 2015 | D24: 368.102 | E24: 211.736 | F24: 103.52 | G24: 1.091
C25: 2016 | D25: 364.027 | E25: 215.426 | F25: 120.146 | G25: 1.014
C26: 2017 | D26: 363.234 | E26: 214.864 | F26: 131.023 | G26: 1.011
C27: 2018 | D27: 367.869 | E27: 210.664 | F27: 124.779 | G27: 0.978
C28: 2019 | D28: 367.321 | E28: 211.531 | F28: 143.264 | G28: 1.061
C29: 2020 | D29: 379.634 | E29: 223.1659 | F29: 151.742 | G29: 1.02595
C30: 2021 | D30: 370.472 | E30: 221.39 | F30: 155.746 | G30: 1.09
C31: 2022 | D31: 359.82 | E31: 207.469 | F31: 126.026 | G31: 0.97
C32: 2023 | D32: 356.063 | E32: 205.54319 | F32: 129.868 | G32: 1.06062
C33: 2024 | D33: ='18.3.1+18.3.2'!I7/1000 -> 364.978 | E33: ='18.3.1+18.3.2'!I8/1000 -> 213.167 | F33: ='18.3.1+18.3.2'!I9/1000 -> 144.535 | G33: ='18.3.1+18.3.2'!I10/1000 -> 1.114
A39: Grafik 18.4
C40: Daten der Grafik 18.4 "Entgelte für die öffentliche Wasserversorgung 2025 nach Gemeinden" (Gebietsstand: 1. Januar 2025)
C41: Land/Kreis/Gemeinde | D41: Gemeindeschlüssel | E41: EUR/Haushalt
C42: Mecklenburg-Vorpommern | D42: 13000000 | E42: 277.472
C43: Rostock | D43: 13003000 | E43: 341.234
C44: Schwerin | D44: 13004000 | E44: 327.972
C45: Mecklenburgische Seenplatte | D45: 13071000 | E45: 252.822
C46: Landkreis Rostock | D46: 13072000 | E46: 306.006
C47: Vorpommern-Rügen | D47: 13073000 | E47: 263.038
C48: Nordwestmecklenburg | D48: 13074000 | E48: 231.574
C49: Vorpommern-Greifswald | D49: 13075000 | E49: 285.254
C50: Ludwigslust-Parchim | D50: 13076000 | E50: 235.324
C52: Rostock, Hansestadt | D52: 13003000 | E52: 341.234
C53: Schwerin, Landeshauptstadt | D53: 13004000 | E53: 327.972
C54: Alt Schwerin | D54: 13071001 | E54: 277.684
C55: Altenhagen | D55: 13071002 | E55: 223.156
C56: Altenhof | D56: 13071003 | E56: 328.412
...

Sheet Überblick in Worten
A1: Link zum Inhaltsverzeichnis
A2: Überblick in Worten
A3: § | B3: Für Umweltschutzmaßnahmen haben die Betriebe des Produzierenden Gewerbes (ohne Baugewerbe) 2024 rund 628 Mil- lionen EUR ausgegeben. Dabei wurden rund 70 Prozent der Investitionen der Umweltschutzmaßnahmen, 438 Millionen EUR, für den Klimaschutz getätigt.
A4: § | B4: Die Umweltschutzwirtschaft in Mecklenburg-Vorpommern erzielte im Jahr 2024 insgesamt rund 5,2 Milliarden EUR Umsatz. Davon entfielen fast 4,8 Milliarden EUR auf den Klimaschutz, was einem Anteil von etwa 93 Prozent des Gesamtumsatzes der Umweltschutzwirtschaft entspricht.
A5: § | B5: Durch öffentliche und nichtöffentliche Unternehmen der Wasserversorgung wurden im Jahr 2022 insgesamt 169,9 Millio- nen Kubikmeter Wasser gewonnen, darunter 66,7 Prozent aus Grund- und Quellwasser.
A6: § | B6: An die öffentliche Trinkwasserversorgung waren im Jahr 2022 wie bereits 2019 nahezu alle Einwohnerinnen und Einwohner Mecklenburg-Vorpommerns angeschlossen (99,8 Prozent). Einen Anschluss an die öffentliche Kanalisation hatten 89,6 Pro- zent der Bevölkerung.
A7: § | B7: Der durchschnittliche Pro-Kopf-Verbrauch an Trinkwasser in den Haushalten einschließlich des Kleingewerbes belief sich im Jahr 2022 auf 115 Liter pro Tag und lag damit leicht unter der Verbrauchsmenge von 2019 (117 Liter pro Kopf und Tag).
A8: § | B8: In den öffentlichen Abwasserbehandlungsanlagen des Landes wurden 2022 insgesamt 88,5 Millionen Kubikmeter Abwasser behandelt, davon 77,7 Millionen Kubikmeter häusliches und gewerbliches Schmutzwasser, 4,7 Millionen Kubikmeter von versiegelten Flächen eingeleitetes Niederschlagswasser und 6,0 Millionen Kubikmeter Fremdwasser, zum Beispiel durch Undichtigkeiten in die Kanalisation eindringendes Grundwasser.
A9: § | B9: Der Klärschlamm aus öffentlichen Abwasserbehandlungsanlagen wurde im Jahr 2024 zur Hälfte (49,0 Prozent) auf land- wirtschaftlichen Flächen verwertet. Der Trend, dass die Verbrennung von Klärschlamm abnimmt, hat sich 2024 nicht fortgesetzt. Mit 46,6 Prozent ist ein Anstieg im Vergleich zum Vorjahr mit 40,7 Prozent vorhanden.
A10: § | B10: Bei 19 Unfällen im Jahr 2024 wurden zusammen 1.513,2 Kubikmeter wassergefährdende Stoffe freigesetzt. Von dieser Menge konnten 504,1 Kubikmeter (33,3 Prozent) nicht wiedergewonnen werden. Die nicht wiedergewonnene Frei- setzungsmenge betraf fast vollständig sonstige Stoffe mit einer allgemeinen Wassergefährdung, die ganz vorrangig bei Unfällen beim Umgang mit sonstigen Stoffen, wie zum Beispiel Jauche oder Gülle, freigesetzt worden sind.
A11: § | B11: Mit 364.978 Tonnen lag die Menge an Haus- und Sperrmüll im Jahr 2024 über den Mengen der direkten Vorjahre. Haus- und Sperrmüll macht rund 50 Prozent der Haushaltsabfälle aus. Das Pro-Kopf-Aufkommen an Haus- und Sperrmüll lag 2024 bei 232 Kilogramm je Einwohnerin bzw. Einwohner.
A12: § | B12: In den 211 Entsorgungsanlagen (ohne Bauschuttaufbereitungs- und Asphaltmischanlagen) Mecklenburg-Vorpommerns wurden im Jahr 2024 insgesamt rund 5,67 Millionen Tonnen Abfälle behandelt bzw. beseitigt. Bau- und Abbruchabfälle (50,6 Prozent) und Abfälle aus der Abfall- und Abwasserbehandlung und Wasseraufbereitung (23,8 Prozent) hatten daran den größten Anteil.
A13: § | B13: In Betrieben und Einrichtungen Mecklenburg-Vorpommerns wurden im Jahr 2024 insgesamt 234.651 Tonnen gefährliche Abfälle erzeugt und an Entsorger überwiegend im eigenen Land abgegeben. Dabei handelte es sich zu 39,9 Prozent um be- lastete Bau- und Abbruchabfälle.

Sheet 18.1.1
A1: Link zum Inhaltsverzeichnis
A2: 18.1 Umweltschutzinvestitionen, Umweltschutzgüter und -leistungen
A3: 18.1.1 Umweltschutzinvestitionen der Betriebe im Produzierenden Gewerbe (ohne Baugewerbe) im Zeitvergleich nach Umweltbereichen
A4: sowie 2024 nach Wirtschaftsgliederung
A5: Nr. der Klassi- fika- tion | B5: Merkmal | C5: Betriebe mit Umwelt- schutz- investi- tionen | D5: Umwelt- schutz- investi- tionen insge- samt in 1.000 EUR | E5: In der Abfall- wirtschaft in 1.000 EUR | F5: In der Ab- wasser- wirt- schaft in 1.000 EUR | G5: Im Lärm- und Erschüt- terungs- schutz in 1.000 EUR | H5: Zur Luftrein- haltung in 1.000 EUR | I5: Für den Arten- und Land- schafts- schutz in 1.000 EUR | J5: Zum Schutz und zur Sanierung von Boden, Grund- und Ober- flächenwasser in 1.000 EUR | K5: Für den Klima- schutz in 1.000 EUR
B6: 2008 | C6: 145 | D6: 104625 | E6: 22056 | F6: . | G6: 2405 | H6: 6953 | I6: . | J6: . | K6: 13413
B7: 2009 | C7: 147 | D7: 114091 | E7: 10469 | F7: . | G7: 427 | H7: 5098 | I7: . | J7: . | K7: 54858
B8: 2010 | C8: 161 | D8: 133122 | E8: 25446 | F8: . | G8: 587 | H8: 4691 | I8: . | J8: . | K8: 48892
B9: 2012 | C9: 181 | D9: 156815 | E9: 23226 | F9: . | G9: 538 | H9: 2101 | I9: . | J9: . | K9: 50513
B10: 2013 | C10: 180 | D10: 143189 | E10: 33397 | F10: . | G10: 552 | H10: 2744 | I10: . | J10: . | K10: 40842
B11: 2014 | C11: 207 | D11: 160990 | E11: 37725 | F11: . | G11: 817 | H11: 4087 | I11: . | J11: . | K11: 47100
B12: 2015 | C12: 214 | D12: 159469 | E12: 37392 | F12: . | G12: 756 | H12: 3302 | I12: . | J12: . | K12: 55093
B13: 2016 | C13: 233 | D13: 188840 | E13: 33972 | F13: 68677 | G13: 218 | H13: 3717 | I13: 496 | J13: 10777 | K13: 70982
B14: 2017 | C14: 218 | D14: 203108 | E14: 23804 | F14: 64903 | G14: . | H14: 3207 | I14: . | J14: 9241 | K14: 101282
B15: 2018 | C15: 230 | D15: 233206 | E15: 45009 | F15: 75997 | G15: 552 | H15: 14437 | I15: 272 | J15: 2759 | K15: 94180
B16: 2019 | C16: 263 | D16: 252745 | E16: 58161 | F16: 116938 | G16: 286 | H16: 2358 | I16: 251 | J16: 2331 | K16: 72419
B17: 2020 | C17: 268 | D17: 258805 | E17: 50940 | F17: 121447 | G17: 17 | H17: 3671 | I17: 450 | J17: 5785 | K17: 76494
B18: 2021 | C18: 243 | D18: 287742 | E18: 27975 | F18: 81122 | G18: 88 | H18: 5631 | I18: 312 | J18: 2705 | K18: 169909
B19: 2022 | C19: 273 | D19: 329050 | E19: 55599 | F19: . | G19: . | H19: 16206 | I19: 1950 | J19: 1241 | K19: 152694
B20: 2023 | C20: 272 | D20: 263467 | E20: 36463 | F20: 134708 | G20: 687 | H20: 14879 | I20: 812 | J20: 4004 | K20: 71913
B21: 2024 | C21: 227 | D21: 628230 | E21: 58388 | F21: 114244 | G21: 1953 | H21: 11780 | I21: 436 | J21: 3212 | K21: 438217
A22: B, C | B22: Bergbau und Gewinnung von Steinen und Erden sowie Verarbeitendes Gewerbe | C22: 109 | D22: . | E22: . | F22: . | G22: . | H22: . | I22: . | J22: 830 | K22: .
B23: darunter
A24: 10 | B24: H. v. Nahrungs- und Futter- mitteln | C24: 31 | D24: 42819 | E24: . | F24: 11211 | G24: . | H24: 491 | I24: - | J24: . | K24: 15471
A25: 11 | B25: Getränkeherstellung | C25: 3 | D25: 6227 | E25: . | F25: . | G25: . | H25: - | I25: - | J25: - | K25: .
A26: 17 | B26: H. v. Papier, Pappe und Waren daraus | C26: 2 | D26: . | E26: - | F26: - | G26: - | H26: . | I26: - | J26: - | K26: .
A27: 20 | B27: H. v. chemischen Erzeugnissen | C27: 2 | D27: . | E27: - | F27: . | G27: - | H27: . | I27: - | J27: - | K27: -
A28: 23 | B28: H. v. Glas und Glaswaren, Keramik, Verarbeitung von Steinen und Erden | C28: 12 | D28: 1154 | E28: 300 | F28: . | G28: - | H28: . | I28: - | J28: - | K28: 200
A29: 24 | B29: Metallerzeugung und -bearbeitung | C29: 5 | D29: 725 | E29: . | F29: - | G29: - | H29: . | I29: - | J29: - | K29: 478
A30: 25 | B30: H. v. Metallerzeugnissen | C30: 8 | D30: 1485 | E30: . | F30: . | G30: - | H30: 1182 | I30: - | J30: . | K30: 263
A31: 27 | B31: H. v. elektrischen Ausrüstungen | C31: 4 | D31: . | E31: - | F31: - | G31: - | H31: . | I31: - | J31: - | K31: .
A32: 28 | B32: Maschinenbau | C32: 10 | D32: 1249 | E32: - | F32: . | G32: - | H32: 389 | I32: - | J32: . | K32: .
A33: 29 | B33: H. v. Kraftwagen und Kraft- wagenteilen | C33: 3 | D33: 1268 | E33: . | F33: - | G33: - | H33: . | I33: . | J33: . | K33: .
A34: 30 | B34: sonstiger Fahrzeugbau | C34: 1 | D34: . | E34: . | F34: - | G34: . | H34: . | I34: - | J34: . | K34: .
A35: 32 | B35: H. v. sonstigen Waren | C35: 2 | D35: . | E35: - | F35: - | G35: - | H35: . | I35: . | J35: - | K35: .
A36: 33 | B36: Reparatur und Installation von Maschinen und Ausrüstungen | C36: 6 | D36: 554 | E36: . | F36: . | G36: . | H36: 84 | I36: - | J36: 49 | K36: 179
A37: D, E | B37: Energieversorgung sowie Wasser- versorgung; Abwasser- und Ab- fallentsorgung und Beseitigung von Umweltverschmutzungen | C37: 118 | D37: 565296 | E37: . | F37: . | G37: . | H37: . | I37: . | J37: . | K37: .
B38: davon
A39: 35 | B39: Energieversorgung | C39: 38 | D39: 410423 | E39: . | F39: . | G39: . | H39: 4781 | I39: . | J39: . | K39: 401597
A40: 36 | B40: Wasserversorgung | C40: 6 | D40: . | E40: - | F40: 6553 | G40: - | H40: . | I40: - | J40: - | K40: 798
...

Sheet 18.1.2+18.1.3
A1: Link zum Inhaltsverzeichnis
A2: 18.1 Umweltschutzinvestitionen, Umweltschutzgüter und -leistungen
A3: 18.1.2 Umsatz mit Umweltschutzgütern und -leistungen im Zeitvergleich
A4: Merkmal | B4: 2016 in 1.000 EUR | C4: 2017 in 1.000 EUR | D4: 2018 in 1.000 EUR | E4: 2019 in 1.000 EUR | F4: 2020 in 1.000 EUR | G4: 2021 in 1.000 EUR | H4: 2022 in 1.000 EUR | I4: 2023 in 1.000 EUR | J4: 2024 in 1.000 EUR
A5: Insgesamt | B5: 3772939 | C5: 3867477 | D5: 2483257 | E5: 2185136 | F5: 2626340 | G5: 3483602 | H5: 3693851 | I5: 4738074 | J5: 5179727
A6: davon erzielt mit Gütern und Leistungen für
A7: Abfallwirtschaft | B7: 50623 | C7: 42647 | D7: 44732 | E7: 37879 | F7: 34861 | G7: 12012 | H7: 44534 | I7: 46049 | J7: 53906
A8: Abwasserwirtschaft | B8: 164456 | C8: 169620 | D8: 169855 | E8: 151184 | F8: 186780 | G8: 176578 | H8: 204829 | I8: 252591 | J8: 254051
A9: Lärmbekämpfung | B9: 4296 | C9: 4463 | D9: 5319 | E9: 6106 | F9: 11396 | G9: 7557 | H9: 11154 | I9: 15695 | J9: 12322
A10: Luftreinhaltung | B10: 16664 | C10: 17113 | D10: 14854 | E10: 14136 | F10: 13502 | G10: 26532 | H10: 30067 | I10: 119189 | J10: 23861
A11: Arten- und Landschafts- schutz | B11: 13033 | C11: 11679 | D11: 25497 | E11: 13950 | F11: 16415 | G11: 17941 | H11: 14870 | I11: . | J11: 20338
A12: Schutz und Sanierung von Boden, Grund- und Oberflächenwasser | B12: 36112 | C12: 59561 | D12: 61640 | E12: 53263 | F12: 50803 | G12: 9716 | H12: 12006 | I12: 10619 | J12: 8932
A13: Klimaschutz | B13: 3464545 | C13: 3540640 | D13: 2147907 | E13: 1898577 | F13: 2311258 | G13: 3230164 | H13: 3374916 | I13: 4271765 | J13: 4802726
A14: bereichsübergreifend | B14: 23209 | C14: 21753 | D14: 13452 | E14: 10041 | F14: 1325 | G14: 3101 | H14: 1476 | I14: . | J14: 3590
A17: 18.1.3 Umsatz mit Umweltschutzgütern und -leistungen 2024 nach Kreisen
A18: Merkmal | B18: Mecklen-burg-Vor-pommern in 1.000 EUR | C18: Rostock in 1.000 EUR | D18: Schwerin in 1.000 EUR | E18: Mecklen-burgische Seenplatte in 1.000 EUR | F18: Landkreis Rostock in 1.000 EUR | G18: Vor-pommern-Rügen in 1.000 EUR | H18: Nordwest-mecklen-burg in 1.000 EUR | I18: Vor-pommern-Greifswald in 1.000 EUR | J18: Ludwigslust-Parchim in 1.000 EUR
A19: Insgesamt | B19: 5179727 | C19: 4020197 | D19: 103737 | E19: 375500 | F19: 281803 | G19: 56639 | H19: 55658 | I19: 96127 | J19: 190067
A20: davon erzielt mit Gütern und Leistungen für
A21: Abfallwirtschaft | B21: 53906 | C21: 2557 | D21: . | E21: . | F21: 831 | G21: . | H21: . | I21: . | J21: .
A22: Abwasserwirtschaft | B22: 254051 | C22: 19195 | D22: 9896 | E22: 122300 | F22: 32244 | G22: 14593 | H22: 13734 | I22: 22189 | J22: 19900
A23: Lärmbekämpfung | B23: 12322 | C23: 1599 | D23: 2294 | E23: 2492 | F23: 2154 | G23: 1569 | H23: 111 | I23: - | J23: 2103
A24: Luftreinhaltung | B24: 23861 | C24: 2128 | D24: . | E24: . | F24: . | G24: . | H24: . | I24: 2314 | J24: -
A25: Arten- und Landschafts- schutz | B25: 20338 | C25: . | D25: . | E25: 948 | F25: 5796 | G25: 9275 | H25: . | I25: . | J25: .
A26: Schutz und Sanierung von Boden, Grund- und Oberflächenwasser | B26: 8932 | C26: 403 | D26: 156 | E26: . | F26: 2571 | G26: 2141 | H26: . | I26: 2276 | J26: .
A27: Klimaschutz | B27: 4802726 | C27: 3993756 | D27: 88491 | E27: 198579 | F27: 225019 | G27: 25426 | H27: 38780 | I27: 66712 | J27: 165963
A28: bereichsübergreifend | B28: 3590 | C28: . | D28: . | E28: . | F28: . | G28: - | H28: - | I28: - | J28: -

Sheet 18.2.1+18.2.2+18.2.3
A1: Link zum Inhaltsverzeichnis
A2: 18.2 Wasser und Abwasser
A3: 18.2.1 Wassergewinnung im Zeitvergleich nach Wirtschaftsgliederung
A4: Merkmal | B4: Einheit | C4: 2010 | D4: 2013 | E4: 2016 | F4: 2019 | G4: 2022
A5: Insgesamt | B5: 1.000 m³ | C5: 131888 | D5: 141460 | E5: 166594 | F5: 178181 | G5: 169928
A6: und zwar
A7: Grund- und Quellwasser | B7: 1.000 m³ | C7: 96072 | D7: 100982 | E7: 113807 | F7: 111600 | G7: 113304
A8: Oberflächenwasser | B8: 1.000 m³ | C8: 35816 | D8: 40477 | E8: 52787 | F8: 66581 | G8: 56624
A9: Öffentliche Wasserversorgung 1) | B9: 1.000 m³ | C9: 93698 | D9: 93104 | E9: 96289 | F9: 97650 | G9: 97781
A10: Land- und Forstwirtschaft, Fischerei | B10: 1.000 m³ | C10: 10740 | D10: 17317 | E10: 39385 | F10: 50260 | G10: 42679
A11: Verarbeitendes Gewerbe sowie Bergbau und Gewinnung von Steinen und Erden | B11: 1.000 m³ | C11: 15749 | D11: 17528 | E11: 16309 | F11: 16360 | G11: 16189
A12: Energieversorgung | B12: 1.000 m³ | C12: 7858 | D12: 7483 | E12: 7727 | F12: 6787 | G12: 5999
A13: Abwasser- und Abfallentsorgung und Beseitigung von Umwelt- verschmutzungen | B13: 1.000 m³ | C13: 1958 | D13: 1366 | E13: 1702 | F13: 1676 | G13: 5619
A14: übrige Wirtschaftsbereiche | B14: 1.000 m³ | C14: 1885 | D14: 4662 | E14: 5182 | F14: 5449 | G14: 1662
A17: 18.2.2 Wasserabgabe der Wasserversorgungsunternehmen an Letztverbraucherinnen und Letztverbraucher im Zeitvergleich
A18: Merkmal | B18: Einheit | C18: 2010 | D18: 2013 | E18: 2016 | F18: 2019 | G18: 2022
A19: Wasserabgabe an Letztverbraucherinnen und Letztverbraucher | B19: 1.000 m³ | C19: 84903 | D19: 85788 | E19: 89443 | F19: 91467 | G19: 91241
A20: davon
A21: an Privathaushalte und Kleingewerbe | B21: 1.000 m³ | C21: 63651 | D21: 60718 | E21: 62806 | F21: 67782 | G21: 67122
A22: an gewerbliche und sonstige Abnehmerinnen und Abnehmer | B22: 1.000 m³ | C22: 21252 | D22: 25070 | E22: 26637 | F22: 23685 | G22: 24119
A23: Wasserverbrauch der Privathaushalte und des Kleingewerbes je Einwohnerin bzw. Einwohner 2) und Tag | B23: Liter | C23: 106 | D23: 104 | E23: 108 | F23: 117 | G23: 115
A26: 18.2.3 Abwasserentsorgung im Zeitvergleich
A27: Merkmal | B27: Einheit | C27: 2010 | D27: 2013 | E27: 2016 | F27: 2019 | G27: 2022
A28: Öffentliche Abwasserentsorgung
A29: Länge der öffentlichen Kanalisation 3) in Mecklenburg-Vorpommern | B29: km | C29: 15157 | D29: 15719 | E29: 15827 | F29: 16463 | G29: 16681
A30: Mischwasserkanäle | B30: km | C30: 624 | D30: 601 | E30: 586 | F30: 617 | G30: 599
A31: Schmutzwasserkanäle | B31: km | C31: 10719 | D31: 11003 | E31: 11038 | F31: 11435 | G31: 11675
A32: Regenwasserkanäle | B32: km | C32: 3814 | D32: 4116 | E32: 4203 | F32: 4412 | G32: 4407
A33: Zentrale Abwasserbehandlungsanlagen in Mecklenburg-Vorpommern 4) | B33: Anzahl | C33: 588 | D33: 598 | E33: 597 | F33: 587 | G33: 584
A34: In den zentralen Abwasserbehandlungsanlagen Mecklenburg- Vorpommerns behandelte Abwassermenge | B34: 1.000 m³ | C34: 90506 | D34: 92158 | E34: 89110 | F34: 89655 | G34: 88525
A35: Schmutzwasser | B35: 1.000 m³ | C35: 69608 | D35: 73417 | E35: 78109 | F35: 78745 | G35: 77729
A36: Fremdwasser | B36: 1.000 m³ | C36: 9924 | D36: 9869 | E36: 5010 | F36: 5536 | G36: 6039
A37: Niederschlagswasser | B37: 1.000 m³ | C37: 10974 | D37: 8872 | E37: 5991 | F37: 5374 | G37: 4757
A38: Nichtöffentliche Abwasserentsorgung
A39: in Betrieben unbehandeltes Abwasser | B39: 1.000 m³ | C39: 25587 | D39: 33307 | E39: 33770 | F39: 36930 | G39: 31441
A40: Bezug von Abwasser von anderen Betrieben oder Einrichtungen | B40: 1.000 m³ | C40: 342 | D40: 396 | E40: 616 | F40: 32 | G40: 1062
A41: Abgabe von Abwasser an andere Betriebe (jedoch nicht in eine öffentliche Kläranlage) | B41: 1.000 m³ | C41: 84 | D41: 287 | E41: 15 | F41: 20 | G41: 2893
A42: Direkteinleitungen der Betriebe und Einrichtungen außerhalb der öffentlichen Abwasserentsorgung in ein Oberflächen- gewässer bzw. in den Untergrund | B42: 1.000 m³ | C42: 14225 | D42: 19087 | E42: 18113 | F42: 19557 | G42: 13880
A43: Abwasserableitung in betriebseigenen Kläranlagen | B43: 1.000 m³ | C43: 7141 | D43: 7318 | E43: 4432 | F43: 4787 | G43: 6145
A44: Abwasserableitung in die öffentliche Kanalisation bzw. in öffentliche Abwasserbehandlungsanlagen | B44: 1.000 m³ | C44: 4478 | D44: 7010 | E44: 11826 | F44: 12597 | G44: 9585

Sheet 18.2.4
A1: Link zum Inhaltsverzeichnis
A2: 18.2 Wasser und Abwasser
A3: 18.2.4 Anschluss der Bevölkerung an die öffentliche Wasserversorgung und Abwasserentsorgung im Zeitvergleich
A4: Merkmal | B4: Einheit | C4: 1991 | D4: 2010 | E4: 2013 | F4: 2016 | G4: 2019 | H4: 2022
A5: Gemeinden | B5: Anzahl | C5: 1123 | D5: 814 | E5: 780 | F5: 753 | G5: 726 | H5: 726
A6: darunter
A7: teilweise ohne öffentliche Wasserversorgung | B7: Anzahl | C7: . | D7: 386 | E7: 355 | F7: 358 | G7: 312 | H7: 347
A8: Bevölkerung 5) | B8: 1.000 | C8: 1891.7 | D8: 1646.5 | E8: 1596.9 | F8: 1611.1 | G8: 1609.1 | H8: 1611.2
A9: mit öffentlicher Wasserversorgung | B9: 1.000 | C9: 1794.6 | D9: 1640.7 | E9: 1592.3 | F9: 1606.7 | G9: 1605.2 | H9: 1607.3
B10: % | C10: 94.9 | D10: 99.6 | E10: 99.7 | F10: 99.7 | G10: 99.8 | H10: 99.8
A11: ohne öffentliche Wasserversorgung | B11: 1.000 | C11: 97.1 | D11: 5.8 | E11: 4.6 | F11: 4.4 | G11: 3.9 | H11: 3.9
B12: % | C12: 5.1 | D12: 0.4 | E12: 0.3 | F12: 0.3 | G12: 0.2 | H12: 0.2
A13: mit Anschluss an die öffentliche Kanalisation | B13: 1.000 | C13: 1234.2 | D13: 1442.8 | E13: 1416 | F13: 1438.1 | G13: 1441.3 | H13: 1443.7
B14: % | C14: 65.2 | D14: 87.6 | E14: 88.7 | F14: 89.3 | G14: 89.6 | H14: 89.6
A15: ohne Anschluss an die öffentliche Kanalisation | B15: 1.000 | C15: 657.5 | D15: 203.7 | E15: 180.9 | F15: 173 | G15: 167.8 | H15: 167.4
B16: % | C16: 34.8 | D16: 12.4 | E16: 11.3 | F16: 10.7 | G16: 10.4 | H16: 10.4
A17: mit Anschluss an eine zentrale Abwasserbehandlungs- anlage 6) | B17: 1.000 | C17: . | D17: 1464.1 | E17: 1435.3 | F17: 1459.9 | G17: 1461.2 | H17: 1454.7
B18: % | C18: . | D18: 88.9 | E18: 89.9 | F18: 90.6 | G18: 90.8 | H18: 90.3
A19: mit Anschluss an Kleinkläranlagen, Zuleitung und Ableitung des Schmutzwassers über private Kanalisation 7) | B19: 1.000 | C19: . | D19: 180.8 | E19: 160.8 | F19: 135.1 | G19: 135.7 | H19: 136.6
B20: % | C20: . | D20: 11 | E20: 10.1 | F20: 8.4 | G20: 8.4 | H20: 8.5
A22: Grafik 18.5 | J22: Daten der Grafik 18.5 "Jahresabwassermenge in Mecklenburg-Vorpommern im Zeitvergleich"
J23: Jahr | K23: Schmutzwasser | L23: Fremdwasser | M23: Niederschlagswasser
J24: 1991 | K24: 90027 | L24: 3000 | M24: 10791
J25: 1995 | K25: 62555 | L25: 10122 | M25: 7245
J26: 1998 | K26: 61291 | L26: 11974 | M26: 13141
J27: 2001 | K27: 65605 | L27: 14182 | M27: 15944
J28: 2004 | K28: 66528 | L28: 8110 | M28: 9360
J29: 2007 | K29: 69191 | L29: 11232 | M29: 14295
J30: 2010 | K30: 69608 | L30: 9924 | M30: 10974
J31: 2013 | K31: 73417 | L31: 9869 | M31: 8872
J32: 2016 | K32: 78109 | L32: 5010 | M32: 5991
J33: 2019 | K33: 78745 | L33: 5536 | M33: 5374
J34: 2022 | K34: 77729 | L34: 6039 | M34: 4757

Sheet 18.2.5
A1: Link zum Inhaltsverzeichnis
A2: 18.2 Wasser und Abwasser
A3: 18.2.5 Anschluss der Bevölkerung an die öffentliche Wasserversorgung und Abwasserentsorgung 2022 nach Kreisen
A4: Merkmal | B4: Einheit | C4: Mecklen- burg-Vor- pommern | D4: Rostock | E4: Schwerin | F4: Mecklen- burgische Seen- platte | G4: Landkreis Rostock | H4: Vorpom- mern- Rügen | I4: Nordwest- mecklen- burg | J4: Vorpom- mern- Greifs- wald | K4: Ludwigs- lust- Parchim
A5: Gemeinden | B5: Anzahl | C5: 726 | D5: 1 | E5: 1 | F5: 148 | G5: 112 | H5: 101 | I5: 83 | J5: 138 | K5: 142
A6: darunter
A7: teilweise ohne öffentliche Wasserversorgung | B7: Anzahl | C7: 347 | D7: 1 | E7: 1 | F7: 79 | G7: 58 | H7: 38 | I7: 43 | J7: 56 | K7: 71
A8: Bevölkerung 5) | B8: 1.000 | C8: 1611.16 | D8: 208.4 | E8: 95.74 | F8: 257.525 | G8: 217.796 | H8: 225.9 | I8: 158.449 | J8: 235.451 | K8: 211.899
A9: mit öffentlicher Wasserversorgung | B9: 1.000 | C9: 1607.26 | D9: 208.396 | E9: 95.718 | F9: 256.92 | G9: 217.341 | H9: 225.305 | I9: 158.2 | J9: 234.884 | K9: 210.496
B10: % | C10: 99.8 | D10: 100 | E10: 100 | F10: 99.8 | G10: 99.8 | H10: 99.7 | I10: 99.8 | J10: 99.8 | K10: 99.3
A11: ohne öffentliche Wasserversorgung | B11: 1.000 | C11: 3.9 | D11: 0 | E11: 0 | F11: 0.605 | G11: 0.455 | H11: 0.595 | I11: 0.249 | J11: 0.567 | K11: 1.403
B12: % | C12: 0.2 | D12: 0 | E12: 0 | F12: 0.2 | G12: 0.2 | H12: 0.3 | I12: 0.2 | J12: 0.2 | K12: 0.7
A13: mit Anschluss an die öffentliche Kanalisation | B13: 1.000 | C13: 1443.713 | D13: 208.118 | E13: 95.561 | F13: 226.258 | G13: 189.825 | H13: 201.997 | I13: 144.488 | J13: 210.105 | K13: 167.361
B14: % | C14: 89.6 | D14: 99.9 | E14: 99.8 | F14: 87.9 | G14: 87.2 | H14: 89.4 | I14: 91.2 | J14: 89.2 | K14: 79
A15: ohne Anschluss an die öffentliche Kanalisation | B15: 1.000 | C15: 167.447 | D15: 0.282 | E15: 0.179 | F15: 31.267 | G15: 27.971 | H15: 23.903 | I15: 13.961 | J15: 25.346 | K15: 44.538
B16: % | C16: 10.4 | D16: 0.1 | E16: 0.2 | F16: 12.1 | G16: 12.8 | H16: 10.6 | I16: 8.8 | J16: 10.8 | K16: 21
A17: mit Anschluss an eine zentrale Abwasser- behandlungsanlage 6) | B17: 1.000 | C17: 1454.705 | D17: 208.262 | E17: 95.727 | F17: 233.37 | G17: 193.226 | H17: 203.426 | I17: 145.303 | J17: 204.935 | K17: 170.456
B18: % | C18: 90.289295 | D18: 99.933781 | E18: 99.986422 | F18: 90.620328 | G18: 88.718801 | H18: 90.05135 | I18: 91.703324 | J18: 87.039342 | K18: 80.442097
A19: mit Anschluss an eine Klein- kläranlage, Zuleitung und Ableitung des Schmutz- wassers über private Kanäle 7) | B19: 1.000 | C19: 136.567 | D19: 0.123 | E19: 0.013 | F19: 22.445 | G19: 23.99 | H19: 20.899 | I19: 12.204 | J19: 18.159 | K19: 38.734
B20: % | C20: 8.4763152 | D20: 0.059021113 | E20: 0.013578442 | F20: 8.7156587 | G20: 11.014895 | H20: 9.2514387 | I20: 7.7021628 | J20: 7.7124327 | K20: 18.279463

Sheet 18.2.6+18.2.7
A1: Link zum Inhaltsverzeichnis
A2: 18.2 Wasser und Abwasser
A3: 18.2.6 Anschluss der Bevölkerung an die öffentliche Kanalisation 2022 8) im Ländervergleich
A4: Land | B4: Bevölkerung in 1.000 | C4: Anteil der Bevölkerung mit Anschluss an die öffentliche Kanalisation in % | D4: Darunter mit Anschluss an zentrale Abwasser-behandlungs-anlagen in % | E4: Anteil der Bevölkerung ohne Anschluss an die öffentliche Kanalisation in %
A5: Deutschland | B5: 83237.124 | C5: 97.159915 | D5: 96.331342 | E5: 2.8400849
A6: Baden-Württemberg | B6: 11124.642 | C6: 99.537774 | D6: 99.336051 | E6: 0.46222611
A7: Bayern | B7: 13176.989 | C7: 97.592219 | D7: 97.108854 | E7: 2.4077807
A8: Berlin | B8: 3677.472 | C8: 99.619277 | D8: 99.619277 | E8: 0.3807235
A9: Brandenburg | B9: 2537.868 | C9: 88.759226 | D9: 86.99495 | E9: 11.240774
A10: Bremen | B10: 676.463 | C10: 99.81285 | D10: 99.81285 | E10: 0.18714993
A11: Hamburg | B11: 1853.935 | C11: 99.334389 | D11: 99.334389 | E11: 0.66561125
A12: Hessen | B12: 6295.017 | C12: 99.559874 | D12: 99.45074 | E12: 0.4401259
A13: Mecklenburg-Vorpommern | B13: 1611.16 | C13: 89.607053 | D13: 88.875034 | E13: 10.392947
A14: Niedersachsen | B14: 8027.031 | C14: 95.122481 | D14: 94.828362 | E14: 4.8775195
A15: Nordrhein-Westfalen | B15: 17924.591 | C15: 98.249232 | D15: 98.071699 | E15: 1.750768
A16: Rheinland-Pfalz | B16: 4106.485 | C16: 99.535832 | D16: 92.886617 | E16: 0.46416826
... A21: Thüringen | B21: 2108.863 | C21: 86.915319 | D21: 82.990265 | E21: 13.084681
A24: 18.2.7 Klärschlammentsorgung aus der öffentlichen biologischen Abwasserbehandlung im Zeitvergleich
A25: Direkte Klärschlammentsorgung | B25: Trocken- masse in t 2021 | C25: Anteil 2021 (Insge- samt = 100) | D25: Trocken- masse in t 2022 | E25: Anteil 2022 (Insge- samt = 100) | F25: Trocken- masse in t 2023 | G25: Anteil 2023 (Insge- samt = 100) | H25: Trocken- masse in t 2024 | I25: Anteil 2024 (Insge- samt = 100)
A26: Insgesamt | B26: 37445 | C26: 100 | D26: 31985 | E26: 100 | F26: 34429 | G26: 100 | H26: 36540 | I26: 100
A27: darunter
A28: bodenbezogene (stoffliche) Verwertung | B28: 20547 | C28: 54.87248 | D28: 17815 | E28: 55.697983 | F28: 16690 | G28: 48.5 | H28: 18331 | I28: 50.16694
A29: darunter
A30: in der Landwirtschaft 9) | B30: 16554 | C30: 44.20884 | D30: 15760 | E30: 49.273097 | F30: 16690 | G30: 48.5 | H30: 17916 | I30: 49.031199
A31: bei landschaftsbaulichen Maßnahmen | B31: 1789 | C31: 4.7776739 | D31: 1407 | E31: 4.398937 | F31: - | G31: - | H31: 415 | I31: 1.1357417
A32: thermische Entsorgung | B32: 16898 | C32: 45.12752 | D32: 14170 | E32: 44.302017 | F32: 14010 | G32: 40.7 | H32: 17020 | I32: 46.579091
A33: darunter
A34: Monoverbrennung | B34: 3495 | C34: 9.3336894 | D34: 3921 | E34: 12.258871 | F34: 5570 | G34: 16.2 | H34: 9255 | I34: 25.328407
A35: Mitverbrennung | B35: 13403 | C35: 35.793831 | D35: 9489 | E35: 29.667031 | F35: 6499 | G35: 18.9 | H35: 4929 | I35: 13.489327
A36: Vererdung und Kompostie- rung 10) | B36: x | C36: x | D36: x | E36: x | F36: 2860 | G36: 8.3069505 | H36: 1163 | I36: 3.1828134

Sheet 18.2.8
A1: Link zum Inhaltsverzeichnis
A2: 18.2 Wasser und Abwasser
A3: 18.2.8 Durchschnittliche Entgelte für die öffentliche Wasserversorgung und Abwasserentsorgung am 1. Januar im Zeitvergleich
A4: Merkmal | B4: Einheit | C4: 2023 | D4: 2024 | E4: 2025
A5: Gemeinden | B5: Anzahl | C5: 724 | D5: 724 | E5: 724
A6: Durchschnittliches Trinkwasserentgelt (Brutto) | B6: EUR/m³ | C6: 1.71 | D6: 1.75 | E6: 1.89
A7: Durchschnittliches Abwasserentgelt (Brutto) | B7: EUR/m³ | C7: 3.05 | D7: 3.07 | E7: 3.17
A8: Durchschnittliches Gesamtentgelt Wasser (Brutto) | B8: EUR/m³ | C8: 4.76 | D8: 4.82 | E8: 5.06
A9: Öffentliche Wasserversorgung (Trinkwasser)
A10: Gemeinden mit Trinkwasserbezug | B10: Anzahl | C10: 724 | D10: 724 | E10: 724
A11: Tarifgebiete (Gemeinden oder Gemeindeteile mit Trinkwasserentgelt) | B11: Anzahl | C11: 740 | D11: 740 | E11: 740
A12: angeschlossene Einwohnerinnen und Einwohner | B12: Anzahl | C12: 1607260 | D12: 1607260 | E12: 1607260
A13: verbrauchsabhängiges Entgelt 11) 12) | B13: EUR/m³ | C13: 1.71 | D13: 1.75 | E13: 1.89
A14: haushaltsübliches verbrauchsunabhängiges Entgelt (Grundgebühr) im Jahr 11) | B14: EUR/Jahr | C14: 108.92 | D14: 112.01 | E14: 127.15
A15: Kosten bei durchschnittlicher Haushaltsgröße 13) mit durchschnittlichem Wasserverbrauch 14) im Jahr | B15: EUR/Jahr | C15: 246.74388 | D15: 253.05783 | E15: 279.48165
A16: Öffentliche Abwasserentsorgung
A17: Gemeinden mit mengenbezogenem Abwasser- oder Schmutzwasserentgelt | B17: Anzahl | C17: 639 | D17: 639 | E17: 639
A18: mengenbezogenes Abwasser- oder Schmutzwasserentgelt | B18: EUR/m³ | C18: 2.99 | D18: 3.01 | E18: 3.11
A19: Gemeinden mit sonstigem mengenbezogenen Entgelt 15) | B19: Anzahl | C19: 26 | D19: 27 | E19: 27
A20: sonstiges mengenbezogenes Entgelt 15) | B20: EUR/m³ | C20: 0.13 | D20: 0.12 | E20: 0.14
A21: Gemeinden mit flächenbezogenem Niederschlags- bzw. Oberflächen- wasserentgelt | B21: Anzahl | C21: 166 | D21: 166 | E21: 168
A22: flächenbezogenes Niederschlags- bzw. Oberflächenwasserentgelt | B22: EUR/m² | C22: 0.37 | D22: 0.38 | E22: 0.4
A23: Gemeinden mit haushaltsüblichem mengen- und flächenunabhängigen Entgelt (Grundgebühr) | B23: Anzahl | C23: 592 | D23: 592 | E23: 592
A24: haushaltsübliches mengen- und flächenunabhängiges Entgelt (Grundgebühr) 16) | B24: EUR/Jahr | C24: 87.43 | D24: 87.73 | E24: 96.06

Sheet 18.2.9
A1: Link zum Inhaltsverzeichnis
A2: 18.2 Wasser und Abwasser
A3: 18.2.9 Unfälle mit wassergefährdenden Stoffen 2024
A4: Merkmal | B4: Unfälle | C4: Dabei freigesetzte wasserschädliche Menge in m³ | D4: Davon nicht wiedergewonnene Menge in m³ | E4: Nicht wiedergewonnene Menge in %
A5: Insgesamt | B5: 19 | C5: 1513.2 | D5: 504.1 | E5: 33.3
A6: davon mit
A7: Mineralölprodukten | B7: 16 | C7: 6.2 | D7: 0.1 | E7: 2
A8: sonstigen Stoffen | B8: 3 | C8: 1507 | D8: 504 | E8: 33.4
A9: darunter mit
A10: Jauche, Gülle, Silagesickersaft, Gärsubstrat, Gärrest und dgl. | B10: 1 | C10: 1500 | D10: 500 | E10: 33.3
A11: Wassergefährdungsklasse (WGK) des freigesetzten Stoffes
A12: WGK 1 | B12: 1 | C12: 3 | D12: - | E12: -
A13: WGK 2 | B13: 15 | C13: 3.2 | D13: 0.1 | E13: 3.8
A14: WGK 3 | B14: 1 | C14: 0 | D14: - | E14: -
A15: Allgemein Wasser gefährdend | B15: 2 | C15: 1507 | D15: 504 | E15: 33.4
A16: Unfälle beim Umgang | B16: 7 | C16: 1510.6 | D16: 504 | E16: 33.364226
A17: davon mit
A18: Mineralölprodukten | B18: 4 | C18: 3.6 | D18: 0 | E18: 1.2
A19: sonstigen Stoffen | B19: 3 | C19: 1507 | D19: 504 | E19: 33.443928
A20: darunter mit
A21: Jauche, Gülle, Silagesickersaft, Gärsubstrat, Gärrest und dgl. | B21: 1 | C21: 1500 | D21: 500 | E21: 33.333333
A22: Wassergefährdungsklasse (WGK) des freigesetzten Stoffes
A23: WGK 1 | B23: 1 | C23: 3 | D23: - | E23: -
A24: WGK 2 | B24: 3 | C24: 0.6 | D24: 0 | E24: 7.2
A25: WGK 3 | B25: 1 | C25: 0 | D25: - | E25: -
A26: Allgemein Wasser gefährdend | B26: 2 | C26: 1507 | D26: 504 | E26: 33.4
A27: Unfälle bei der Beförderung | B27: 12 | C27: 2.6 | D27: 0.1 | E27: 3
A28: davon mit
A29: Mineralölprodukten | B29: 12 | C29: 2.6 | D29: 0.1 | E29: 3
A30: sonstigen Stoffen | B30: - | C30: - | D30: - | E30: -
A31: darunter mit
A32: Jauche, Gülle, Silagesickersaft, Gärsubstrat, Gärrest und dgl. | B32: - | C32: - | D32: - | E32: -
A33: Wassergefährdungsklasse (WGK) des freigesetzten Stoffes
A34: WGK 1 | B34: - | C34: - | D34: - | E34: -
A35: WGK 2 | B35: 12 | C35: 2.6 | D35: 0.1 | E35: 3
A36: WGK 3 | B36: - | C36: - | D36: - | E36: -
A37: Allgemein Wasser gefährdend | B37: - | C37: - | D37: - | E37: -

Sheet 18.3.1+18.3.2
A1: Link zum Inhaltsverzeichnis
A2: 18.3 Abfallwirtschaft
A3: 18.3.1 Aufkommen an Haushaltsabfällen im Zeitvergleich 17)
A4: Haushaltsabfälle | B4: 2005 | C4: 2010 | D4: 2015 | E4: 2020 | F4: 2021 | G4: 2022 | H4: 2023 | I4: 2024 | J4: 2024 Anteil in %
A5: Haushaltsabfälle (t) | B5: 718006 | C5: 683389 | D5: 684449 | E5: 755568 | F5: 748698 | G5: 694285 | H5: 692534.81 | I5: 723794 | J5: 100
A6: davon
A7: Haus- und Sperrmüll | B7: 400555 | C7: 378109 | D7: 368102 | E7: 379634 | F7: 370472 | G7: 359820 | H7: 356063 | I7: 364978 | J7: 50.4
A8: Wertstoffe | B8: 245585 | C8: 222407 | D8: 211736 | E8: 223166 | F8: 221390 | G8: 207469 | H8: 205543.19 | I8: 213167 | J8: 29.5
A9: organische Abfälle | B9: 70921 | C9: 81916 | D9: 103520 | E9: 151742 | F9: 155746 | G9: 126026 | H9: 129868 | I9: 144535 | J9: 20
A10: sonstige Abfälle | B10: 945 | C10: 957 | D10: 1091 | E10: 1026 | F10: 1090 | G10: 970 | H10: 1060.62 | I10: 1114 | J10: 0.2
A11: Haushaltsabfälle je Einwohnerin bzw. Einwohner (kg) 18) | B11: 420.55895 | C11: 416 | D11: 425 | E11: 469 | F11: 465 | G11: 426 | H11: 425 | I11: 459 | J11: 100
A12: davon
A13: Haus- und Sperrmüll | B13: 234.6178 | C13: 230 | D13: 228 | E13: 236 | F13: 230 | G13: 221 | H13: 219 | I13: 231.93867 | J13: 50.531301
A14: Wertstoffe | B14: 143.84695 | C14: 135 | D14: 131 | E14: 139 | F14: 137 | G14: 127 | H14: 126 | I14: 135.4648 | J14: 29.513028
A15: organische Abfälle | B15: 41.540686 | C15: 50 | D15: 64 | E15: 94 | F15: 97 | G15: 77 | H15: 80 | I15: 91.850073 | J15: 20.010909
A16: sonstige Abfälle | B16: 0.55351656 | C16: 1 | D16: 1 | E16: 1 | F16: 1 | G16: 1 | H16: 1 | I16: 1 | J16: 0.21786492
A19: 18.3.2 Aufkommen an Haushaltsabfällen 2024 nach Kreisen 17)
A20: Merkmal | B20: Mecklen-burg-Vor-pommern | C20: Rostock | D20: Schwerin | E20: Mecklen-burgische Seenplatte | F20: Landkreis Rostock | G20: Vor-pommern-Rügen | H20: Nordwest-mecklen-burg | I20: Vor-pommern-Greifswald | J20: Ludwigs-lust-Parchim
A21: Haushaltsabfälle (t) | B21: 723794 | C21: 92266.1 | D21: 42972.27 | E21: 100657.31 | F21: 83373.82 | G21: 118966.62 | H21: 78420.09 | I21: 119942.42 | J21: 87195.36
A22: davon
A23: Haus- und Sperrmüll | B23: 364978 | C23: 52822 | D23: 22929 | E23: 62687 | F23: 43139 | G23: 57917 | H23: 30312 | I23: 61158 | J23: 34014
A24: Wertstoffe | B24: 213167 | C24: 19240 | D24: 10571.9 | E24: 31589 | F24: 30429.48 | G24: 32170 | H24: 25512.96 | I24: 34158.64 | J24: 29495
A25: organische Abfälle | B25: 144535 | C25: 20075 | D25: 9381 | E25: 6261 | F25: 9694 | G25: 28773 | H25: 22302 | I25: 24574 | J25: 23475
A26: sonstige Abfälle | B26: 1114 | C26: 129.1 | D26: 90.37 | E26: 120.31 | F26: 111.34 | G26: 106.62 | H26: 293.13 | I26: 51.78 | J26: 211.36
A27: Haushaltsabfälle je Einwohnerin bzw. Einwohner (kg) 18) | B27: 459 | C27: 449.79769 | D27: 438.13936 | E27: 407.60694 | F27: 381.13572 | G27: 551.56554 | H27: 499.72656 | I27: 531.73273 | J27: 417.73834
A28: davon
A29: Haus- und Sperrmüll | B29: 232 | C29: 257.50751 | D29: 233.78093 | E29: 253.84799 | F29: 197.20596 | G29: 268.52088 | H29: 193.16111 | I29: 271.12768 | J29: 162.95537
A30: Wertstoffe | B30: 135 | C30: 93.795094 | D30: 107.78964 | E30: 127.91814 | F30: 139.10556 | G30: 149.14993 | H30: 162.57956 | I30: 151.43322 | J30: 141.3056
A31: organische Abfälle | B31: 92 | C31: 97.865723 | D31: 95.647386 | E31: 25.353618 | F31: 44.315226 | G31: 133.40041 | H31: 142.11794 | I31: 108.94227 | J31: 112.46479
A32: sonstige Abfälle | B32: 1 | C32: 0.62936313 | D32: 0.9214001 | E32: 0.48718956 | F32: 0.50898053 | G32: 0.49432284 | H32: 1.8679505 | I32: 0.22955282 | J32: 1.0125903

Sheet 18.3.3
A1: Link zum Inhaltsverzeichnis
A2: 18.3 Abfallwirtschaft
A3: 18.3.3 Entsorgungsanlagen, eingesetzte Abfälle, abgegebene Abfälle bzw. Erzeugnisse 2024
A4: Art der Anlage | B4: Entsorgungs- anlagen | C4: Behandelte bzw. beseitigte Abfallmenge in t | D4: Darunter aus dem eigenen Land 19) in t | E4: Abgegebene Abfall- menge bzw. Erzeug- nisse/Stoffe in t
A5: Insgesamt 20) | B5: 211 | C5: 5667210 | D5: 4327290 | E5: 1688504
A6: Deponien (ohne Deponien in der Stilllegungsphase) | B6: 7 | C6: 606935 | D6: 328604 | E6: .
A7: thermische Abfallbehandlungsanlage | B7: 1 | C7: 49495 | D7: 45025 | E7: 16427
A8: Feuerungsanlagen mit energetischer Verwertung von Abfällen | B8: 12 | C8: 877102 | D8: 630736 | E8: 150755
A9: biologische Behandlungsanlagen | B9: 39 | C9: 538963 | D9: 372255 | E9: 311861
A10: mechanisch-biologische Behandlungsanlagen | B10: 3 | C10: 387932 | D10: 383126 | E10: 336054
A11: chemisch-physikalische Behandlungsanlagen | B11: 6 | C11: 152004 | D11: 147797 | E11: 8828
A12: Bodenbehandlungsanlagen | B12: 6 | C12: 55849 | D12: 51057 | E12: 57384
A13: Demontagebetriebe für Altfahrzeuge | B13: 20 | C13: 2922 | D13: 2834 | E13: .
A14: Schredderanlagen und verwandte Anlagen | B14: 25 | C14: 190063 | D14: 135761 | E14: 189491
A15: Sortieranlagen | B15: 22 | C15: 435872 | D15: 371662 | E15: 427266
A16: Zerlegeeinrichtungen für Elektro- und Elektronikaltgeräte | B16: 4 | C16: 36064 | D16: 11364 | E16: 36190
A17: übertägige Abbaustätten | B17: 62 | C17: 2304841 | D17: 1817902 | E17: x
A18: sonstige Anlagen einschließlich Klärschlammfaulbehälter mit Co-Vergärung von Abfällen | B18: 4 | C18: 29168 | D18: 29168 | E18: 30121
A19: Nachrichtlich
A20: Deponien mit Deponiebaumaßnahmen | B20: 6 | C20: 291780 | D20: x | E20: x
A21: Bauschuttaufbereitungs- und Asphaltmisch- anlagen 2024 21) | B21: 54 | C21: 1185520 | D21: x | E21: 1186965
A23: Grafik 18.6 | G23: Daten der Grafik 18.6 "In Abfallentsorgungsanlagen behandelte bzw. beseitigte Abfallmengen 2024 nach Anlagenarten"
G24: Anlagenarten | H24: Abfallmenge in 1.000 t
G25: Deponien | H25: =C6/1000 -> 606.935
G26: Thermische Abfallbehandlungsanlage | H26: =C7/1000 -> 49.495
G27: Feuerungsanlagen mit energetischer Verwertung von Abfällen | H27: =C8/1000 -> 877.102
G28: Biologische Behandlungsanlagen | H28: =C9/1000 -> 538.963
G29: Mechanisch-biologische Behandlungsanlagen | H29: =C10/1000 -> 387.932
G30: Chemisch-physikalische Behandlungsanlagen | H30: =C11/1000 -> 152.004
G31: Bodenbehandlungsanlagen | H31: =C12/1000 -> 55.849
G32: Schredderanlagen und verwandte Anlagen | H32: =C14/1000 -> 190.063
G33: Sortieranlagen | H33: =C15/1000 -> 435.872
G34: Übertägige Abbaustätten | H34: =C17/1000 -> 2304.841
G35: Zerlegeeinrichtungen für Elektro- und Elektronikaltgeräte, Demontagebetriebe für Altfahrzeuge und sonstige Anlagen | H35: =(C13+C16+C18)/1000 -> 68.154

Sheet 18.3.4
A1: Link zum Inhaltsverzeichnis
A2: 18.3 Abfallwirtschaft
A3: 18.3.4 In Entsorgungsanlagen behandelte bzw. beseitigte Abfallmenge im Zeitvergleich nach ausgewählten Abfallarten
A4: Ausgewählte Abfallarten 22) | B4: 2005 in t | C4: 2010 in t | D4: 2015 in t | E4: 2020 in t | F4: 2022 in t | G4: 2023 in t | H4: 2024 in t
A5: Insgesamt | B5: 3274752 | C5: 5204224 | D5: 5048893 | E5: 6828794 | F5: 6515799 | G5: 5589910 | H5: 5667210
A6: Abfälle aus Landwirtschaft, Gartenbau, Teichwirtschaft, Forstwirtschaft, Jagd und Fischerei sowie der Herstellung und Verarbeitung von Nahrungs- mitteln | B6: 317812 | C6: 343898 | D6: 318721 | E6: 260053 | F6: 219407 | G6: 214964 | H6: 528
A7: Abfälle aus der Holzbearbeitung und der Herstellung von Platten, Möbeln, Zellstoffen, Papier und Pappe | B7: 142732 | C7: 203072 | D7: 214731 | E7: 200986 | F7: 187160 | G7: 165406 | H7: 269233
A8: Abfälle aus anorganisch-chemischen Prozessen | B8: 2199 | C8: 875 | D8: 1524 | E8: 503 | F8: 1168 | G8: 1473 | H8: 1120
A9: Abfälle aus organisch-chemischen Prozessen | B9: 912 | C9: 6127 | D9: - | E9: 1421 | F9: 2443 | G9: 5820 | H9: 3604
A10: Abfälle aus Herstellung, Zubereitung, Vertrieb und Anwendung von Be- schichtungen (Farben, Lacke, Email), Klebstoffen, Dichtmassen und Druck- farben | B10: 2537 | C10: 82 | D10: 106 | E10: 457 | F10: 209 | G10: 197 | H10: 139
A11: Abfälle aus thermischen Prozessen | B11: 19412 | C11: 43533 | D11: 86936 | E11: 21491 | F11: 38101 | G11: 41763 | H11: 35658
A12: Abfälle aus der chemischen Ober- flächenbearbeitung und Beschichtung von Metallen und anderen Werk- stoffen; Nichteisenhydrometallurgie | B12: 8372 | C12: 8207 | D12: - | E12: 8500 | F12: 9938 | G12: 9844 | H12: 9681
A13: Abfälle aus Prozessen der mecha- nischen Formgebung sowie der physikalischen und mechanischen Oberflächenbearbeitung von Metallen und Kunststoffen | B13: 4056 | C13: 2219 | D13: 9679 | E13: 8424 | F13: 7602 | G13: 9738 | H13: 11172
A14: Verpackungsabfall, Aufsaugmassen, Wischtücher, Filtermaterialien und Schutzkleidung (a. n. g.) | B14: 188100 | C14: 129577 | D14: 121649 | E14: 63641 | F14: 123616 | G14: 124730 | H14: 129342
A15: Bau- und Abbruchabfälle (einschließ- lich Aushub von verunreinigten Standorten) | B15: 596737 | C15: 2033120 | D15: 1785600 | E15: 3889927 | F15: 3582625 | G15: 2791717 | H15: 2866811
A16: Abfälle aus der humanmedizinischen oder tierärztlichen Versorgung und Forschung (ohne Küchen- und Restau- rantabfälle, die nicht aus der unmittel- baren Krankenpflege stammen) | B16: 1593 | C16: 4435 | D16: 5973 | E16: 5986 | F16: 7027 | G16: 7466 | H16: 7376
A17: Abfälle aus Abfallbehandlungsanlagen, öffentlichen Abwasserbehandlungs- anlagen sowie der Aufbereitung von Wasser für den menschlichen Ge- brauch und Wasser für industrielle Zwecke | B17: 1226536 | C17: 1626679 | D17: 1649099 | E17: 1476630 | F17: 1470067 | G17: 1356947 | H17: 1346617
A18: Siedlungsabfälle (Haushaltsabfälle und ähnliche gewerbliche und industrielle Abfälle sowie Abfälle aus Einrichtun- gen), einschließlich getrennt ge- sammelter Fraktionen | B18: 636903 | C18: 731614 | D18: 784451 | E18: 846297 | F18: 830115 | G18: 828172 | H18: 789961

Sheet 18.3.5
A1: Link zum Inhaltsverzeichnis
A2: 18.3 Abfallwirtschaft
A3: 18.3.5 Erzeugte und zur Entsorgung abgegebene gefährliche Abfälle im Zeitvergleich sowie nach ausgewählten Abfallarten und
A4: nach Wirtschaftsgliederung der Erzeuger
A5: Merkmal | B5: 2010 in t | C5: 2020 in t | D5: 2024 in t | E5: Anteil 2024 (Insge- samt = 100) | F5: 2024 abgegeben an Entsorger 23) in Mecklenburg- Vorpommern in t | G5: 2024 abgegeben an Entsorger 23) in anderen deutschen Ländern in t
A6: Insgesamt | B6: 195529 | C6: 339641 | D6: 234651 | E6: 100 | F6: 128516 | G6: 106135
A7: Ausgewählte Abfallkapitel und Abfallarten nach dem Europäischen Abfallverzeichnis (EAV)
A8: Bau- und Abbruchabfälle (einschließlich Aushub von verunreinigten Standorten) | B8: 101099 | C8: 181560 | D8: 93666 | E8: 39.917154 | F8: 86772 | G8: 6893
A9: darunter
A10: Gemische aus oder getrennte Fraktionen von Beton, Ziegeln, Fliesen und Keramik, die gefährliche Stoffe enthalten | B10: 7955 | C10: 8937 | D10: 9292 | E10: 3.9599235 | F10: 9058 | G10: 233
A11: Glas, Kunststoff und Holz, die gefährliche Stoffe enthalten oder durch gefährliche Stoffe verunreinigt sind | B11: 14819 | C11: 11934 | D11: 6743 | E11: 2.8736293 | F11: 5787 | G11: 955
A12: kohlenteerhaltige Bitumengemische | B12: 10940 | C12: 37797 | D12: 13324 | E12: 5.67822 | F12: 12495 | G12: 829
A13: Kohlenteer und teerhaltige Produkte | B13: 9855 | C13: 8908 | D13: 7670 | E13: 3.2686841 | F13: 4153 | G13: 3517
A14: Boden und Steine, die gefährliche Stoffe enthalten | B14: 21902 | C14: 52834 | D14: 12885 | E14: 5.4911336 | F14: 12865 | G14: 20
A15: asbesthaltige Baustoffe | B15: 26643 | C15: 45290 | D15: 30110 | E15: 12.831823 | F15: 29267 | G15: 844
A16: Abfälle aus Abfallbehandlungsanlagen, öffentlichen Ab- wasserbehandlungsanlagen sowie der Aufbereitung von Wasser für den menschlichen Gebrauch und Wasser für industrielle Zwecke | B16: 28765 | C16: 81610 | D16: 73885 | E16: 31.487187 | F16: 3534 | G16: 70351
A17: darunter
A18: Filterstaub, der gefährliche Stoffe enthält | B18: . | C18: 18890 | D18: 17937 | E18: 7.6441183 | F18: 137 | G18: 17799
A19: vorgemischte Abfälle, die wenigstens einen gefährlichen Abfall enthalten | B19: 2288 | C19: 14180 | D19: 2242 | E19: 0.95546152 | F19: - | G19: 2242
A20: Holz, das gefährliche Stoffe enthält | B20: 4227 | C20: 6225 | D20: 1185 | E20: 0.50500531 | F20: 10 | G20: 1174
A21: sonstige Abfälle (einschließlich Materialmischungen) aus der mechanischen Behandlung von Abfällen, die gefährliche Stoffe enthalten | B21: . | C21: 7894 | D21: 13230 | E21: 5.6 | F21: 2088 | G21: 11142
A22: Ölabfälle und Abfälle aus flüssigen Brennstoffen (außer Speiseöle und Ölabfälle, die unter Kapitel 05, 12 und 19 des EAV fallen) | B22: 37409 | C22: 28205 | D22: 27590 | E22: 11.757887 | F22: 17268 | G22: 10321
A23: darunter
A24: nichtchlorierte Maschinen-, Getriebe- und Schmieröle auf Mineralölbasis | B24: 8315 | C24: 12062 | D24: 11290 | E24: 4.8114008 | F24: 4485 | G24: 6806
A25: feste Abfälle aus Sandfanganlagen und Öl-/Wasser- abscheidern | B25: 2161 | C25: 1106 | D25: 772 | E25: 0.32899924 | F25: 772 | G25: -
A26: Abfallgemische aus Sandfanganlagen und Öl-/Wasser- abscheidern | B26: 3576 | C26: 6157 | D26: 6524 | E26: 2.7802993 | F26: 5451 | G26: 1073
A27: Wirtschaftsgliederung der Erzeuger
A28: Bergbau und Gewinnung von Steinen und Erden | B28: 2419 | C28: 1289 | D28: 544 | E28: 0.23183366 | F28: 540 | G28: 4
A29: Verarbeitendes Gewerbe | B29: 18380 | C29: 23806 | D29: 16318 | E29: 6.9541575 | F29: 9973 | G29: 6344
A30: Energieversorgung | B30: 13975 | C30: 8381 | D30: 9551 | E30: 4.0703001 | F30: 796 | G30: 8755
A31: Wasserversorgung; Abwasser- und Abfallentsorgung und Beseitigung von Umweltverschmutzungen | B31: 122592 | C31: 206684 | D31: 172451 | E31: 73.492549 | F31: 89929 | G31: 82522
A32: Baugewerbe | B32: 10479 | C32: 36513 | D32: 5396 | E32: 2.2995853 | F32: 5396 | G32: -
A33: Handel; Instandhaltung und Reparatur von Kraftfahrzeugen | B33: 6023 | C33: 10328 | D33: 8604 | E33: 3.6667221 | F33: 2412 | G33: 6191
A34: Verkehr und Lagerei | B34: 9330 | C34: 29880 | D34: 13789 | E34: 5.8763866 | F34: 11861 | G34: 1927
A35: Öffentliche Verwaltung, Verteidigung; Sozialversicherung | B35: 7665 | C35: 12272 | D35: 6387 | E35: 2.7219147 | F35: 6380 | G35: 7
A36: übrige Wirtschaftszweige | B36: 4664 | C36: 10487 | D36: 1611 | E36: 0.68655152 | F36: 1229 | G36: 385

Sheet Fußnotenerläuterungen
A1: Link zum Inhaltsverzeichnis
A2: Fußnotenerläuterungen
A3: 1) | B3: Wassergewinnung der Wasserversorgungsunternehmen mit Sitz in Mecklenburg-Vorpommern.
A4: 2) | B4: Bezogen auf die angeschlossene Bevölkerung; 2007 bis 2019 am 30.06. des Berichtsjahres, ab 2022 am 31.12. des Vorjahres des Berichtsjahres.
A5: 3) | B5: Ohne Zuleitungskanäle zu den Abwasserbehandlungsanlagen und Hausanschlüssen.
A6: 4) | B6: Ab 2016: Öffentliche Abwasserbehandlungsanlagen mit einer Ausbaugröße von mindestens 50 Einwohnerwerten.
A7: 5) | B7: Zahl der Einwohner am Ort ihrer alleinigen bzw. Hauptwohnung; bis 2004 Bevölkerung am 31.12. des Berichtsjahres, 2007 bis 2019 am 30.06. des Berichtsjahres, ab 2022 am 31.12. des Vorjahres des Berichtsjahres.
A8: 6) | B8: Einschließlich der Einwohnerinnen und Einwohner mit abflusslosen Gruben, deren Schmutzwasser in einer zentralen Abwasserbehandlungsanlage entsorgt wird.
A9: 7) | B9: Als Kleinkläranlagen gelten in der Erfassung ab 2016 Anlagen mit einer Ausbaugröße kleiner als 50 Einwohnerwerten, die der DIN-Norm entsprechen. In den Vorerhebungen wurde dieser Richtwert nicht konsequent zugrunde gelegt. Aufgrund der Änderung sind die Angaben ab 2016 nur eingeschränkt mit den Angaben der Vorjahre vergleichbar.
A10: 8) | B10: Bevölkerung am 31.12.2021.
A11: 9) | B11: Nach Klärschlammverordnung (AbfKlärV).
A12: 10) | B12: Beinhaltet nur Mengen, die im laufenden Berichtsjahr Vererdungs- und Kompostierungsanlagen zugeführt wurden. Einschließlich der Mengen zur Abgabe für die Herstellung von Gemischen aus Klärschlamm und anderen Materialien nach Düngemittelverordnung (DüMV) in der jeweils geltenden Fassung. Bis Berichtsjahr 2022 unter bodenbezogene (stoffliche) Verwertung.
A13: 11) | B13: Die Entgelte werden mit der Anzahl der angeschlossenen Einwohnerinnen und Einwohner gewichtet.
A14: 12) | B14: Im Verbrauchspreis müssen alle Teilentgelte für Letztverbraucherinnen und Letztverbraucher, wie z. B. Wasserentnahme- entgelt, Abschreibungen, Investitionsbeiträge und sonstige verbrauchsabhängige Entgelte, enthalten sein.
... A25: 23) | B25: Einschließlich an Zwischenlager.

Sheet Methodik
A1: Link zum Inhaltsverzeichnis
A2: Methodik
A3: Im Kapitel "Umwelt" werden ausgewählte Ergebnisse der Erhebungen nach dem Umweltstatistikgesetz (UStatG) dargestellt – untergliedert in die Abschnitte Umweltschutzinvestitionen sowie Umweltschutzgüter und -leistungen, Wasser und Abwasser sowie Abfallwirtschaft.
A4: Umweltschutzinvestitionen, Umweltschutzgüter und -leistungen: Die jährliche Erhebung der Investitionen für den Umweltschutz erfasst bei Unternehmen und Betrieben des Produzierenden Gewerbes (ohne Baugewerbe) die Bruttozugänge an Sachanlagen, die ausschließlich oder überwiegend dem Schutz der Umwelt dienen. Dabei gelten Erfassungsuntergrenzen, d. h. es sind Unternehmen und Betriebe ab einer bestimmten Größe einbezogen. Ab Berichtsjahr 2008 sind aufgrund der Umstellung auf die neue Wirtschaftszweigsystematik WZ 2008 erstmalig Unternehmen und Betriebe des Entsorgungssektors einbezogen. Ab Berichtsjahr 2016 wurde die Zuordnung der Umweltschutz- investitionen nach Umweltschutzbereichen an die internationale Klassifikation der Umweltschutzaktivitäten und -ausgaben (Classification of Environmental Protection Activities, CEPA) angepasst.
A5: Mit der jährlichen "Erhebung der Güter und Leistungen für den Umweltschutz" werden die Betriebe und Einrichtungen, die dem Umwelt- schutz dienende Waren, Bau- und Dienstleistungen herstellen bzw. erbringen, erfasst. Dabei sind alle Wirtschaftszweige einbezogen, aus- genommen der Bereich Land- und Forstwirtschaft, Fischerei. Für die Erhebung 2016 wurden Erfassungsuntergrenzen für den Berichtskreis eingeführt, um die Auskunftspflichtigen zu entlasten. Daher wurde im Jahr 2016 eine Vielzahl von Einheiten erstmals nicht mehr befragt. Die monetären Auswirkungen waren aber vergleichsweise gering.
A6: Wasser und Abwasser: Bei den Angaben zur Wasserversorgung und Abwasserentsorgung handelt es sich um Ergebnisse aus unterschied- lichen wasserwirtschaftlichen Erhebungen.
A7: Die dreijährliche Statistik der öffentlichen Wasserversorgung und öffentlichen Abwasserentsorgung erfasst bei allen Anstalten und Kör- perschaften des öffentlichen Rechts, Unternehmen und andere Einrichtungen, die Anlagen für die öffentliche Wasserversorgung und öffentliche Abwasserentsorgung betreiben, Daten zu Gewinnung, Bezug und Abgabe von Wasser, die Zahl der versorgten Einwohnerinnen und Einwohner, die Anschlussverhältnisse sowie Menge und Art der Behandlung des Abwassers. Zusätzlich werden jährlich seit 2006 bei den Betreibern von öffentlichen Abwasserbehandlungsanlagen die Mengendaten über die Verwertung und den Verbleib des Klär- schlamms aus der öffentlichen Abwasserbehandlung erhoben.
A8: Die Statistik der nichtöffentlichen Wasserversorgung und nichtöffentlichen Abwasserentsorgung bezieht alle Betriebe und Einrichtungen der Wirtschaft außerhalb der öffentlichen Wasserversorgung und öffentlichen Abwasserentsorgung ein. Sie liefert alle drei Jahre u. a. Da- ten über Gewinnung, Bezug und Nutzung von Wasser sowie Menge und Art der Behandlung des Abwassers. Zum Berichtskreis der Erhe- bung gehören ab Berichtsjahr 2013 alle Betriebe und Einrichtungen, die jährlich mindestens 2.000 Kubikmeter Wasser selbst gewinnen oder 2.000 Kubikmeter Wasser oder Abwasser in ein Oberflächengewässer oder in den Untergrund direkt einleiten oder 10.000 Kubik- meter Wasser aus dem öffentlichen Netz oder von anderen Betrieben und Einrichtungen übernehmen. Befragt werden auf Basis der Wirt- schaftszweigklassifikation 2008 (WZ 2008) die Betriebe und Einrichtungen des Wirtschaftsabschnittes Land- und Forstwirtschaft, Fischerei sowie der Wirtschaftsabschnitte im Produzierenden Gewerbe und in den Dienstleistungsbereichen. Aufgrund geänderter Erfassungsuntergrenzen sind die Erhebungsergebnisse der Berichtsjahre ab 2013 nur eingeschränkt mit den Ergeb- nissen der Berichtsjahre 2007 und 2010 vergleichbar.
A9: Informationen über die Preise für die öffentliche Wasserversorgung und Abwasserentsorgung, ihre Struktur und Entwicklung, werden mit der Erhebung der Wasser- und Abwasserentgelte gewonnen. Die Angaben werden alle drei Jahre jeweils für das Berichtsjahr und die zwei vorhergehenden Jahre zum Stichtag 1. Januar bei den Anstalten, Körperschaften, Unternehmen und anderen Einrichtungen, die Anlagen der öffentlichen Wasserversorgung und Abwasserentsorgung betreiben, bzw. bei den zuständigen Gemeinden erfasst.
A10: Die Erhebungen der Unfälle beim Umgang mit Wasser gefährdenden Stoffen und bei der Beförderung von Wasser gefährdenden Stoffen werden jährlich bei den Behörden, die nach Landesrecht für die Entgegennahme der Anzeigen über die Unfälle mit wassergefährdenden Stoffen zuständig sind, durchgeführt. In Mecklenburg-Vorpommern sind die unteren Wasserbehörden, d. h. die Landrätinnen bzw. Land- räte und Oberbürgermeisterinnen bzw. Oberbürgermeister der kreisfreien Städte sowie die Staatlichen Ämter für Landwirtschaft und Um- welt, zuständig.
A11: Abfallwirtschaft: Die Angaben zum Aufkommen an Haushaltsabfällen stammen aus der jährlichen Erhebung über die Abfalleinsammlung im Rahmen der öffentlich-rechtlichen Entsorgung. Die Daten für Mecklenburg-Vorpommern werden dem Statistischen Amt vom Landes- amt für Umwelt, Naturschutz und Geologie Mecklenburg-Vorpommern aus der Siedlungsabfallbilanz zur Verfügung gestellt.
