Workbook
Name _GrafikDaten_17.1: Titelblatt!$C$20:$E$27
Name _GrafikDaten_17.10: '17.2.4'!$F$25:$G$42
Name _GrafikDaten_17.2: 'Überblick in Grafiken'!$C$3:$E$30
Name _GrafikDaten_17.3: 'Überblick in Grafiken'!$C$34:$F$45
Name _GrafikDaten_17.4: 'Überblick in Grafiken'!$C$50:$E$60
Name _GrafikDaten_17.5: '17.1.1'!$L$12:$N$39
Name _GrafikDaten_17.6: '17.1.1'!$L$42:$M$56
Name _GrafikDaten_17.7: '17.1.4'!$F$25:$G$42
Name _GrafikDaten_17.8: '17.2.1'!$L$12:$N$39
Name _GrafikDaten_17.9: '17.2.1'!$L$42:$M$56
Name _Tabelle_17.1.1: '17.1.1'!$A$3:$J$10
Name _Tabelle_17.1.2: '17.1.2'!$A$3:$H$40
Name _Tabelle_17.1.3: '17.1.3'!$A$3:$G$60
Name _Tabelle_17.1.4: '17.1.4'!$A$3:$D$23
Name _Tabelle_17.2.1: '17.2.1'!$A$3:$J$10
Name _Tabelle_17.2.2: '17.2.2'!$A$3:$H$43
Name _Tabelle_17.2.3: '17.2.3'!$A$3:$G$60
Name _Tabelle_17.2.4: '17.2.4'!$A$3:$D$23

Sheet Titelblatt
A1: Titelblatt des Kapitels 17 "Außenhandel": Link zum Inhaltsverzeichnis
A2: 17 | Außenhandel
A20: Grafik 17.1 | C20: Daten der Grafik 17.1 "Außenhandel 2025 nach Ländergruppen" (Insgesamt = 100)
C21: Ländergruppe | D21: Ausfuhr in % | E21: Einfuhr in %
C22: Europäische Union | D22: ='17.1.3'!F7*100/'17.1.3'!F5 -> 44.94441 | E22: ='17.2.3'!F7*100/'17.2.3'!F5 -> 59.678793
C23: Europa ohne EU | D23: ='17.1.3'!F35*100/'17.1.3'!F5 -> 17.779322 | E23: ='17.2.3'!F35*100/'17.2.3'!F5 -> 13.641599
C24: Afrika | D24: ='17.1.3'!F42*100/'17.1.3'!F5 -> 5.7852551 | E24: ='17.2.3'!F42*100/'17.2.3'!F5 -> 1.402578
C25: Amerika | D25: ='17.1.3'!F47*100/'17.1.3'!F5 -> 20.621016 | E25: ='17.2.3'!F47*100/'17.2.3'!F5 -> 12.130133
C26: Asien | D26: ='17.1.3'!F52*100/'17.1.3'!F5 -> 9.2372496 | E26: ='17.2.3'!F52*100/'17.2.3'!F5 -> 12.222835
C27: Australien und Ozeanien | D27: ='17.1.3'!F58*100/'17.1.3'!F5 -> 0.9058488 | E27: ='17.2.3'!F58*100/'17.2.3'!F5 -> 0.78524619

Sheet Inhalt
A1: Inhaltsverzeichnis des Kapitels 17 "Außenhandel": Die Gliederungen und Überschriften auf dieser Seite sind Links zum Inhalt.
A2: Inhaltsverzeichnis | C2: Seite
A3: Überblick | B3: Überblick in Grafiken | C3: =D3+414 -> 417 | D3: 3
B4: Überblick in Worten | C4: =D4+414 -> 418 | D4: 4
A5: Ergebnisse in Tabellen
A6: 17.1 | B6: Ausfuhr
A7: 17.1.1 | B7: Ausfuhr im Zeitvergleich | C7: =D7+414 -> 419 | D7: 5
A8: 17.1.2 | B8: Ausfuhr im Zeitvergleich nach Warengruppen und ausgesuchten Waren der Ernährungswirtschaft und der gewerblichen Wirtschaft (EGW) | C8: =D8+414 -> 420 | D8: 6
A9: 17.1.3 | B9: Ausfuhr im Zeitvergleich nach Ländergruppen und ausgewählten Ländern | C9: =D9+414 -> 421 | D9: 7
A10: 17.1.4 | B10: Ausfuhr im Ländervergleich | C10: =D10+414 -> 422 | D10: 8
A11: 17.2 | B11: Einfuhr
A12: 17.2.1 | B12: Einfuhr im Zeitvergleich | C12: =D12+414 -> 423 | D12: 9
A13: 17.2.2 | B13: Einfuhr im Zeitvergleich nach Warengruppen und ausgesuchten Waren der Ernährungswirtschaft und der gewerblichen Wirtschaft (EWG) | C13: =D13+414 -> 424 | D13: 10
A14: 17.2.3 | B14: Einfuhr im Zeitvergleich nach Ländergruppen und ausgewählten Ländern | C14: =D14+414 -> 425 | D14: 11
A15: 17.2.4 | B15: Einfuhr im Ländervergleich | C15: =D15+414 -> 426 | D15: 12
A16: Ergebnisse in Grafiken
A17: 17.1 | B17: Außenhandel 2025 nach Ländergruppen | C17: =D17+414 -> 415 | D17: 1
A18: 17.2 | B18: Außenhandel im Zeitvergleich | C18: =D18+414 -> 417 | D18: 3
A19: 17.3 | B19: Die 10 wichtigsten Warengüter der Aus- und Einfuhr 2025 | C19: =D19+414 -> 417 | D19: 3
A20: 17.4 | B20: Außenhandel 2025 nach Warengruppen | C20: =D20+414 -> 417 | D20: 3
A21: 17.5 | B21: Ausfuhr im Zeitvergleich | C21: =D21+414 -> 419 | D21: 5
A22: 17.6 | B22: Die wichtigsten Ausfuhrländer 2025 | C22: =D22+414 -> 419 | D22: 5
A23: 17.7 | B23: Anteil der Länder an der Ausfuhr insgesamt 2025 | C23: =D23+414 -> 422 | D23: 8
A24: 17.8 | B24: Einfuhr im Zeitvergleich | C24: =D24+414 -> 423 | D24: 9
A25: 17.9 | B25: Die wichtigsten Einfuhrländer 2025 | C25: =D25+414 -> 423 | D25: 9
A26: 17.10 | B26: Anteil der Länder an der Einfuhr insgesamt 2025 | C26: =D26+414 -> 426 | D26: 12
A27: Erläuterungen
A28: Methodik und Glossar | C28: =D28+414 -> 427 | D28: 13
A29: Mehr zum Thema | C29: =D29+414 -> 428 | D29: 14

Sheet Überblick in Grafiken
A1: Link zum Inhaltsverzeichnis
A2: Überblick in Grafiken
A3: Grafik 17.2 | C3: Daten der Grafik 17.2 "Außenhandel im Zeitvergleich"
C4: Jahr | D4: Ausfuhr in Mill EUR | E4: Einfuhr in Mill. EUR
C5: 2000 | D5: 2396.608 | E5: 2205.471
C6: 2001 | D6: 2894.44 | E6: 2051.736
C7: 2002 | D7: 2266.793 | E7: 2006.931
C8: 2003 | D8: 2925.622 | E8: 2116.149
C9: 2004 | D9: 2998.332 | E9: 2184.559
C10: 2005 | D10: 2889.405 | E10: 2667.508
C11: 2006 | D11: 3898.242 | E11: 3448.148
C12: 2007 | D12: 4902.217 | E12: 3794.004
C13: 2008 | D13: 5964.658 | E13: 4413.937
C14: 2009 | D14: 4942.686 | E14: 3351.432
C15: 2010 | D15: 6033.877 | E15: 3931.301
C16: 2011 | D16: 7205.443 | E16: 4487.845
... C21: 2016 | D21: 7143.016 | E21: 5383.961
A22: Grafik 17.3 | C22: 2017 | D22: 7215.073 | E22: 6267.547
C23: 2018 | D23: 7213.961 | E23: 6592.564
C24: 2019 | D24: 7319.958 | E24: 6631.283
C25: 2020 | D25: 8692.458 | E25: 6209.694
C26: 2021 | D26: 9592.481 | E26: 7240.219
C27: 2022 | D27: 9964.373 | E27: 10358.386
C28: 2023 | D28: 9800.849 | E28: 9049.683
C29: 2024 | D29: ='17.1.1'!I5 -> 9247.235 | E29: ='17.2.1'!I5 -> 9012.628
C30: 2025 | D30: ='17.1.1'!J5 -> 11112.561 | E30: ='17.2.1'!J5 -> 9743.059
C34: Daten der Grafik 17.3 "Die 10 wichtigsten Warengüter der Aus- und Einfuhr 2024"
C35: Warengüter der Ausfuhr | D35: Ausfuhr in Mill. EUR | E35: Warengüter der Einfuhr | F35: Einfuhr in Mill. EUR
C36: Wasserfahrzeuge | D36: 1802.327 | E36: Erdöl und Erdgas | F36: 1182.079
C37: Geräte zur Elektrizitätserzeugung und -verteilung | D37: 768.361 | E37: Geräte zur Elektrizitätserzeugung und -verteilung | F37: 518.153
C38: Weizen | D38: 552.958 | E38: Mineralölerzeugnisse | F38: 508.858
C39: Hebezeuge und Fördermittel | D39: 325.543 | E39: Papier und Pappe | F39: 374.528
C40: Düngemittel | D40: 324.633 | E40: Personenkraftwagen und Wohn- mobile | F40: 369.855
C41: Fahrgestelle, Karosserien, Motoren, Teile und Zubehör für Kraftfahr- zeuge und dergleichen | D41: 248.9 | E41: Ölfrüchte | F41: 262.383
C42: Zuckerrüben, Zucker und Zucker- erzeugnisse | D42: 232.95 | E42: Waren aus Kunststoffen | F42: 231.498
C43: Schnittholz | D43: 227.205 | E43: Düngemittel | F43: 192.16
C44: Sperrholz, Span- und Faserplatten, Furnierblätter und dergleichen | D44: 192.915 | E44: Kunststoffe | F44: 141.333
C45: Waren aus Kunststoffen | D45: 154.806 | E45: Wasserfahrzeuge | F45: 123.442
A48: Grafik 17.4
C50: Daten der Grafik 17.4 "Außenhandel 2025 nach Warengruppen" (Insgesamt = 100)
...

Sheet Überblick in Worten
A1: Link zum Inhaltsverzeichnis
A2: Überblick in Worten
A3: § | B3: Die Gesamtausfuhr aus Mecklenburg-Vorpommern erreichte 2025 einen Wert von 11,1 Milliarden EUR und lag mit 20,2 Pro- zent gegenüber dem Vorjahr im Plus.
A4: § | B4: Die Warenexporte der gewerblichen Wirtschaft, die mit rund 8 Milliarden EUR rund 71,9 Prozent der Gesamtausfuhr aus- machten, lagen mit rund 34 Prozent über dem Vorjahreswert. Darunter erreichte die Ausfuhr von Enderzeugnissen einen Wert von 6,5 Milliarden EUR (+41,8 Prozent).
A5: § | B5: Hauptexportgüter der gewerblichen Wirtschaft waren Wasserfahrzeuge (1,8 Milliarden EUR; +900,5 Prozent), Geräte zur Elektrizitätserzeugung und -verteilung (768,4 Millionen EUR; +9,4 Prozent) und Eisen-, Blech- und Metallwaren, a. n. g. (550,2 Millionen EUR; +26,2 Prozent).
A6: § | B6: Der Warenexport der Ernährungswirtschaft lag mit einem Wert von 2,9 Milliarden EUR rund 6,9 Prozent unter dem Vor- jahreswert. Darunter erreichte die Ausfuhr von Nahrungsmitteln pflanzlichen Ursprungs, mit einem Anteil von rund 65,9 Prozent, einen Wert von 1,9 Milliarden EUR (-10,6 Prozent).
A7: § | B7: Hauptexportgut der Ernährungswirtschaft war, wie schon in den Vorjahren, Getreide – hier vor allem Weizen mit einem Anteil von 65,4 Prozent. Das Exportvolumen von Getreide lag mit einem Wert von 845,3 Millionen EUR 15,0 Prozent unter dem Vorjahresniveau. Daneben wurden auch Zuckerrüben, Zucker und Zuckererzeugnisse im Wert von rund 233 Millionen EUR exportiert (-6,2 Prozent).
A8: § | B8: Etwa 62,7 Prozent aller Ausfuhren gingen in europäische Länder (7 Milliarden EUR; +6,3 Prozent), darunter überwiegend in Länder der Europäischen Union (5 Milliarden EUR; +3,7 Prozent). Die Exporte in die afrikanischen Länder stiegen um 1,5 Prozent. Die Exporte in die amerikanischen Länder stiegen um 131,8 Prozent, die in die asiatischen um +11,1 Prozent.
A9: § | B9: Die wichtigsten Ausfuhrländer waren die Bahamas (1,4 Milliarden EUR), die Niederlande (1 Milliarde EUR), Polen (710,6 Millionen EUR) und die Vereinigten Staaten (623,6 Millionen EUR).
A10: § | B10: Der Anteil der Exporte von Mecklenburg-Vorpommern an der Gesamtausfuhr der Bundesrepublik Deutschland lag bei 0,7 Prozent.
A11: § | B11: Die Einfuhr nach Mecklenburg-Vorpommern erreichte 2025 einen Wert von insgesamt 9,7 Milliarden EUR; das waren 8,1 Prozent mehr als im Vorjahr.
A12: § | B12: Der Anteil der Warenimporte der gewerblichen Wirtschaft an der Gesamteinfuhr lag mit einem Wert von rund 7,9 Milliar- den EUR bei rund 80,8 Prozent.
A13: § | B13: Die Haupteinfuhrgüter waren Erdöl und Erdgas (1,2 Milliarden EUR; +96,2 Prozent), Geräte zur Elektrizitätserzeugung (518,2 Millionen EUR; +28,4 Prozent) sowie Mineralölerzeugnisse (508,9 Millionen EUR; -23,3 Prozent).
A14: § | B14: Die Haupteinfuhrländer waren Vereinigte Staaten (1 Milliarde EUR; +16,5 Prozent), Polen (826,0 Millionen EUR; -10,7 Prozent) und Volksrepublik China (689,7 Millionen EUR; +14,0 Prozent).

Sheet 17.1.1
A1: Link zum Inhaltsverzeichnis
A2: 17.1 Ausfuhr
A3: 17.1.1 Ausfuhr im Zeitvergleich
A4: Merkmal | B4: 2000 | C4: 2005 | D4: 2010 | E4: 2015 | F4: 2020 | G4: 2022 | H4: 2023 | I4: 2024 | J4: 2025 (vorläufig)
A5: Warenwerte insgesamt in Mill. EUR | B5: 2396.608 | C5: 2889.405 | D5: 6033.877 | E5: 7953.989 | F5: 8692.458 | G5: 9964 | H5: 9801 | I5: 9247.235 | J5: 11112.561
A6: Ernährungswirtschaft | B6: 845.64 | C6: 842.999 | D6: 1883.654 | E6: 2770.9 | F6: 2808.087 | G6: 3283 | H6: 3255 | I6: 3064.949 | J6: 2852.754
A7: gewerbliche Wirtschaft | B7: 1550.966 | C7: 2001.597 | D7: 4098.465 | E7: 4934.671 | F7: 5777.501 | G7: 6454 | H7: 6338 | I7: 5957.174 | J7: 7985.163
A8: Veränderung gegenüber dem Vorjahr in % | B8: 64.110542 | C8: -3.6329199 | D8: 22.076883 | E8: 10.927488 | F8: 18.750108 | G8: 3.9 | H8: -1.6 | I8: -5.6 | J8: 20.2
A9: Ernährungswirtschaft | B9: 30.337079 | C9: 9.6873711 | D9: 13.057951 | E9: 7.5281753 | F9: 27.705622 | G9: 16.6 | H9: -0.8 | I9: -5.8 | J9: -6.9
A10: gewerbliche Wirtschaft | B10: 91.111341 | C10: -8.4120476 | D10: 27.233947 | E10: 11.49768 | F10: 16.352831 | G10: -3 | H10: -1.8 | I10: -6 | J10: 34
A12: Grafik 17.5 | L12: Daten der Grafik 17.5 "Ausfuhr im Zeitvergleich" in Mill. EUR
L13: Jahr | M13: Ernährungs- wirtschaft | N13: Gewerbliche Wirtschaft
L14: 2000 | M14: 845.64 | N14: 1550.966
L15: 2001 | M15: 949.781 | N15: 1944.659
L16: 2002 | M16: 822.618 | N16: 1444.175
L17: 2003 | M17: 844.504 | N17: 2078.747
L18: 2004 | M18: 768.547 | N18: 2185.437
L19: 2005 | M19: 842.999 | N19: 2001.597
L20: 2006 | M20: 1082.526 | N20: 2757.69
L21: 2007 | M21: 1221.502 | N21: 3592.256
L22: 2008 | M22: 1554.095 | N22: 4340.184
L23: 2009 | M23: 1666.096 | N23: 3221.204
L24: 2010 | M24: 1883.654 | N24: 4098.465
L25: 2011 | M25: 2003.458 | N25: 5155.288
... L33: 2019 | M33: 2198.875 | N33: 4965.501
A34: Grafik 17.6 | L34: 2020 | M34: 2808.087 | N34: 5777.501
L35: 2021 | M35: 2814.774 | N35: 6655.002
L36: 2022 | M36: 3282.866 | N36: 6453.839
L37: 2023 | M37: 3255.211 | N37: 6338.266
L38: 2024 | M38: 3064.949 | N38: 5957.174
L39: 2025 (vorläufig) | M39: 2852.754 | N39: 7985.163
L42: Daten der Grafik 17.6 "Die wichtigsten Ausfuhrländer 2025"
L43: Ausfuhrland | M43: Mill. EUR
L44: Bahamas | M44: 1397.828
L45: Niederlande | M45: 1048.871
L46: Polen | M46: 710.647
L47: Vereinigte Staaten | M47: 623.639
L48: Vereinigtes Königreich | M48: 582.019
L49: Dänemark | M49: 475.412
L50: Frankreich | M50: 455.174
...

Sheet 17.1.2
A1: Link zum Inhaltsverzeichnis
A2: 17.1 Ausfuhr
A3: 17.1.2 Ausfuhr im Zeitvergleich nach Warengruppen und ausgesuchten Waren der Ernährungswirtschaft und
A4: der gewerblichen Wirtschaft (EGW)
A5: Nr. der Klassifi- kation | B5: Warenbenennung | C5: 2023 in Mill. EUR | D5: Veränderung 2023 zu 2022 in % | E5: 2024 in Mill. EUR | F5: Veränderung 2024 zu 2023 in % | G5: 2025 (vorläufig) in Mill. EUR | H5: Veränderung 2025 zu 2024 in %
B6: Insgesamt | C6: 9800.849 | D6: -1.6 | E6: 9247.235 | F6: -5.6486331 | G6: 11112.561 | H6: 20.2
A7: 1 - 4 | B7: Ernährungswirtschaft | C7: 3255.211 | D7: -0.8 | E7: 3064.949 | F7: -5.8448439 | G7: 2852.754 | H7: -6.9
A8: 1 | B8: lebende Tiere | C8: 34.964 | D8: 202.9 | E8: 33.753 | F8: -3.4635625 | G8: 36.322 | H8: 7.6
A9: 103 | B9: Schweine | C9: 10.95 | D9: 830.1 | E9: 14.002 | F9: 27.872146 | G9: 12.369 | H9: -11.7
A10: 2 | B10: Nahrungsmittel tierischen Ursprungs | C10: 630.659 | D10: -4.1 | E10: 621.699 | F10: -1.4207361 | G10: 549.886 | H10: -11.6
A11: 201-203 | B11: Milch und Milcherzeugnisse | C11: 477.552 | D11: -5.4 | E11: 493.88 | F11: 3.4 | G11: 421.669 | H11: -14.6
A12: 204 | B12: Fleisch und Fleischwaren | C12: 92.589 | D12: -4.2 | E12: 74.698 | F12: -19.32303 | G12: 63.848 | H12: -14.5
A13: 3 | B13: Nahrungsmittel pflanzlichen Ursprungs | C13: 2265.041 | D13: -0.9 | E13: 2103.035 | F13: -7.1524533 | G13: 1880.086 | H13: -10.6
A14: 301-308 | B14: Getreide (ohne Reis) | C14: 1082.989 | D14: -6.5596967 | E14: 994.597 | F14: -8.2 | G14: 845.345 | H14: -15
A15: 301 | B15: Weizen | C15: 754.589 | D15: -8.1 | E15: 722.75 | F15: -4.219383 | G15: 552.958 | H15: -23.5
A16: 315 | B16: Backwaren und andere Zuberei- tungen aus Getreide | C16: 112.419 | D16: 10.4 | E16: 95.103 | F16: -15.40309 | G16: 84.961 | H16: -10.7
A17: 381 | B17: Zuckerrüben, Zucker und Zucker- erzeugnisse | C17: 258.434 | D17: 28.9 | E17: 248.253 | F17: -3.9394971 | G17: 232.95 | H17: -6.2
A18: 4 | B18: Genussmittel | C18: 324.547 | D18: -1.3 | E18: 306.462 | F18: -5.5723824 | G18: 386.459 | H18: 26.1
... A29: 732 | B29: Kunststoffe | C29: 113.155 | D29: -39.2 | E29: 110.934 | F29: -1.9627944 | G29: 117.385 | H29: 5.8
A30: 751 | B30: Rohre aus Eisen oder Stahl | C30: 422.743 | D30: >1.000 | E30: 64.036 | F30: -84.852262 | G30: 95.279 | H30: 48.8
A31: 8 | B31: Enderzeugnisse | C31: 4607.684 | D31: 6.1 | E31: 4554.541 | F31: -1.153356 | G31: 6456.107 | H31: 41.8
A32: 820-829 | B32: Waren aus Metallen | C32: 604.33 | D32: 38.6 | E32: 456.491 | F32: -18.5 | G32: 573.171 | H32: 25.5
A33: 832 | B33: Waren aus Kunststoffen | C33: 173.073 | D33: 13.6 | E33: 169.729 | F33: -1.9321327 | G33: 154.806 | H33: -8.8
A34: 833-839 | B34: chemische und pharmazeutische Erzeugnisse | C34: 523.63 | D34: -27 | E34: 547.667 | F34: 4.7 | G34: 433.95 | H34: -20.8
A35: 845 | B35: Hebezeuge und Fördermittel | C35: 288.883 | D35: 50.3 | E35: 243.375 | F35: -15.75309 | G35: 325.543 | H35: 33.8
A36: 847-859 | B36: Maschinen | C36: 528.879 | D36: 19.1 | E36: 610.231 | F36: 15.338291 | G36: 565.476 | H36: -7.4
A37: 861 | B37: Geräte zur Elektrizitätserzeugung und -verteilung | C37: 894.174 | D37: 14.9 | E37: 702.397 | F37: -21.447392 | G37: 768.361 | H37: 9.4
A38: 882 | B38: Wasserfahrzeuge | C38: 147.97 | D38: -56 | E38: 180.144 | F38: 21.743597 | G38: 1802.327 | H38: 900.5
A39: 884 | B39: Fahrgestelle, Karosserien, Motoren, Teile und Zubehör für Kraftfahr- zeuge und dergleichen | C39: 249.697 | D39: -2.8 | E39: 253.635 | F39: 1.5771115 | G39: 248.9 | H39: -1.9
A40: 9 | B40: Rückwaren/Ersatzlieferungen/ Zuschätzung | C40: 207.372 | D40: -8.9 | E40: 225.113 | F40: 8.5551569 | G40: 274.643 | H40: 22

Sheet 17.1.3
A1: Link zum Inhaltsverzeichnis
A2: 17.1 Ausfuhr
A3: 17.1.3 Ausfuhr im Zeitvergleich nach Ländergruppen und ausgewählten Ländern
A4: Bestimmungsland | B4: 2023 in Mill. EUR | C4: Veränderung 2023 zu 2022 in % | D4: 2024 in Mill. EUR | E4: Veränderung 2024 zu 2023 in % | F4: 2025 (vorläufig) in Mill. EUR | G4: Veränderung 2025 zu 2024 in %
A5: Insgesamt | B5: 9800.849 | C5: -1.6 | D5: 9247.235 | E5: -5.6486331 | F5: 11112.561 | G5: 20.2
A6: Europa | B6: 6801.152 | C6: -0.7 | D6: 6558.1 | E6: -3.5736887 | F6: 6970.212 | G6: 6.3
A7: EU-Länder | B7: 5303.956 | C7: -4.4 | D7: 4816.614 | E7: -9.1882738 | F7: 4994.475 | G7: 3.7
A8: davon
A9: Belgien | B9: 248 | C9: 17.1 | D9: 207.149 | E9: -16.472177 | F9: 290.344 | G9: 40.2
A10: Bulgarien | B10: 38.245 | C10: 34.9 | D10: 30.939 | E10: -19.103151 | F10: 31.139 | G10: 0.6
A11: Dänemark | B11: 562.567 | C11: -23.4 | D11: 518.289 | E11: -7.870707 | F11: 475.412 | G11: -8.3
A12: Estland | B12: 14.46 | C12: -24.5 | D12: 21.164 | E12: 46.362379 | F12: 12.139 | G12: -42.6
A13: Finnland | B13: 291.197 | C13: 24.7 | D13: 174.933 | E13: -39.926236 | F13: 202.93 | G13: 16
A14: Frankreich | B14: 571.752 | C14: 10.1 | D14: 484.738 | E14: -15.218836 | F14: 455.174 | G14: -6.1
A15: Griechenland | B15: 44.129 | C15: -23.1 | D15: 44.77 | E15: 1.4525595 | F15: 51.312 | G15: 14.6
A16: Irland | B16: 75.311 | C16: -25.8 | D16: 57.57 | E16: -23.556984 | F16: 60.361 | G16: 4.8
A17: Italien | B17: 317.356 | C17: -1.1 | D17: 278.371 | E17: -12.284312 | F17: 265.909 | G17: -4.5
A18: Kroatien | B18: 66.708 | C18: 215 | D18: 36.126 | E18: -45.844576 | F18: 29.233 | G18: -19.1
A19: Lettland | B19: 17.831 | C19: -52.8 | D19: 31.617 | E19: 77.314789 | F19: 28.034 | G19: -11.3
A20: Litauen | B20: 36.799 | C20: -44.3 | D20: 75.875 | E20: 106.18767 | F20: 101.459 | G20: 33.7
... A35: Europa ohne EU | B35: 1497.195 | C35: 15.3 | D35: 1741.486 | E35: 16.316579 | F35: 1975.738 | G35: 13.5
A36: darunter
A37: Vereinigtes Königreich | B37: 446.868 | C37: -7 | D37: 598.685 | E37: 33.973567 | F37: 582.019 | G37: -2.8
A38: Norwegen | B38: 161.556 | C38: -27.6 | D38: 154.567 | E38: -4.3260541 | F38: 199.782 | G38: 29.3
A39: Russische Föderation | B39: 77.476 | C39: -21.5 | D39: 53.787 | E39: -30.6 | F39: 70.673 | G39: 31.4
A40: Schweiz | B40: 220.253 | C40: -2.8 | D40: 241.005 | E40: 9.4 | F40: 227.092 | G40: -5.8
A41: Türkei | B41: 272.616 | C41: 55.9 | D41: 393.373 | E41: 44.3 | F41: 429.62 | G41: 9.2
A42: Afrika | B42: 703.4 | C42: 4.5 | D42: 632.737 | E42: -10 | F42: 642.89 | G42: 1.5
A43: darunter
A44: Algerien | B44: 38.207 | C44: -61.8 | D44: 71.657 | E44: 87.5 | F44: 74.5 | G44: 4
A45: Marokko | B45: 307.902 | C45: 170.7 | D45: 229.545 | E45: -25.4 | F45: 128.023 | G45: -44.2
A46: Südafrika | B46: 18.27 | C46: -64.3 | D46: 17.265 | E46: -6.5 | F46: 27.88 | G46: 63.2
A47: Amerika | B47: 1273.799 | C47: 35.1 | D47: 988.852 | E47: -22.4 | F47: 2291.523 | G47: 131.8
A48: darunter
A49: Kanada | B49: 24.483 | C49: 19.3 | D49: 17.577 | E49: -28.2 | F49: 34.668 | G49: 97.2
A50: Kuba | B50: 35.247 | C50: 10.6 | D50: 16.992 | E50: -51.8 | F50: 6.046 | G50: -64.4
A51: Vereinigte Staaten | B51: 962.005 | C51: 44.9 | D51: 742.972 | E51: -22.8 | F51: 623.639 | G51: -16
A52: Asien | B52: 930.664 | C52: -32.5 | D52: 924.248 | E52: -0.7 | F52: 1026.495 | G52: 11.1
A53: darunter
A54: Iran | B54: 3.428 | C54: -97.5 | D54: 0.652 | E54: -81 | F54: 0.86 | G54: 31.9
...

Sheet 17.1.4
A1: Link zum Inhaltsverzeichnis
A2: 17.1 Ausfuhr
A3: 17.1.4 Ausfuhr im Ländervergleich
A4: Land | B4: 2025 insgesamt (vorläufig) in Mill. EUR | C4: Veränderung zum Vorjahr in % | D4: Anteil an Deutschland insgesamt in %
A5: Deutschland | B5: 1563787.6 | C5: 0.9 | D5: 100
A6: Baden-Württemberg | B6: 241616.6 | C6: 0.74392569 | D6: 15.45073
A7: Bayern | B7: 227298.22 | C7: 1.0817401 | D7: 14.535109
A8: Berlin | B8: 18147.456 | C8: 6.0975657 | D8: 1.1604809
A9: Brandenburg | B9: 24469.424 | C9: 2.7403991 | D9: 1.5647537
A10: Bremen | B10: 22567.526 | C10: -8.5427998 | D10: 1.4431325
A11: Hamburg | B11: 57226.325 | C11: 2.0306509 | D11: 3.6594692
A12: Hessen | B12: 86605.323 | C12: 9.6077626 | D12: 5.538177
A13: Mecklenburg-Vorpommern | B13: 11093.085 | C13: 19.961102 | D13: 0.70937289
A14: Niedersachsen | B14: 102922.86 | C14: 2.057056 | D14: 6.5816393
A15: Nordrhein-Westfalen | B15: 217654.35 | C15: -1.2519711 | D15: 13.918409
A16: Rheinland-Pfalz | B16: 57102.338 | C16: 1.6541153 | D16: 3.6515406
... A23: Waren ausländischen Ursprungs | B23: 358551.33 | C23: 0.7 | D23: 22.9
A25: Grafik 17.7 | F25: Daten der Grafik 17.7 "Anteil der Länder an der Ausfuhr insgesamt 2025" (Deutschland = 100)
F26: Bundesland | G26: Anteil am Insgesamt
F27: Baden-Württemberg | G27: =D6 -> 15.45073
F28: Bayern | G28: =D7 -> 14.535109
F29: Berlin | G29: =D8 -> 1.1604809
F30: Brandenburg | G30: =D9 -> 1.5647537
F31: Bremen | G31: =D10 -> 1.4431325
F32: Hamburg | G32: =D11 -> 3.6594692
F33: Hessen | G33: =D12 -> 5.538177
F34: Mecklenburg-Vorpommern | G34: =D13 -> 0.70937289
F35: Niedersachsen | G35: =D14 -> 6.5816393
F36: Nordrhein-Westfalen | G36: =D15 -> 13.918409
F37: Rheinland-Pfalz | G37: =D16 -> 3.6515406
F38: Saarland | G38: =D17 -> 1.0834337
... F42: Thüringen | G42: =D21 -> 1.1636966

Sheet 17.2.1
A1: Link zum Inhaltsverzeichnis
A2: 17.2 Einfuhr
A3: 17.2.1 Einfuhr im Zeitvergleich
A4: Merkmal | B4: 2000 | C4: 2005 | D4: 2010 | E4: 2015 | F4: 2020 | G4: 2022 | H4: 2023 | I4: 2024 | J4: 2025 (vorläufig)
A5: Warenwerte insgesamt in Mill. EUR | B5: 2205.471 | C5: 2667.508 | D5: 3931.301 | E5: 5411.432 | F5: 6209.694 | G5: 10358 | H5: 9049.683 | I5: 9012.628 | J5: 9743.059
A6: Ernährungswirtschaft | B6: 253.612 | C6: 373.549 | D6: 898.354 | E6: 1088.412 | F6: 1276.109 | G6: 1782 | H6: 1624.102 | I6: 1498.56 | J6: 1500.725
A7: gewerbliche Wirtschaft | B7: 1951.858 | C7: 2214.146 | D7: 2882.653 | E7: 4052.332 | F7: 4590.63 | G7: 8148.119 | H7: 6849.147 | I7: 6995.777 | J7: 7873.488
A8: Veränderung gegenüber dem Vorjahr in % | B8: 50.611948 | C8: 22.107391 | D8: 17.302126 | E8: 2.4124719 | F8: -6.3575782 | G8: 43.1 | H8: -12.6 | I8: -0.4 | J8: 8.1
A9: Ernährungswirtschaft | B9: 19.511046 | C9: 22.141096 | D9: 8.750743 | E9: 5.3085204 | F9: 7.861648 | G9: 44.8 | H9: -8.8 | I9: -7.7 | J9: 0.1
A10: gewerbliche Wirtschaft | B10: 55.883015 | C10: 22.459425 | D10: 20.453181 | E10: 0.40567806 | F10: -8.7177317 | G10: 46.5 | H10: -15.9 | I10: 2.1 | J10: 12.5
A12: Grafik 17.8 | L12: Daten der Grafik 17.8 "Einfuhr im Zeitvergleich" in Mill. EUR
L13: Jahr | M13: Ernährungs- wirtschaft | N13: Gewerbliche Wirtschaft
L14: 2000 | M14: 253.612 | N14: 1951.858
L15: 2001 | M15: 302.683 | N15: 1749.053
L16: 2002 | M16: 319.698 | N16: 1687.233
L17: 2003 | M17: 310.223 | N17: 1710.383
L18: 2004 | M18: 305.834 | N18: 1808.065
L19: 2005 | M19: 373.549 | N19: 2214.146
L20: 2006 | M20: 424.707 | N20: 2905.855
L21: 2007 | M21: 683.585 | N21: 2975.585
L22: 2008 | M22: 788.596 | N22: 3479.929
L23: 2009 | M23: 826.067 | N23: 2393.173
L24: 2010 | M24: 898.354 | N24: 2882.653
L25: 2011 | M25: 944.517 | N25: 3395.231
... L33: 2019 | M33: 1183.098 | N33: 5029.049
A34: Grafik 17.9 | L34: 2020 | M34: 1276.109 | N34: 4590.63
L35: 2021 | M35: 1230.2 | N35: 5562.666
L36: 2022 | M36: 1781.732 | N36: 8148.119
L37: 2023 | M37: 1624.102 | N37: 6849.147
L38: 2024 | M38: 1498.56 | N38: 6995.777
L39: 2025 (vorläufig) | M39: 1500.725 | N39: 7873.488
L42: Daten der Grafik 17.9 "Die wichtigsten Einfuhrländer 2025"
L43: Einfuhrland | M43: Mill. EUR
L44: Vereinigte Staaten | M44: 1016.054
L45: Polen | M45: 826.038
L46: Volksrepublik China | M46: 689.702
L47: Dänemark | M47: 683.724
L48: Niederlande | M48: 627.9
L49: Tschechische Republik | M49: 534.838
L50: Norwegen | M50: 501.196
...

Sheet 17.2.2
A1: Link zum Inhaltsverzeichnis
A2: 17.2 Einfuhr
A3: 17.1.2 Einfuhr im Zeitvergleich nach Warengruppen und ausgesuchten Waren der Ernährungswirtschaft und
A4: der gewerblichen Wirtschaft (EGW)
A5: Nr. der Klassifi- kation | B5: Warenbenennung | C5: 2023 in Mill. EUR | D5: Veränderung 2023 zu 2022 in % | E5: 2024 in Mill. EUR | F5: Veränderung 2024 zu 2023 in % | G5: 2025 (vorläufig) in Mill. EUR | H5: Veränderung 2025 zu 2024 in %
B6: Insgesamt | C6: 9049.683 | D6: -12.6 | E6: 9012.628 | F6: -0.40946186 | G6: 9743.059 | H6: 8.1
A7: 1 - 4 | B7: Ernährungswirtschaft | C7: 1624.102 | D7: -8.8 | E7: 1498.56 | F7: -7.7299332 | G7: 1500.725 | H7: 0.1
A8: 1 | B8: lebende Tiere | C8: 27.23 | D8: 96.6 | E8: 21.382 | F8: -21.476313 | G8: 20.016 | H8: -6.4
A9: 103 | B9: Schweine | C9: 23.204 | D9: 116.1 | E9: 18.312 | F9: -21.082572 | G9: 16.061 | H9: -12.3
A10: 2 | B10: Nahrungsmittel tierischen Ursprungs | C10: 279.408 | D10: -4.6 | E10: 274.826 | F10: -1.6398958 | G10: 294.82 | H10: 7.3
A11: 201-203 | B11: Milch und Milcherzeugnisse | C11: 121.152 | D11: -1.9099513 | E11: 124.312 | F11: 2.6082937 | G11: 124.829 | H11: 0.41588905
A12: 204 | B12: Fleisch und Fleischwaren | C12: 61.398 | D12: -0.3 | E12: 64.015 | F12: 4.2623538 | G12: 72.497 | H12: 13.2
A13: 206 | B13: Fische und Krebstiere einschließlich Zubereitungen | C13: 81.774 | D13: -12.9 | E13: 69.802 | F13: -14.64035 | G13: 73.801 | H13: 5.7
A14: 3 | B14: Nahrungsmittel pflanzlichen Ursprungs | C14: 1199.694 | D14: -10.8 | E14: 1121.123 | F14: -6.5492534 | G14: 1044.763 | H14: -6.8
A15: 301-308 | B15: Getreide (ohne Reis) | C15: 212.653 | D15: -19.253873 | E15: 247.865 | F15: 16.558431 | G15: 119.042 | H15: -51.97305
A16: 301 | B16: Weizen | C16: 135.199 | D16: -18.8 | E16: 189.066 | F16: 39.84275 | G16: 72.223 | H16: -61.8
A17: 315 | B17: Backwaren und andere Zuberei- tungen aus Getreide | C17: 41.39 | D17: 45.8 | E17: 46.515 | F17: 12.382218 | G17: 52.057 | H17: 11.9
A18: 381 | B18: Zuckerrüben, Zucker und Zucker- erzeugnisse | C18: 54.007 | D18: 64.2 | E18: 42.142 | F18: -21.969374 | G18: 42.761 | H18: 1.5
... A23: 511 | B23: Rundholz | C23: 70.666 | D23: -12 | E23: 62.804 | F23: -11.125577 | G23: 78.237 | H23: 24.6
A24: 518 | B24: Erdöl und Erdgas | C24: 884.914 | D24: 29.3 | E24: 602.554 | F24: -31.908185 | G24: 1182.079 | H24: 96.2
A25: 6 | B25: Halbwaren | C25: 1417.414 | D25: -43.2 | E25: 1416.379 | F25: -0.073020303 | G25: 1279.864 | H25: -9.6
A26: 669 | B26: Mineralölerzeugnisse | C26: 636.134 | D26: -27.1 | E26: 663.355 | F26: 4.2791299 | G26: 508.858 | H26: -23.3
A27: 673 | B27: Düngemittel | C27: 170.775 | D27: -31.7 | E27: 132.29 | F27: -22.5355 | G27: 192.16 | H27: 45.3
A28: 7 - 8 | B28: Fertigwaren | C28: 4388.991 | D28: -8.8 | E28: 4849.621 | F28: 10.495123 | G28: 5185.503 | H28: 6.9
A29: 7 | B29: Vorerzeugnisse | C29: 1081.894 | D29: -15.5 | E29: 1157.152 | F29: 6.9561343 | G29: 1071.492 | H29: -7.4
A30: 708 | B30: Papier und Pappe | C30: 368.068 | D30: -1.3 | E30: 350.985 | F30: -4.6412619 | G30: 374.528 | H30: 6.7
A31: 709 | B31: Sperrholz, Span- und Faserplatten, Furnierblätter und dergleichen | C31: 25.081 | D31: 16.9 | E31: 30.941 | F31: 23.3643 | G31: 24.289 | H31: -21.5
A32: 732 | B32: Kunststoffe | C32: 157.763 | D32: -14 | E32: 156.323 | F32: -0.91276155 | G32: 141.333 | H32: -9.6
A33: 8 | B33: Enderzeugnisse | C33: 3307.097 | D33: -6.4 | E33: 3692.469 | F33: 11.652879 | G33: 4114.011 | H33: 11.4
A34: 820-829 | B34: Waren aus Metallen | C34: 320.387 | D34: 23.544609 | E34: 329.721 | F34: 2.9133517 | G34: 395.328 | H34: 19.897732
A35: 832 | B35: Waren aus Kunststoffen | C35: 233.291 | D35: -10 | E35: 226.427 | F35: -2.9422481 | G35: 231.498 | H35: 2.2
A36: 833-839 | B36: chemische und pharmazeutische Erzeugnisse | C36: 216.455 | D36: -42.744043 | E36: 215.976 | F36: -0.22129311 | G36: 253.557 | H36: 17.400545
... A39: 861 | B39: Geräte zur Elektrizitätserzeugung und -verteilung | C39: 375.177 | D39: 29.8 | E39: 403.532 | F39: 7.5577661 | G39: 518.153 | H39: 28.4
A40: 882 | B40: Wasserfahrzeuge | C40: 34.289 | D40: -83.6 | E40: 427.778 | F40: >1.000 | G40: 123.442 | H40: -71.1
A41: 884 | B41: Fahrgestelle, Karosserien, Motoren, Teile und Zubehör für Kraftfahr- zeuge und dergleichen | C41: 57.612 | D41: -10.6 | E41: 54.65 | F41: -5.14129 | G41: 65.452 | H41: 19.8
A42: 885 | B42: Personenkraftwagen und Wohn- mobile | C42: 250.066 | D42: 13.7 | E42: 319.433 | F42: 27.739477 | G42: 369.855 | H42: 15.8
A43: 9 | B43: Rückwaren/Ersatzlieferungen/ Zuschätzung | C43: 576.434 | D43: 34.5 | E43: 518.291 | F43: -10.086671 | G43: 368.846 | H43: -28.8

Sheet 17.2.3
A1: Link zum Inhaltsverzeichnis
A2: 17.2 Einfuhr
A3: 17.2.3 Einfuhr im Zeitvergleich nach Ländergruppen und ausgewählten Ländern
A4: Ursprungsland | B4: 2023 in Mill. EUR | C4: Veränderung 2023 zu 2022 in % | D4: 2024 in Mill. EUR | E4: Veränderung 2024 zu 2023 in % | F4: 2025 (vorläufig) in Mill. EUR | G4: Veränderung 2025 zu 2024 in %3
A5: Insgesamt | B5: 9049.683 | C5: -12.6 | D5: 9012.628 | E5: -0.40946186 | F5: 9743.059 | G5: 8.1
A6: Europa | B6: 6665.644 | C6: -18.2 | D6: 6738.33 | E6: 1.0904573 | F6: 7143.648 | G6: 6
A7: EU-Länder | B7: 5633.293 | C7: -12.9 | D7: 5719.991 | E7: 1.5390288 | F7: 5814.54 | G7: 1.7
A8: davon
A9: Belgien | B9: 372.015 | C9: 23.7 | D9: 363.163 | E9: -2.3794739 | F9: 330.363 | G9: -9
A10: Bulgarien | B10: 19.455 | C10: 9.5 | D10: 15.248 | E10: -21.624261 | F10: 17.795 | G10: 16.7
A11: Dänemark | B11: 639.793 | C11: -44.9 | D11: 735.616 | E11: 14.977188 | F11: 683.724 | G11: -7.1
A12: Estland | B12: 13.213 | C12: -38.8 | D12: 15.774 | E12: 19.382426 | F12: 20.617 | G12: 30.7
A13: Finnland | B13: 495.008 | C13: 30 | D13: 436.353 | E13: -11.849303 | F13: 438.67 | G13: 0.5
A14: Frankreich | B14: 389.402 | C14: -34.5 | D14: 409.381 | E14: 5.1306876 | F14: 393.357 | G14: -3.9
A15: Griechenland | B15: 37.175 | C15: 46 | D15: 69.553 | E15: 87.096167 | F15: 160.127 | G15: 130.2
A16: Irland | B16: 36.137 | C16: -10.4 | D16: 43.454 | E16: 20.247945 | F16: 41.818 | G16: -3.8
A17: Italien | B17: 260.581 | C17: -5.6 | D17: 323.872 | E17: 24.288417 | F17: 309.681 | G17: -4.4
A18: Kroatien | B18: 7.511 | C18: -20.6 | D18: 5.716 | E18: -23.898283 | F18: 12.243 | G18: 114.2
A19: Lettland | B19: 29.495 | C19: -41.9 | D19: 21.056 | E19: -28.611629 | F19: 19.623 | G19: -6.8
A20: Litauen | B20: 120.577 | C20: -29.6 | D20: 153.003 | E20: 26.892359 | F20: 61.992 | G20: -59.5
... A35: Europa ohne EU | B35: 1032.35 | C35: -38.5 | D35: 1018.339 | E35: -1.3571947 | F35: 1329.109 | G35: 30.5
A36: darunter
A37: Vereinigtes Königreich | B37: 203.349 | C37: -8.4 | D37: 249.442 | E37: 22.666942 | F37: 191.486 | G37: -23.2
A38: Norwegen | B38: 203.099 | C38: -39.7 | D38: 265.326 | E38: 30.638753 | F38: 501.196 | G38: 88.9
A39: Russische Föderation | B39: 142.442 | C39: -77.8 | D39: 77.733 | E39: -45.428315 | F39: 99.579 | G39: 28.1
A40: Schweiz | B40: 160.105 | C40: -30.3 | D40: 177.692 | E40: 10.984666 | F40: 193.667 | G40: 9
A41: Ukraine | B41: 74.287 | C41: 88.2 | D41: 116 | E41: 56.151144 | F41: 153.459 | G41: 32.3
A42: Afrika | B42: 204.312 | C42: -5.5 | D42: 64.842 | E42: -68.263244 | F42: 136.654 | G42: 110.8
A43: darunter
A44: Kenia | B44: 2.956 | C44: 18.4 | D44: 2.779 | E44: -5.9878214 | F44: 3.742 | G44: 34.6
A45: Marokko | B45: 2.692 | C45: 46.9 | D45: 7.565 | E45: 181.01783 | F45: 18.312 | G45: 142
A46: Südafrika | B46: 7.949 | C46: -78.6 | D46: 13.76 | E46: 73.103535 | F46: 25.61 | G46: 86.1
A47: Amerika | B47: 985.072 | C47: 29.5 | D47: 1113.601 | E47: 13.047676 | F47: 1181.846 | G47: 6.1
A48: darunter
A49: Brasilien | B49: 56.111 | C49: 63.3 | D49: 52.309 | E49: -6.775855 | F49: 46.217 | G49: -11.6
A50: Kanada | B50: 12.176 | C50: -32.7 | D50: 17.686 | E50: 45.252957 | F50: 14.723 | G50: -16.8
A51: Vereinigte Staaten | B51: 690.244 | C51: 20.4 | D51: 872.509 | E51: 26.40588 | F51: 1016.054 | G51: 16.5
A52: Asien | B52: 1078.463 | C52: 7.7 | D52: 1067.811 | E52: -0.98770194 | F52: 1190.878 | G52: 11.5
A53: darunter
A54: Japan | B54: 28.355 | C54: -18.1 | D54: 100.28 | E54: 253.65897 | F54: 54.349 | G54: -45.8
...

Sheet 17.2.4
A1: Link zum Inhaltsverzeichnis
A2: 17.2 Einfuhr
A3: 17.2.4 Einfuhr im Ländervergleich
A4: Land | B4: 2025 insgesamt (vorläufig) in Mill. EUR | C4: Veränderung zum Vorjahr in % | D4: Anteil an Deutschland insgesamt in %
A5: Deutschland | B5: 1373093.3 | C5: 4.3679377 | D5: 100
A6: Baden-Württemberg | B6: 218181.62 | C6: 0.99404005 | D6: 15.889788
A7: Bayern | B7: 228911.71 | C7: 0.68987511 | D7: 16.671242
A8: Berlin | B8: 21996.577 | C8: 12.678625 | D8: 1.6019724
A9: Brandenburg | B9: 26198.083 | C9: 7.3312044 | D9: 1.9079608
A10: Bremen | B10: 18405.534 | C10: 1.6176531 | D10: 1.340443
A11: Hamburg | B11: 76737.704 | C11: 3.8844737 | D11: 5.5886735
A12: Hessen | B12: 128664.65 | C12: 8.0955933 | D12: 9.3704229
A13: Mecklenburg-Vorpommern | B13: 9745.708 | C13: 8.1339205 | D13: 0.70976296
A14: Niedersachsen | B14: 129525.8 | C14: 5.924537 | D14: 9.4331385
A15: Nordrhein-Westfalen | B15: 281686.99 | C15: 0.79365482 | D15: 20.514774
A16: Rheinland-Pfalz | B16: 44434.028 | C16: 2.1919203 | D16: 3.236053
... A21: Thüringen | B21: 17888.807 | C21: 1.7709728 | D21: 1.3028107
A22: nicht ermittelte Länder | B22: 17053.592 | C22: x | D22: 1.2419834
A23: Für das Ausland bestimmte Waren | B23: 35028.321 | C23: 0.045903935 | D23: 2.5510517
A25: Grafik 17.10 | F25: Daten der Grafik 17.10 "Anteil der Länder an der Einfuhr insgesamt 2025" (Deutschland = 100)
F26: Bundesland | G26: Anteil in %
F27: Baden-Württemberg | G27: =D6 -> 15.889788
F28: Bayern | G28: =D7 -> 16.671242
F29: Berlin | G29: =D8 -> 1.6019724
F30: Brandenburg | G30: =D9 -> 1.9079608
F31: Bremen | G31: =D10 -> 1.340443
F32: Hamburg | G32: =D11 -> 5.5886735
F33: Hessen | G33: =D12 -> 9.3704229
F34: Mecklenburg-Vorpommern | G34: =D13 -> 0.70976296
F35: Niedersachsen | G35: =D14 -> 9.4331385
F36: Nordrhein-Westfalen | G36: =D15 -> 20.514774
F37: Rheinland-Pfalz | G37: =D16 -> 3.236053
F38: Saarland | G38: =D17 -> 1.4724803
... F42: Thüringen | G42: =D21 -> 1.3028107

Sheet Methodik und Glossar
A1: Link zum Inhaltsverzeichnis
A2: Methodik und Glossar
A3: Gegenstand der Außenhandelsstatistik ist der grenzüberschreitende Warenverkehr Deutschlands mit dem Ausland. Dienstleistungen aller Art sind dagegen grundsätzlich nicht Gegenstand der Außenhandelsstatistik. Ausland im Sinne der Außenhandelsstatistik ist das Gebiet außerhalb der Bundesrepublik Deutschland nach dem Gebietsstand seit dem 3. Oktober 1990.
A4: Die wichtigsten Erhebungsmerkmale der Außenhandelsstatistik sind die Lieferrichtung (Einfuhr und Ausfuhr), die Warenart, der Wert, die Menge, das Partnerland sowie das inländische Herkunfts- und Zielland.
A5: In der Außenhandelsstatistik wird erhebungstechnisch zwischen Extrahandel und Intrahandel unterschieden.
A6: Die Extrahandelsstatistik erfasst den grenzüberschreitenden Warenverkehr mit Drittländern (Länder außerhalb der EU). Die Erhebung der Daten erfolgt hier über die Zollverwaltung im Rahmen der gesetzlich vorgeschriebenen Einfuhr- und Ausfuhrförmlichkeiten.
A7: Die Intrahandelsstatistik erfasst den grenzüberschreitenden Warenverkehr zwischen Deutschland und den anderen Mitgliedsstaaten der Europäischen Union (Warenverkehr innerhalb der EU). Es handelt sich hierbei um ein Erhebungssystem in Form einer Direktanmeldung durch die am Intrahandel beteiligten Unternehmen. Auskunftspflichtbefreit sind Unternehmen, deren innergemeinschaftlicher Warenver- kehr je Verkehrsrichtung (Eingang bzw. Versendung) im Vorjahr oder im laufenden Jahr einen Wert von 500.000 EUR nicht übersteigt (bis Ende 2011 betrug die Anmeldeschwelle 400.000 EUR).
A8: In den Ergebnissen der Außenhandelsstatistik sind ab 2025 geänderte Zuschätzverfahren für befreite Warenverkehre sowie für Antwort- ausfälle im Intrahandel enthalten. Die Zuschätzungen werden nach Partnerländern, deutschen Ländern und Kapiteln des Warenverzeich- nisses aufgeteilt.
A9: Die Ergebnisse über die Ausfuhr werden im Spezialhandel nachgewiesen, der im Wesentlichen die Waren enthält, die aus der Erzeugung, der Bearbeitung oder Verarbeitung des Erhebungsgebietes stammen und ausgeführt worden sind.
A10: Die Einfuhr wird im Generalhandel dargestellt. Der Generalhandel enthält alle in das Erhebungsgebiet eingehenden Waren mit Ausnahme der Waren der Durchfuhr und des Zwischenauslandsverkehrs. Im Generalhandel werden alle Einfuhren auf Lager im Zeitpunkt ihrer Einla- gerung nachgewiesen. Die Einfuhr Mecklenburg-Vorpommerns enthält also nicht nur die Waren, die zum Gebrauch, zum Verbrauch, zur Bearbeitung oder Verarbeitung in Mecklenburg-Vorpommern bestimmt sind, sondern auch Waren, die über Mecklenburg-Vorpommern als erstes bekanntes Zielland in andere Länder des Bundesgebietes oder wieder ins Ausland weitergeleitet werden.
A11: Wegen der unterschiedlichen Abgrenzung vom General- und Spezialhandel ist eine Saldierung der Einfuhr- und Ausfuhrergebnisse nicht sinnvoll.
A12: Die Rechtsgrundlagen und tiefergehende methodische Erläuterungen entnehmen Sie bitte den Qualitätsberichten bzw. angegebenen Statistischen Berichten (siehe "Mehr zum Thema").
... A17: Den internationalen Standards entsprechend wird als Warenwert der Grenzübergangswert ("Statistischer Wert") zugrunde gelegt. Der Wert ergibt sich in der Regel aus dem in Rechnung gestellten Entgelt für eine Ware beim Kauf im Einfuhrgeschäft oder beim Verkauf einer Ware im Ausfuhrgeschäft, wobei eine Kostenabgrenzung frei deutsche Grenze vorzunehmen ist. Zölle, Steuern oder andere Abga- ben, die anlässlich der Einfuhr bzw. Ausfuhr erhoben wurden, sind nicht im "Statistischen Wert" enthalten.

Sheet Mehr zum Thema
A1: Link zum Inhaltsverzeichnis – Inhalt dieser Seite sind interne und externe Links.
A2: Mehr zum Thema
A3: Weitere Informationen zum Thema finden Sie auf der Website des Statistischen Amtes Mecklenburg-Vorpommern
A4: > https://www.laiv-mv.de/statistik/
A5: Statistische Berichte Mecklenburg-Vorpommern
A6: > G313 | B6: Aus- und Einfuhr
A7: > G313J | B7: Aus- und Einfuhr (Jahresbericht)
A8: Qualitätsberichte Statistisches Bundesamt
A9: > Außenhandel
A10: Fachliche Informationen
A11: Steffen Schubert, Telefon: 0385 588-56041, steffen.schubert@statistik-mv.de
A12: Quellenangaben
A13: Tabellen 17.1.4, 17.2.4: Statistisches Bundesamt, GENESIS-Online, Code 51000-0030
A14: (abweichender Revisionsstand der vorläufigen Genesis-Online-Ländertabellen des Statistischen Bundesamtes)

Sheet Tabelle1
