Workbook
Name _GrafikDaten_15.1: Titelblatt!$C$20:$E$31
Name _GrafikDaten_15.2: 'Ergebnisse in Grafiken'!$C$3:$E$14
Name _GrafikDaten_15.3: 'Ergebnisse in Grafiken'!$C$30:$D$48
Name _GrafikDaten_15.4: '15.1.1'!$H$30:$I$50
Name _GrafikDaten_15.5: '15.1.2'!$I$67:$K$87
Name _GrafikDaten_15.6: '15.1.6'!$I$72:$K$91
Name _GrafikDaten_15.7: '15.2.1+15.2.2'!$J$11:$K$19
Name _Tabelle_15.1.1: '15.1.1'!$A$4:$F$28
Name _Tabelle_15.1.2: '15.1.2'!$A$4:$G$65
Name _Tabelle_15.1.3: '15.1.3'!$A$4:$G$29
Name _Tabelle_15.1.4: '15.1.4'!$A$4:$G$29
Name _Tabelle_15.1.5: '15.1.5'!$A$4:$G$116
Name _Tabelle_15.1.6: '15.1.6'!$A$4:$G$70
Name _Tabelle_15.2.1: '15.2.1+15.2.2'!$A$3:$H$9
Name _Tabelle_15.2.2: '15.2.1+15.2.2'!$A$29:$H$51
Name _Tabelle_15.2.3: '15.2.3'!$A$3:$H$51
Name Balkengrafik: '[1]15.1.2'!#REF!
Name Balkengrafik: '15.1.2'!#REF!
Name Balkengrafik: '15.1.2'!#REF!
Name Balkengrafik: '15.1.2'!#REF!

Sheet Titelblatt
A1: Titelblatt des Kapitels 15 "Verdienste und Arbeitskosten": Link zum Inhaltsverzeichnis
A2: 15 | Verdienste und Arbeitskosten
A20: Grafik 15.1 | C20: Daten der Grafik 15.1 "Durchschnittliche Bruttomonatsverdienste (ohne Sonderzahlungen) von Vollzeitbeschäftigten im April 2025 nach beruflicher Tätigkeit"
C21: Beschäftigungsumfang | D21: Männlich | E21: Weiblich
C22: Umweltberufe | D22: 4416 | E22: 4429
C23: Transport-, Logistik- und Verkehrsberufe | D23: 3191 | E23: 3160
C24: Schifffahrtberufe | D24: 3795 | E24: 3511
C25: MINT-Berufe | D25: 4030 | E25: 3896
C26: Metall- und Elektroberufe | D26: 3764 | E26: 3391
C27: Luftfahrtberufe | D27: 4274 | E27: 3767
C28: Künstlerberufe | D28: 4314 | E28: 3900
C29: Handwerksberufe | D29: 3451 | E29: 2639
C30: Gesundheits- und Pflegeberufe | D30: 6022 | E30: 4257
C31: Bauberufe | D31: 3597 | E31: 3948

Sheet Inhalt
A1: Inhaltsverzeichnis des Kapitels 15 "Verdienste und Arbeitskosten": Die Gliederungen und Überschriften auf dieser Seite sind Links zum Inhalt.
A2: Inhaltsverzeichnis | C2: Seite
A3: Überblick | B3: Überblick in Grafiken | C3: =D3+378 -> 381 | D3: 3
B4: Überblick in Worten | C4: =D4+378 -> 382 | D4: 4
A5: Ergebnisse in Tabellen
A6: 15.1 | B6: Verdienste in der Land- und Forstwirtschaft, Fischerei, im Produzierenden Gewerbe und im Dienstleistungsbereich
A7: 15.1.1 | B7: Nominallohnindex im Zeitvergleich nach Wirtschaftsgliederung | C7: =D7+378 -> 383 | D7: 5
A8: 15.1.2 | B8: Durchschnittliche Arbeitszeiten und Bruttojahresverdienste (mit Sonderzahlungen) 2025 nach Wirtschaftsgliederung | C8: =D8+378 -> 384 | D8: 6
A9: 15.1.3 | B9: Durchschnittliche Arbeitszeiten und Bruttoverdienste vollzeitbeschäftigter Arbeitnehmerinnen und Arbeitnehmer im April 2025 nach Wirtschaftsgliederung | C9: =D9+378 -> 386 | D9: 8
A10: 15.1.4 | B10: Durchschnittliche Arbeitszeiten und Bruttoverdienste teilzeitbeschäftigter Arbeitnehmerinnen und Arbeitnehmer im April 2025 nach Wirtschaftsgliederung | C10: =D10+378 -> 387 | D10: 9
A11: 15.1.5 | B11: Durchschnittliche Arbeitszeiten und Bruttoverdienste im April 2025 nach Beschäftigungsart und Anforderungsniveau | C11: =D11+378 -> 388 | D11: 10
A12: 15.1.6 | B12: Durchschnittliche Bruttomonatsverdienste (ohne Sonderzahlungen) im April 2025 nach persönlichen und betrieblichen Eigenschaften | C12: =D12+378 -> 391 | D12: 13
A13: 15.2 | B13: Arbeitskosten im Produzierenden Gewerbe und im Dienstleistungsbereich
A14: 15.2.1 | B14: Nettoarbeitskosten je geleistete Stunde im Zeitvergleich | C14: =D14+378 -> 393 | D14: 15
A15: 15.2.2 | B15: Nettoarbeitskosten je geleistete Stunde 2020 nach Wirtschaftsgliederung | C15: =D15+378 -> 393 | D15: 15
A16: 15.2.3 | B16: Arbeitskosten je Vollzeiteinheit 2020 nach Kostenarten | C16: =D16+378 -> 394 | D16: 16
A17: Ergebnisse in Grafiken
A18: 15.1 | B18: Durchschnittliche Bruttomonatsverdienste (ohne Sonderzahlungen) von Vollzeitbeschäftigten im April 2025 nach beruflicher Tätigkeit | C18: =D18+378 -> 379 | D18: 1
A19: 15.2 | B19: Durchschnittliche Bruttomonatsverdienste (ohne Sonderzahlungen) vollzeitbeschäftigter Arbeitnehmerinnen und Arbeitnehmer im April 2025 nach Altersgruppen | C19: =D19+378 -> 381 | D19: 3
A20: 15.3 | B20: Durchschnittliche Bruttostundenverdienste (ohne Sonderzahlungen) voll- und teilzeitbeschäftigter Arbeitnehmerinnen und Arbeitnehmer im April 2025 im Ländervergleich | C20: =D20+378 -> 381 | D20: 3
A21: 15.4 | B21: Nominallohnindex 2024 nach Wirtschaftsgliederung (Basis 2025 = 100) | C21: =D21+378 -> 383 | D21: 5
A22: 15.5 | B22: Bruttojahresverdienste von vollzeitbeschäftigten Frauen und Männern 2025 nach Wirtschaftsgliederung | C22: =D22+378 -> 385 | D22: 7
A23: 15.6 | B23: Bruttojahresverdienste von Vollzeitbeschäftigten 2025 nach Wirtschaftsgliederung | C23: =D23+378 -> 392 | D23: 14
A24: 15.7 | B24: Struktur der Arbeitskosten 2020 | C24: =D24+378 -> 393 | D24: 15
A25: Erläuterungen
A26: Fußnotenerläuterungen | C26: =D26+378 -> 395 | D26: 17
A27: Methodik | C27: =D27+378 -> 396 | D27: 18
A28: Glossar | C28: =D28+378 -> 397 | D28: 19
A29: Mehr zum Thema | C29: =D29+378 -> 399 | D29: 21

Sheet Ergebnisse in Grafiken
A1: Link zum Inhaltsverzeichnis
A2: Überblick in Grafiken
A3: Grafik 15.2 | C3: Daten der Grafik 15.2 "Durchschnittliche Bruttomonatsverdienste (ohne Sonderzahlungen) vollzeitbeschäftigter Arbeitnehmerinnen und Arbeitnehmer im April 2025 nach Altersgruppen"
C4: Altersgruppen | D4: Frauen in EUR | E4: Männer in EUR
C5: Unter 25 | D5: 3153 | E5: 3075
C6: 25 bis 29 | D6: 3547 | E6: 3516
C7: 30 bis 34 | D7: 3790 | E7: 3923
C8: 35 bis 39 | D8: 3869 | E8: 3996
C9: 40 bis 44 | D9: 3893 | E9: 3973
C10: 45 bis 49 | D10: 3966 | E10: 4044
C11: 50 bis 54 | D11: 4157 | E11: 4390
C12: 55 bis 59 | D12: 4041 | E12: 4231
C13: 60 bis 64 | D13: 4026 | E13: 4558
C14: 65 und mehr | D14: 4845 | E14: 5222
A30: Grafik 15.3 | C30: Daten der Grafik 15.3 "Durchschnittliche Bruttostundenverdienste (ohne Sonderzahlungen) voll- und teilzeitbeschäftigter Arbeitnehmer im April 2025 im Ländervergleich"
C31: Bundesland | D31: EUR
C32: Baden-Württemberg | D32: 28.58
C33: Bayern | D33: 28.18
C34: Berlin | D34: 28.38
C35: Brandenburg | D35: 23.44
C36: Bremen | D36: 28.18
C37: Hamburg | D37: 30.36
C38: Hessen | D38: 29.63
C39: Mecklenburg-Vorpommern | D39: 22.85
C40: Niedersachsen | D40: 25.65
C41: Nordrhein-Westfalen | D41: 27.14
C42: Rheinland-Pfalz | D42: 25.94
C43: Saarland | D43: 25.8
... C48: Deutschland | D48: 27.09

Sheet Überblick in Worten
A1: Link zum Inhaltsverzeichnis
A2: Überblick in Worten
A3: § | B3: Der durchschnittliche Bruttojahresverdienst (einschließlich Sonderzahlungen) der Arbeitnehmerinnen und Arbeitnehmer in der Land- und Forstwirtschaft, Fischerei, im Produzierenden Gewerbe und im Dienstleistungsbereich lag im Jahr 2025 bei 40.533 EUR; bei den Vollzeitbeschäftigten betrug er 52.383 EUR.
A4: § | B4: Im April 2025 erhielten die vollzeitbeschäftigten Arbeitnehmerinnen und Arbeitnehmer einen durchschnittlichen Brutto- stundenverdienst (ohne Sonderzahlungen) von 23,46 EUR. Der durchschnittliche Bruttomonatsverdienst (ohne Sonder- zahlungen) der Vollzeitbeschäftigten lag bei 4.022 EUR und erhöhte sich damit um 4,5 Prozent gegenüber dem Vorjahr (April 2024: 3.850 EUR).
A5: § | B5: Bei Tätigkeiten nach der Klassifikation der Berufe 2010 – überarbeitete Fassung 2020 (KldB 2010) – wurde im Berufsbereich Unternehmensorganisation, Buchhaltung, Recht, Verwaltung im April 2025 bei Vollzeitbeschäftigten mit 4.875 EUR der höchste durchschnittliche Bruttomonatsverdienst (ohne Sonderzahlungen) erzielt, gefolgt von den Berufsbereichen Gesund- heit, Soziales, Lehre und Erziehung (4.632 EUR) und Naturwissenschaft, Geografie, Informatik (4.489 EUR).
A6: § | B6: Eine höhere Qualifikation spiegelt sich auch in höheren Verdiensten wider. Vollzeitbeschäftigte mit anerkanntem Berufs- abschluss verdienten im April 2025 im Durchschnitt 3.512 EUR, mit einem Meister-/Techniker-/Fachschulabschluss bereits 4.622 EUR. Hochqualifizierte Vollzeitbeschäftigte mit Diplom/Magister/Master/Staatsexamen erreichten durchschnittlich 6.197 EUR Bruttomonatsverdienst.
A7: § | B7: Von den Arbeitskosten im Produzierenden Gewerbe und Dienstleistungsbereich im Jahr 2020 entfielen 60,1 Prozent auf das Entgelt für geleistete Arbeitszeit. Die Sozialbeiträge der Arbeitgeberinnen und Arbeitgeber für ihre Arbeitnehmerinnen und Arbeitnehmer hatten einen Anteil von 23,1 Prozent.
A8: § | B8: Mit 10,0 Prozent der Arbeitskosten wurden nicht gearbeitete Tage vergütet. Auf die Bruttoverdienste der Auszubildenden entfielen 1,2 Prozent. Die vermögenswirksamen Leistungen schlugen sich mit lediglich 0,1 Prozent in den Arbeitskosten nieder.

Sheet 15.1.1
A1: Link zum Inhaltsverzeichnis
A2: 15.1 Verdienste in der Land- und Forstwirtschaft, Fischerei, im Produzierenden Gewerbe
A3: und im Dienstleistungsbereich 1)
A4: 15.1.1 Nominallohnindex 2) im Zeitvergleich nach Wirtschaftsgliederung (Basis 2025 = 100)
A5: Nr. der Klassi- fikation | B5: Wirtschaftsgliederung | C5: 2022 | D5: 2023 | E5: 2024 | F5: 2025
A6: A-S | B6: Land- und Forstwirtschaft, Fischerei, Produzierendes Gewerbe und Dienstleistungsbereich | C6: 85.2 | D6: 90.5 | E6: 95.9 | F6: 100
A7: A | B7: Land- und Forstwirtschaft, Fischerei | C7: 83 | D7: 88.8 | E7: 94.8 | F7: 100
A8: B-S | B8: Produzierendes Gewerbe und Dienstleistungsbereich | C8: 85.2 | D8: 90.6 | E8: 95.8 | F8: 100
A9: B-F | B9: Produzierendes Gewerbe | C9: 85.2 | D9: 91.1 | E9: 96.1 | F9: 100
A10: B | B10: Bergbau und Gewinnung von Steinen und Erden | C10: 76.4 | D10: 80.8 | E10: 92.9 | F10: 100
A11: C | B11: Verarbeitendes Gewerbe | C11: 85 | D11: 91.4 | E11: 96.9 | F11: 100
A12: D | B12: Energieversorgung | C12: 83.3 | D12: 91 | E12: 94.2 | F12: 100
A13: E | B13: Wasserversorgung; Abwasser- und Abfallentsorgung und Beseitigung von Umweltverschmutzungen | C13: 84.8 | D13: 91.8 | E13: 94.2 | F13: 100
A14: F | B14: Baugewerbe | C14: 86.5 | D14: 90.6 | E14: 95.5 | F14: 100
A15: G-S | B15: Dienstleistungsbereich | C15: 85.3 | D15: 90.4 | E15: 95.7 | F15: 100
A16: G | B16: Handel; Instandhaltung und Reparatur von Kraftfahrzeugen | C16: 87.9 | D16: 93.1 | E16: 97.6 | F16: 100
A17: H | B17: Verkehr und Lagerei | C17: 84.4 | D17: 91.5 | E17: 95.2 | F17: 100
... A28: S | B28: Erbringung von sonstigen Dienstleistungen | C28: 83 | D28: 91.1 | E28: 96.1 | F28: 100
A30: Grafik 15.4 | H30: Daten der Grafik 15.4 "Nominallohnindex 2024 nach Wirtschaftsgliederung (Basis 2025 = 100)"
H31: Wirtschaftsabschnitt | I31: Normallohnindex
H32: A Land- und Forstwirtschaft, Fischerei | I32: =E7 -> 94.8
H33: B Bergbau und Gewinnung von Steinen und Erden | I33: =E10 -> 92.9
H34: C Verarbeitendes Gewerbe | I34: =E11 -> 96.9
H35: D Energieversorgung | I35: =E12 -> 94.2
H36: E Wasserversorgung, Entsorgung, Beseitigung von Umweltverschmutzungen | I36: =E13 -> 94.2
H37: F Baugewerbe | I37: =E14 -> 95.5
H38: G Handel; Instandhaltung und Reparatur von Kraftfahrzeugen | I38: =E16 -> 97.6
H39: H Verkehr und Lagerei | I39: =E17 -> 95.2
H40: I Gastgewerbe | I40: =E18 -> 97.5
H41: J Information und Kommunikation | I41: =E19 -> 97.1
H42: K Finanz- und Versicherungsdienstleistungen | I42: =E20 -> 94.8
H43: L Grundstücks- und Wohnungswesen | I43: =E21 -> 93.1
H44: M Freiberufliche, wissenschaftliche und technische Dienstleistungen | I44: =E22 -> 93.7
H45: N Sonstige wirtschaftliche Dienstleistungen | I45: =E23 -> 96.1
H46: O Öffentliche Verwaltung, Verteidigung; Sozialversicherung | I46: =E24 -> 96.2
H47: P Erziehung und Unterricht | I47: =E25 -> 94.8
H48: Q Gesundheits- und Sozialwesen | I48: =E26 -> 95.5
H49: R Kunst, Unterhaltung und Erholung | I49: =E27 -> 96.1
H50: S Sonstige Dienstleistungen | I50: =E28 -> 96.1

Sheet 15.1.2
A1: Link zum Inhaltsverzeichnis
A2: 15.1 Verdienste in der Land- und Forstwirtschaft, Fischerei, im Produzierenden Gewerbe
A3: und im Dienstleistungsbereich 1)
A4: 15.1.2 Durchschnittliche Arbeitszeiten und Bruttojahresverdienste (mit Sonderzahlungen) 2025 nach Wirtschaftsgliederung 3)
A5: Wirtschaftsgliederung | B5: Bezahlte Wochen- arbeitszeiten in Stunden | C5: Bruttojahres- verdienste in EUR | D5: Bezahlte Wochen- arbeitszeiten der Frauen in Stunden | E5: Bruttojahres- verdienste der Frauen in EUR | F5: Bezahlte Wochen- arbeitszeiten der Männer in Stunden | G5: Bruttojahres- verdienste der Männer in EUR
A6: Insgesamt | B6: 32.6 | C6: 40533 | D6: 30.7 | E6: 37215 | F6: 34.5 | G6: 43846
A7: Land- und Forstwirtschaft, Fischerei | B7: 34.5 | C7: 30042 | D7: / | E7: / | F7: 36.6 | G7: 32074
A8: Bergbau und Gewinnung von Steinen und Erden | B8: 38 | C8: 67395 | D8: 27.9 | E8: 28334 | F8: 39.3 | G8: 72324
A9: Verarbeitendes Gewerbe | B9: 36.6 | C9: 44544 | D9: 34.4 | E9: 37154 | F9: 37.4 | G9: 47160
A10: Energieversorgung | B10: 37.1 | C10: 69036 | D10: 35.1 | E10: 55599 | F10: 37.8 | G10: 73694
A11: Wasserversorgung; Abwasser- und Abfallentsorgung und Beseitigung von Umweltverschmutzungen | B11: 38.2 | C11: 50132 | D11: 36.4 | E11: 49937 | F11: 38.6 | G11: 50177
A12: Baugewerbe | B12: 32.1 | C12: 38358 | D12: 22.8 | E12: / | F12: 34.1 | G12: 41802
A13: Handel; Instandhaltung und Reparatur von Kraft- fahrzeugen | B13: 30.3 | C13: 32182 | D13: 28 | E13: 29143 | F13: 33.1 | G13: 35867
A14: Verkehr und Lagerei | B14: 33.3 | C14: 36586 | D14: 28.6 | E14: 32059 | F14: 35 | G14: 38166
A15: Gastgewerbe | B15: 30.5 | C15: 25397 | D15: 29 | E15: 24271 | F15: 32.5 | G15: 26997
A16: Information und Kommunikation | B16: 34.3 | C16: 50317 | D16: 30.8 | E16: 42846 | F16: 36.1 | G16: 54137
A17: Erbringung von Finanz- und Versicherungsdienst- leistungen | B17: 33.2 | C17: 52715 | D17: 33.1 | E17: 46943 | F17: 33.4 | G17: 61711
A18: Grundstücks- und Wohnungswesen | B18: 33.9 | C18: 54386 | D18: 33.2 | E18: 47810 | F18: 34.4 | G18: /
A19: Erbringung von freiberuflichen, wissenschaftlichen und technischen Dienstleistungen | B19: 31.7 | C19: 47347 | D19: 30.2 | E19: 36976 | F19: 33.2 | G19: 57280
A20: Erbringung von sonstigen wirtschaftlichen Dienst- leistungen | B20: / | C20: / | D20: / | E20: / | F20: / | G20: /
A21: Öffentliche Verwaltung, Verteidigung; Sozial- versicherung | B21: 37.2 | C21: 51120 | D21: 36 | E21: 50804 | F21: 38.4 | G21: 51426
A22: Erziehung und Unterricht | B22: 32.8 | C22: 50524 | D22: 32.8 | E22: 50103 | F22: 33 | G22: 51721
A23: Gesundheits- und Sozialwesen | B23: 32.1 | C23: 42972 | D23: 31.7 | E23: 39528 | F23: 33.6 | G23: 54476
A24: Kunst, Unterhaltung und Erholung | B24: 26.8 | C24: 29930 | D24: 24.9 | E24: 27238 | F24: 28.5 | G24: 32162
A25: Erbringung von sonstigen Dienstleistungen | B25: 24.9 | C25: 25107 | D25: 24.4 | E25: 23676 | F25: 26.2 | G25: 29114
A26: Vollzeitbeschäftigte | B26: 39.2 | C26: 52383 | D26: 38.6 | E26: 50809 | F26: 39.6 | G26: 53255
A27: Land- und Forstwirtschaft, Fischerei | B27: 42.3 | C27: 40437 | D27: 39 | E27: 34904 | F27: 42.7 | G27: 41020
A28: Bergbau und Gewinnung von Steinen und Erden | B28: 40.5 | C28: 73451 | D28: 38.5 | E28: 39856 | F28: 40.6 | G28: 75502
A29: Verarbeitendes Gewerbe | B29: 39.3 | C29: 49808 | D29: 39 | E29: 44309 | F29: 39.4 | G29: 51245
A30: Energieversorgung | B30: 38.4 | C30: 74805 | D30: 38.3 | E30: 62956 | F30: 38.4 | G30: 77787
A31: Wasserversorgung; Abwasser- und Abfallentsorgung und Beseitigung von Umweltverschmutzungen | B31: 39.5 | C31: 53746 | D31: 38.7 | E31: 55259 | F31: 39.7 | G31: 53461
A32: Baugewerbe | B32: 38.8 | C32: 50008 | D32: 39 | E32: 42767 | F32: 38.8 | G32: 50703
... A37: Erbringung von Finanz- und Versicherungsdienst- leistungen | B37: 38.8 | C37: 66242 | D37: 38.6 | E37: 56559 | F37: 39 | G37: 77149
A38: Grundstücks- und Wohnungswesen | B38: 38.5 | C38: 64246 | D38: 37.7 | E38: 52471 | F38: 38.9 | G38: /
A39: Erbringung von freiberuflichen, wissenschaftlichen und technischen Dienstleistungen | B39: 38.6 | C39: 62575 | D39: 38 | E39: 50227 | F39: 38.9 | G39: 70182
A40: Erbringung von sonstigen wirtschaftlichen Dienst- leistungen | B40: 39.4 | C40: 41500 | D40: 38.8 | E40: 39221 | F40: 39.6 | G40: 42312
A41: Öffentliche Verwaltung, Verteidigung; Sozial- versicherung | B41: 39.8 | C41: 56396 | D41: 39.4 | E41: 57609 | F41: 40 | G41: 55616
A42: Erziehung und Unterricht | B42: 39.5 | C42: 65567 | D42: 39.4 | E42: 65372 | F42: 39.6 | G42: 65923
A43: Gesundheits- und Sozialwesen | B43: 38.8 | C43: 59754 | D43: 38.4 | E43: 53512 | F43: 39.6 | G43: 72329
A44: Kunst, Unterhaltung und Erholung | B44: 39.1 | C44: 46426 | D44: 38.8 | E44: 45541 | F44: 39.3 | G44: 46940
...

Sheet 15.1.3
A1: Link zum Inhaltsverzeichnis
A2: 15.1 Verdienste in der Land- und Forstwirtschaft, Fischerei, im Produzierenden Gewerbe
A3: und im Dienstleistungsbereich 1)
A4: 15.1.3 Durchschnittliche Arbeitszeiten und Bruttoverdienste vollzeitbeschäftigter Arbeitnehmerinnen und Arbeitnehmer im April 2025
A5: nach Wirtschaftsgliederung
A6: Wirtschaftsgliederung | B6: Anteil der Personen in % 4) | C6: Bezahlte Wochen- arbeitszeiten in Stunden | D6: Brutto- stunden- verdienste in EUR | E6: Brutto- stunden- verdienste ohne Sonder- zahlungen in EUR | F6: Brutto- monats- verdienste in EUR | G6: Brutto- monats- verdienste ohne Sonder- zahlungen in EUR
A7: Land- und Forstwirtschaft, Fischerei, Produzierendes Gewerbe und Dienstleistungsbereich | B7: 57.4 | C7: 39.5 | D7: 24.36 | E7: 23.46 | F7: 4177 | G7: 4022
A8: Land- und Forstwirtschaft, Fischerei | B8: / | C8: 42.9 | D8: 17.64 | E8: 17.56 | F8: 3290 | G8: 3274
A9: Produzierendes Gewerbe und Dienstleistungsbereich | B9: 55.7 | C9: 39.4 | D9: 24.58 | E9: 23.65 | F9: 4203 | G9: 4045
A10: Produzierendes Gewerbe | B10: 14.6 | C10: 39.7 | D10: 23.89 | E10: 22.7 | F10: 4119 | G10: 3914
A11: Bergbau und Gewinnung von Steinen und Erden | B11: 0.1 | C11: 40.8 | D11: 26.68 | E11: 25.59 | F11: 4732 | G11: 4540
A12: Verarbeitendes Gewerbe | B12: 8.8 | C12: 39.5 | D12: 23.13 | E12: 22.13 | F12: 3974 | G12: 3802
A13: Energieversorgung | B13: 0.7 | C13: 38.4 | D13: 41.96 | E13: 33.04 | F13: 7001 | G13: 5512
A14: Wasserversorgung; Abwasser- und Abfallent- sorgung und Beseitigung von Umweltver- schmutzungen | B14: 0.9 | C14: 39.8 | D14: 24.04 | E14: 23.63 | F14: 4156 | G14: 4086
A15: Baugewerbe | B15: / | C15: 40.2 | D15: 22.29 | E15: 21.86 | F15: 3894 | G15: 3818
A16: Dienstleistungsbereich | B16: 41.1 | C16: 39.2 | D16: 24.83 | E16: 24 | F16: 4233 | G16: 4091
A17: Handel; Instandhaltung und Reparatur von Kraft- fahrzeugen | B17: / | C17: 39.1 | D17: 22.08 | E17: 20.7 | F17: 3751 | G17: 3516
A18: Verkehr und Lagerei | B18: 3.7 | C18: 40 | D18: 21.29 | E18: 19.97 | F18: 3701 | G18: 3471
A19: Gastgewerbe | B19: 2.1 | C19: 39.3 | D19: 16.43 | E19: 16.33 | F19: 2808 | G19: 2791
A20: Information und Kommunikation | B20: 0.9 | C20: 39.1 | D20: 29.04 | E20: 27.44 | F20: 4940 | G20: 4667
A21: Erbringung von Finanz- und Versicherungsdienst- leistungen | B21: / | C21: 38.8 | D21: 34.3 | E21: 27.08 | F21: 5788 | G21: 4569
A22: Grundstücks- und Wohnungswesen | B22: / | C22: 38.8 | D22: / | E22: / | F22: / | G22: /
A23: Erbringung von freiberuflichen, wissenschaftlichen und technischen Dienstleistungen | B23: 2.6 | C23: 38.9 | D23: 29 | E23: 27.07 | F23: 4903 | G23: 4576
A24: Erbringung von sonstigen wirtschaftlichen Dienst- leistungen | B24: 3.7 | C24: 39.5 | D24: 19.86 | E24: 18.96 | F24: 3407 | G24: 3253
A25: Öffentliche Verwaltung, Verteidigung; Sozial- versicherung | B25: 7.3 | C25: 39.8 | D25: 25.95 | E25: 25.95 | F25: 4484 | G25: 4484
A26: Erziehung und Unterricht | B26: 2.8 | C26: 39.5 | D26: 30.08 | E26: 30.02 | F26: 5163 | G26: 5153
A27: Gesundheits- und Sozialwesen | B27: 7.7 | C27: 38.7 | D27: 27.66 | E27: 27.24 | F27: 4650 | G27: 4579
A28: Kunst, Unterhaltung und Erholung | B28: 0.8 | C28: 39.4 | D28: 21.36 | E28: 21.3 | F28: 3659 | G28: 3649
A29: Erbringung von sonstigen Dienstleistungen | B29: / | C29: 37.1 | D29: 21.28 | E29: 20.94 | F29: 3434 | G29: 3380

Sheet 15.1.4
A1: Link zum Inhaltsverzeichnis
A2: 15.1 Verdienste in der Land- und Forstwirtschaft, Fischerei, im Produzierenden Gewerbe
A3: und im Dienstleistungsbereich 1)
A4: 15.1.4 Durchschnittliche Arbeitszeiten und Bruttoverdienste teilzeitbeschäftigter Arbeitnehmerinnen und Arbeitnehmer im April 2025
A5: nach Wirtschaftsgliederung
A6: Wirtschaftsgliederung | B6: Anteil der Personen in % 4) | C6: Bezahlte Wochen- arbeitszeiten in Stunden | D6: Brutto- stunden- verdienste in EUR | E6: Brutto- stunden- verdienste ohne Sonder-zahlungen in EUR | F6: Brutto- monats- verdienste in EUR | G6: Brutto- monats- verdienste ohne Sonder- zahlungen in EUR
A7: Land- und Forstwirtschaft, Fischerei, Produzierendes Gewerbe und Dienstleistungsbereich | B7: 30.7 | C7: 27.4 | D7: 21.6 | E7: 21.21 | F7: 2569 | G7: 2523
A8: Land- und Forstwirtschaft, Fischerei | B8: / | C8: / | D8: 15.55 | E8: 15.44 | F8: / | G8: /
A9: Produzierendes Gewerbe und Dienstleistungsbereich | B9: 30.5 | C9: 27.4 | D9: 21.64 | E9: 21.25 | F9: 2575 | G9: 2528
A10: Produzierendes Gewerbe | B10: / | C10: 28.4 | D10: 21.37 | E10: 20.69 | F10: 2633 | G10: 2549
A11: Bergbau und Gewinnung von Steinen und Erden | B11: / | C11: 29.9 | D11: 22.4 | E11: 20.95 | F11: 2909 | G11: 2721
A12: Verarbeitendes Gewerbe | B12: 1.1 | C12: 29.1 | D12: 20.17 | E12: 19.52 | F12: 2549 | G12: 2466
A13: Energieversorgung | B13: 0.1 | C13: 31.3 | D13: 28.16 | E13: 27.09 | F13: 3832 | G13: 3686
A14: Wasserversorgung; Abwasser- und Abfallent- sorgung und Beseitigung von Umweltver- schmutzungen | B14: / | C14: 33.2 | D14: 22.44 | E14: 22.24 | F14: 3234 | G14: 3206
A15: Baugewerbe | B15: / | C15: / | D15: 23.6 | E15: 22.69 | F15: / | G15: /
A16: Dienstleistungsbereich | B16: / | C16: 27.3 | D16: 21.65 | E16: 21.28 | F16: 2572 | G16: 2527
A17: Handel; Instandhaltung und Reparatur von Kraft- fahrzeugen | B17: / | C17: 27.3 | D17: 17.69 | E17: 17.42 | F17: 2099 | G17: 2067
A18: Verkehr und Lagerei | B18: / | C18: 28.7 | D18: 18.81 | E18: 18.28 | F18: 2342 | G18: 2276
A19: Gastgewerbe | B19: / | C19: 28 | D19: 15.56 | E19: 15.4 | F19: 1890 | G19: 1871
A20: Information und Kommunikation | B20: / | C20: 27.4 | D20: 23.32 | E20: 22.6 | F20: 2778 | G20: 2692
A21: Erbringung von Finanz- und Versicherungsdienst- leistungen | B21: / | C21: 29 | D21: 29.16 | E21: 23.45 | F21: 3669 | G21: 2950
A22: Grundstücks- und Wohnungswesen | B22: / | C22: 31.7 | D22: / | E22: / | F22: / | G22: /
A23: Erbringung von freiberuflichen, wissenschaftlichen und technischen Dienstleistungen | B23: / | C23: 27.1 | D23: / | E23: 20.65 | F23: / | G23: 2431
A24: Erbringung von sonstigen wirtschaftlichen Dienst- leistungen | B24: / | C24: / | D24: 16.03 | E24: 15.86 | F24: / | G24: /
A25: Öffentliche Verwaltung, Verteidigung; Sozial- versicherung | B25: 2.1 | C25: 31.9 | D25: 26.4 | E25: 26.4 | F25: 3664 | G25: 3664
A26: Erziehung und Unterricht | B26: 2.9 | C26: 28.9 | D26: 27.5 | E26: 27.34 | F26: 3459 | G26: 3438
A27: Gesundheits- und Sozialwesen | B27: 8.9 | C27: 30.1 | D27: 22.72 | E27: 22.6 | F27: 2966 | G27: 2951
A28: Kunst, Unterhaltung und Erholung | B28: / | C28: 22.5 | D28: 18.87 | E28: 18.86 | F28: 1843 | G28: 1842
A29: Erbringung von sonstigen Dienstleistungen | B29: / | C29: 27.6 | D29: 18.06 | E29: 18 | F29: 2168 | G29: 2161

Sheet 15.1.5
A1: Link zum Inhaltsverzeichnis
A2: 15.1 Verdienste in der Land- und Forstwirtschaft, Fischerei, im Produzierenden Gewerbe
A3: und im Dienstleistungsbereich 1)
A4: 15.1.5 Durchschnittliche Arbeitszeiten und Bruttoverdienste im April 2025 nach Beschäftigungsart und Anforderungsniveau
A5: Merkmal | B5: Anteil der Personen in % 4) | C5: Bezahlte Wochen- arbeitszeiten in Stunden | D5: Brutto- stunden- verdienste in EUR | E5: Brutto- stunden- verdienste ohne Sonder- zahlungen in EUR | F5: Brutto- monats- verdienste in EUR | G5: Brutto- monats- verdienste ohne Sonder- zahlungen in EUR
A6: Land- und Forstwirtschaft, Fischerei, Produzierendes Gewerbe und Dienstleistungsbereich
A7: vollzeit-, teilzeit- und geringfügig beschäftigte Arbeitnehmerinnen und Arbeitnehmer | B7: 100 | C7: 31.8 | D7: 23.4 | E7: 22.65 | F7: 3234 | G7: 3131
A8: männlich | B8: 49.9 | C8: 33.8 | D8: 24.01 | E8: 23.06 | F8: 3530 | G8: 3391
A9: weiblich | B9: 50.1 | C9: 29.8 | D9: 22.7 | E9: 22.19 | F9: 2939 | G9: 2873
A10: vollzeitbeschäftigte Arbeitnehmerinnen und Arbeitnehmer | B10: 57.4 | C10: 39.5 | D10: 24.36 | E10: 23.46 | F10: 4177 | G10: 4022
A11: 1 – Helfer/in | B11: 5.7 | C11: 39.4 | D11: 17.7 | E11: 17.43 | F11: 3027 | G11: 2981
A12: 2 – Fachkraft | B12: 33 | C12: 39.5 | D12: 20.61 | E12: 20.04 | F12: 3536 | G12: 3438
A13: 3 – Spezialist/in | B13: 10.2 | C13: 39.4 | D13: 27.91 | E13: 26.46 | F13: 4782 | G13: 4534
A14: 4 – Expertin und Experte | B14: 8.5 | C14: 39.5 | D14: 39.22 | E14: 37.29 | F14: 6726 | G14: 6395
A15: männlich | B15: 36.9 | C15: 39.9 | D15: 24.59 | E15: 23.55 | F15: 4260 | G15: 4081
A16: 1 – Helfer/in | B16: 3.8 | C16: 39.8 | D16: 17.91 | E16: 17.59 | F16: 3097 | G16: 3042
A17: 2 – Fachkraft | B17: 21.9 | C17: 40 | D17: 20.58 | E17: 19.93 | F17: 3575 | G17: 3463
A18: 3 – Spezialist/in | B18: 6.1 | C18: 39.7 | D18: 28.76 | E18: 27.02 | F18: 4961 | G18: 4661
... A25: teilzeitbeschäftigte Arbeitnehmerinnen und Arbeitnehmer | B25: 30.7 | C25: 27.4 | D25: 21.6 | E25: 21.21 | F25: 2569 | G25: 2523
A26: 1 – Helfer/in | B26: / | C26: / | D26: 17.49 | E26: 17.31 | F26: / | G26: /
A27: 2 – Fachkraft | B27: 15.5 | C27: 28.9 | D27: 19.68 | E27: 19.37 | F27: 2473 | G27: 2434
A28: 3 – Spezialist/in | B28: 4.3 | C28: 30.5 | D28: 25.54 | E28: 24.87 | F28: 3385 | G28: 3296
A29: 4 – Expertin und Experte | B29: 3 | C29: 27.9 | D29: 34.18 | E29: 33.35 | F29: 4143 | G29: 4043
A30: männlich | B30: / | C30: / | D30: 21.22 | E30: 20.81 | F30: / | G30: /
A31: 1 – Helfer/in | B31: / | C31: / | D31: 17.21 | E31: 17 | F31: / | G31: /
A32: 2 – Fachkraft | B32: / | C32: 27.3 | D32: 18.68 | E32: 18.37 | F32: 2215 | G32: 2177
A33: 3 – Spezialist/in | B33: / | C33: 28.7 | D33: 25.42 | E33: 24.8 | F33: 3174 | G33: 3096
A34: 4 – Expertin und Experte | B34: / | C34: 25.1 | D34: 37.57 | E34: 36.51 | F34: 4101 | G34: 3985
A35: weiblich | B35: 23.1 | C35: 28.6 | D35: 21.7 | E35: 21.32 | F35: 2698 | G35: 2650
A36: 1 – Helfer/in | B36: / | C36: / | D36: 17.6 | E36: 17.44 | F36: / | G36: /
A37: 2 – Fachkraft | B37: 12.3 | C37: 29.3 | D37: 19.92 | E37: 19.62 | F37: 2541 | G37: 2502
A38: 3 – Spezialist/in | B38: 3.6 | C38: 30.9 | D38: 25.56 | E38: 24.89 | F38: 3428 | G38: 3337
A39: 4 – Expertin und Experte | B39: 2.2 | C39: 28.9 | D39: 33.12 | E39: 32.37 | F39: 4158 | G39: 4063
A40: geringfügig beschäftigte Arbeitnehmerinnen und Arbeitnehmer | B40: / | C40: 6.4 | D40: 14.59 | E40: 14.58 | F40: 408 | G40: 408
A41: männlich | B41: / | C41: 6.9 | D41: 14.45 | E41: 14.44 | F41: 434 | G41: 433
A42: weiblich | B42: / | C42: 6 | D42: 14.72 | E42: 14.72 | F42: 387 | G42: 387
A43: Produzierendes Gewerbe
A44: vollzeit-, teilzeit- und geringfügig beschäftigte Arbeitnehmerinnen und Arbeitnehmer | B44: 17.9 | C44: 35.7 | D44: 23.52 | E44: 22.39 | F44: 3652 | G44: 3477
A45: männlich | B45: 13.8 | C45: 37 | D45: 24.09 | E45: 22.89 | F45: 3870 | G45: 3676
A46: weiblich | B46: 4 | C46: 31.6 | D46: 21.19 | E46: 20.38 | F46: 2907 | G46: 2795
...

Sheet 15.1.6
A1: Link zum Inhaltsverzeichnis
A2: 15.1 Verdienste in der Land- und Forstwirtschaft, Fischerei, im Produzierenden Gewerbe
A3: und im Dienstleistungsbereich 1)
A4: 15.1.6 Durchschnittliche Bruttomonatsverdienste (ohne Sonderzahlungen) im April 2025 nach persönlichen und
A5: betrieblichen Eigenschaften
A6: Merkmal | B6: Vollzeit- beschäftigte insgesamt in EUR | C6: Vollzeit- beschäftigte Frauen in EUR | D6: Vollzeit- beschäftigte Männer in EUR | E6: Teilzeit- beschäftigte insgesamt in EUR | F6: Teilzeit- beschäftigte Frauen in EUR | G6: Teilzeit- beschäftigte Männer in EUR
A7: Insgesamt | B7: 4022 | C7: 3916 | D7: 4081 | E7: 2523 | F7: 2650 | G7: /
A8: Alter von … bis … Jahren
A9: unter 25 | B9: 3103 | C9: 3153 | D9: 3075 | E9: / | F9: / | G9: /
A10: 25 bis 29 | B10: 3528 | C10: 3547 | D10: 3516 | E10: / | F10: / | G10: /
A11: 30 bis 34 | B11: 3876 | C11: 3790 | D11: 3923 | E11: / | F11: 2625 | G11: /
A12: 35 bis 39 | B12: 3956 | C12: 3869 | D12: 3996 | E12: 2721 | F12: 2779 | G12: 2546
A13: 40 bis 44 | B13: 3944 | C13: 3893 | D13: 3973 | E13: 2781 | F13: 2821 | G13: 2610
A14: 45 bis 49 | B14: 4017 | C14: 3966 | D14: 4044 | E14: 2622 | F14: 2709 | G14: 2279
A15: 50 bis 54 | B15: 4307 | C15: 4157 | D15: 4390 | E15: 2850 | F15: 2846 | G15: 2871
A16: 55 bis 59 | B16: 4159 | C16: 4041 | D16: 4231 | E16: 2686 | F16: 2680 | G16: 2714
A17: 60 bis 64 | B17: 4356 | C17: 4026 | D17: 4558 | E17: 2754 | F17: 2759 | G17: 2727
A18: 65 und mehr | B18: 5091 | C18: 4845 | D18: 5222 | E18: 2330 | F18: 2337 | G18: 2323
A19: Schulabschluss
A20: ohne Abschluss | B20: 3178 | C20: 2967 | D20: 3209 | E20: 1827 | F20: 1636 | G20: 2033
A21: Haupt-/Volksschule | B21: 3092 | C21: 2974 | D21: 3117 | E21: 2086 | F21: 2177 | G21: 1944
A22: Mittlere Reife oder gleichwertig | B22: 3591 | C22: 3420 | D22: 3691 | E22: 2350 | F22: 2458 | G22: /
A23: Abitur/Fachabitur | B23: 5324 | C23: 4862 | D23: 5693 | E23: 3178 | F23: 3379 | G23: /
A24: Beruflicher Ausbildungsabschluss
A25: ohne Abschluss | B25: 3128 | C25: 2938 | D25: 3185 | E25: / | F25: / | G25: /
A26: anerkannter Berufsabschluss | B26: 3512 | C26: 3418 | D26: 3561 | E26: 2400 | F26: 2493 | G26: /
A27: Meister-/Techniker-/Fachschulabschluss | B27: 4622 | C27: 3947 | D27: 4938 | E27: / | F27: / | G27: /
A28: Bachelor | B28: 4488 | C28: 4265 | D28: 4670 | E28: 2983 | F28: 3068 | G28: 2632
A29: Diplom/Magister/Master/Staatsexamen | B29: 6197 | C29: 5677 | D29: 6623 | E29: 4007 | F29: 4049 | G29: 3873
A30: Promotion/Habilitation | B30: 8907 | C30: 7756 | D30: 9421 | E30: 4639 | F30: 4407 | G30: 5342
A31: Tarifbindung der Arbeitgeberin bzw. des Arbeitgebers
A32: tarifgebunden | B32: 4419 | C32: 4450 | D32: 4400 | E32: 2912 | F32: 2983 | G32: 2668
A33: nicht tarifgebunden | B33: 3622 | C33: 3318 | D33: 3778 | E33: / | F33: 2286 | G33: /
A34: Unternehmen mit … bis … Beschäftigten
A35: 1 bis 9 | B35: 3486 | C35: 2910 | D35: 3682 | E35: 1950 | F35: 2001 | G35: /
A36: 10 bis 49 | B36: 3434 | C36: 3199 | D36: 3559 | E36: 2282 | F36: 2320 | G36: 2162
A37: 50 bis 99 | B37: 3840 | C37: 3499 | D37: 3987 | E37: 2554 | F37: 2529 | G37: 2627
A38: 100 bis 249 | B38: 3805 | C38: 3505 | D38: 3940 | E38: 2639 | F38: 2678 | G38: 2541
A39: 250 bis 499 | B39: 4061 | C39: 3899 | D39: 4176 | E39: / | F39: / | G39: /
A40: 500 bis 999 | B40: 4256 | C40: 4130 | D40: 4341 | E40: 2916 | F40: 2892 | G40: 3015
...

Sheet 15.2.1+15.2.2
A1: Link zum Inhaltsverzeichnis
A2: 15.2 Arbeitskosten im Produzierenden Gewerbe und im Dienstleistungsbereich 5)
A3: 15.2.1 Nettoarbeitskosten je geleistete Stunde im Zeitvergleich
A4: Nr. der Klassi- fika- tion | B4: Wirtschaftsgliederung | C4: 2000 6) in EUR | D4: 2004 in EUR | E4: 2008 in EUR | F4: 2012 in EUR | G4: 2016 in EUR | H4: 2020 in EUR
A5: B - S | B5: Produzierendes Gewerbe und Dienstleistungsbereich | C5: . | D5: 20.07 | E5: 20.81 | F5: 22.57 | G5: 25.17 | H5: 29.27
A6: B - F | B6: Produzierendes Gewerbe | C6: 15.93 | D6: 18.06 | E6: 20.92 | F6: 21.3 | G6: 23.78 | H6: 28.37
B7: darunter
A8: C | B8: Verarbeitendes Gewerbe | C8: 16.34 | D8: 17.19 | E8: 19.73 | F8: 20.97 | G8: 23.18 | H8: 28.48
A9: G - S | B9: Dienstleistungsbereich | C9: . | D9: 20.63 | E9: 20.78 | F9: 22.98 | G9: 25.59 | H9: 29.53
A11: Grafik 15.7 | J11: Daten der Grafik 15.7 "Struktur der Arbeitskosten 2020"
J12: Merkmal | K12: Insgesamt = 100 %
J13: Entgelt für geleistete Arbeitszeit | K13: 60.1
J14: Vergütung für nicht gearbeitete Tage | K14: 10
J15: Sonderzahlungen | K15: 4.3
J16: Sachleistungen | K16: 0.7
J17: Sozialbeiträge der Arbeitgeber | K17: 23.1
J18: Bruttoverdienste der Auszubildenden | K18: 1.2
J19: Sonstige Aufwendungen | K19: 0.6
A29: 15.2.2 Nettoarbeitskosten je geleistete Stunde 2020 nach Wirtschaftsgliederung
A30: Nr. der Klassi- fika- tion | B30: Arbeitskosten je Vollzeiteinheit in Unternehmen mit … Arbeitnehmerinnen bzw. Arbeitnehmern... Wirtschaftsgliederung | C30: ...10 und mehr in EUR | D30: ...10 bis 49 in EUR | E30: ...50 bis 249 in EUR | F30: ...250 bis 499 in EUR | G30: ...500 bis 999 in EUR | H30: ...1.000 und mehr in EUR
A31: B - S | B31: Produzierendes Gewerbe und Dienstleistungsbereich | C31: 29.27 | D31: 22.74 | E31: 24.96 | F31: 26.9 | G31: 30.4 | H31: 36.5
A32: B - F | B32: Produzierendes Gewerbe | C32: 28.37 | D32: 24.3 | E32: 26.65 | F32: 29.77 | G32: 34.41 | H32: 36.86
A33: B | B33: Bergbau und Gewinnung von Steinen und Erden | C33: 26.7 | D33: 22.28 | E33: . | F33: . | G33: - | H33: -
A34: C | B34: Verarbeitendes Gewerbe | C34: 28.48 | D34: 23.78 | E34: 25.15 | F34: 28.95 | G34: 33.37 | H34: 36.33
A35: D | B35: Energieversorgung | C35: 41.84 | D35: / | E35: . | F35: . | G35: . | H35: .
A36: E | B36: Wasserversorgung; Abwasser- und Abfallentsorgung und Beseitigung von Umweltverschmutzungen | C36: 27.93 | D36: (27,30) | E36: 26.42 | F36: 25.01 | G36: . | H36: .
A37: F | B37: Baugewerbe | C37: 25.52 | D37: 24.13 | E37: 27.57 | F37: 29.72 | G37: 32.66 | H37: 35.88
A38: G - S | B38: Dienstleistungsbereich | C38: 29.53 | D38: 21.97 | E38: 24.14 | F38: 25.99 | G38: 29.06 | H38: 36.47
A39: G | B39: Handel; Instandhaltung und Reparatur von Kraft- fahrzeugen | C39: 24.05 | D39: 20.29 | E39: 26.77 | F39: (23,10) | G39: 25.47 | H39: 26.14
A40: H | B40: Verkehr und Lagerei | C40: 24.69 | D40: 17.37 | E40: 23.26 | F40: 38.33 | G40: 30.29 | H40: 31.73
A41: I | B41: Gastgewerbe | C41: 18.16 | D41: (17,93) | E41: (18,52) | F41: (17,03) | G41: 16.88 | H41: 21.15
A42: J | B42: Information und Kommunikation | C42: 36.46 | D42: / | E42: 31.89 | F42: . | G42: . | H42: 45.73
A43: K | B43: Erbringung von Finanz- und Versicherungs- dienstleistungen | C43: 44.04 | D43: (35,98) | E43: (38,55) | F43: (41,00) | G43: 45.37 | H43: 53.2
A44: L | B44: Grundstücks- und Wohnungswesen | C44: (31,35) | D44: / | E44: / | F44: . | G44: . | H44: 35.93
A45: M | B45: Erbringung von freiberuflichen, wissenschaftlichen und technischen Dienstleistungen | C45: 30.93 | D45: 28.32 | E45: 30.65 | F45: (28,11) | G45: (30,94) | H45: 41.96
A46: N | B46: Erbringung von sonstigen wirtschaftlichen Dienst- leistungen | C46: 20.24 | D46: (20,20) | E46: 19.35 | F46: (19,80) | G46: 20.57 | H46: 21.63
A47: O | B47: Öffentliche Verwaltung, Verteidigung; Sozial- versicherung | C47: 38.22 | D47: - | E47: - | F47: - | G47: - | H47: 38.22
A48: P | B48: Erziehung und Unterricht | C48: 38.36 | D48: (27,14) | E48: / | F48: (25,18) | G48: 25.52 | H48: 42.9
A49: Q | B49: Gesundheits- und Sozialwesen | C49: 30.42 | D49: 25.2 | E49: (23,74) | F49: 26.3 | G49: 31.1 | H49: 36.95
A50: R | B50: Kunst, Unterhaltung und Erholung | C50: (26,26) | D50: (21,38) | E50: 23.78 | F50: / | G50: . | H50: .
...

Sheet 15.2.3
A1: Link zum Inhaltsverzeichnis
A2: 15.2 Arbeitskosten im Produzierenden Gewerbe und im Dienstleistungsbereich 5)
A3: 15.2.3 Arbeitskosten je Vollzeiteinheit 2020 nach Kostenarten
A4: Schlüs- sel 7) | B4: Kostenart | C4: Produzieren- des Gewerbe und Dienst- leistungs- bereich (B - S) in EUR | D4: Anteil im WZ- Bereich B - S in % | E4: Produzie- rendes Gewer- be (B - F) in EUR | F4: Anteil im WZ- Bereich B - F in % | G4: Dienst- leis- tungs- bereich (G - S) in EUR | H4: Anteil im WZ- Bereich G - S in %
B5: Bruttoarbeitskosten | C5: 49627 | D5: 100 | E5: 48018 | F5: 100 | G5: 50088 | H5: 100
A6: D | B6: Nettoarbeitskosten (Bruttoarbeitskosten abzüglich Lohnsubventionen) | C6: 49593 | D6: 99.93 | E6: 47976 | F6: 99.91 | G6: 50056 | H6: 99.94
A7: D.5 | B7: Lohnsubventionen (der Arbeitgeberin bzw. dem Arbeitgeber erstatte- te Lohn- und Gehaltszahlungen) | C7: / | D7: / | E7: / | F7: / | G7: / | H7: /
A8: D.1 | B8: Arbeitnehmerentgelt | C8: 49326 | D8: 99.39 | E8: 47658 | F8: 99.25 | G8: 49804 | H8: 99.43
A9: D.11 | B9: Bruttoverdienste | C9: 37877 | D9: 76.32 | E9: 37314 | F9: 77.71 | G9: 38038 | H9: 75.94
A10: D.111 | B10: Bruttoverdienste (ohne Auszubildende) | C10: 37290 | D10: 75.14 | E10: 36806 | F10: 76.65 | G10: 37429 | H10: 74.73
A11: D.11111 | B11: Entgelt für die geleistete Arbeitszeit 8) | C11: 29819 | D11: 60.09 | E11: 29232 | F11: 60.88 | G11: 29987 | H11: 59.87
A12: D.11112 | B12: Sonderzahlungen 9) | C12: 2123 | D12: 4.28 | E12: 2355 | F12: 4.9 | G12: 2056 | H12: 4.11
B13: darunter von persönlichen Leistungen und vom Unternehmens- erfolg abhängig | C13: 375 | D13: 0.76 | E13: (554) | F13: (1,15) | G13: 323 | H13: 0.65
A14: D.1112 | B14: Leistungen zur Vermögensbildung der Arbeitnehmerinnen bzw. Arbeitnehmer | C14: 58 | D14: 0.12 | E14: (50) | F14: (0,10) | G14: (60) | H14: (0,12)
A15: D.1113 | B15: Vergütung für nicht gearbeitete Tage | C15: 4970 | D15: 10.01 | E15: 4778 | F15: 9.95 | G15: 5025 | H15: 10.03
B16: Urlaubsvergütung | C16: 3892 | D16: 7.84 | E16: 3725 | F16: 7.76 | G16: 3940 | H16: 7.87
B17: Vergütung gesetzlicher Feiertage | C17: 985 | D17: 1.99 | E17: 965 | F17: 2.01 | G17: 991 | H17: 1.98
B18: Vergütung sonstiger betriebl. oder tarifl. arbeitsfreier Tage | C18: 92 | D18: 0.19 | E18: (88) | F18: (0,18) | G18: 94 | H18: 0.19
A19: D.1114 | B19: Sachleistungen 10) | C19: 321 | D19: 0.65 | E19: 392 | F19: 0.82 | G19: 300 | H19: (0,60)
B20: darunter unbare individuelle Leistungen 11) | C20: 280 | D20: 0.56 | E20: (351) | F20: (0,73) | G20: (260) | H20: (0,52)
A21: D.112 | B21: Bruttoverdienste der Auszubildenden | C21: 586 | D21: 1.18 | E21: (507) | F21: (1,06) | G21: 609 | H21: 1.22
A22: D.12 | B22: Sozialbeiträge der Arbeitgeberin bzw. Arbeitgeber | C22: 11449 | D22: 23.07 | E22: 10345 | F22: 21.54 | G22: 11765 | H22: 23.49
A23: D.121 | B23: tatsächliche Sozialbeiträge der Arbeitgeberin bzw. Arbeitgeber (ohne Auszubildende) 12) | C23: 7620 | D23: 15.36 | E23: 8086 | F23: 16.84 | G23: 7487 | H23: 14.95
A24: D.1211 | B24: gesetzl. Arbeitgeberbeiträge zur Sozialversicherung | C24: 7016 | D24: 14.14 | E24: 7709 | F24: 16.05 | G24: 6818 | H24: 13.61
B25: Rentenversicherungsbeiträge | C25: 3185 | D25: 6.42 | E25: 3362 | F25: 7 | G25: 3134 | H25: 6.26
B26: darunter Aufstockungsbeiträge zur Rentenversicherung im Rahmen der Altersteilzeit | C26: (14) | D26: (0,03) | E26: / | F26: / | G26: (11) | H26: (0,02)
B27: Arbeitslosenversicherungsbeiträge | C27: 392 | D27: 0.79 | E27: 415 | F27: 0.86 | G27: 386 | H27: 0.77
B28: Kranken- und Pflegeversicherungsbeiträge | C28: 2997 | D28: 6.04 | E28: 3161 | F28: 6.58 | G28: 2950 | H28: 5.89
B29: Beiträge zur gesetzlichen Unfallversicherung | C29: 411 | D29: 0.83 | E29: 686 | F29: 1.43 | G29: 332 | H29: 0.66
B30: Umlage für das Insolvenzgeld | C30: 16 | D30: 0.03 | E30: 21 | F30: 0.04 | G30: 14 | H30: 0.03
B31: sonstige gesetzliche Aufwendungen 13) | C31: / | D31: / | E31: / | F31: / | G31: / | H31: /
A32: D.1212 | B32: Aufwendungen für die betriebliche Altersversorgung ohne Entgeltumwandlung | C32: 604 | D32: 1.22 | E32: (378) | F32: (0,79) | G32: 669 | H32: 1.34
B33: Aufwendungen für betriebliche Ruhegeldzusagen | C33: (67) | D33: (0,14) | E33: (135) | F33: (0,28) | G33: / | H33: /
B34: Zuwendungen an Pensionskassen | C34: 412 | D34: 0.83 | E34: / | F34: / | G34: 499 | H34: 1
B35: Zuwendungen an Unterstützungskassen | C35: / | D35: / | E35: / | F35: / | G35: / | H35: /
B36: Beiträge zur Direktversicherung | C36: (74) | D36: (0,15) | E36: (97) | F36: (0,20) | G36: (68) | H36: (0,14)
B37: Beiträge an Pensionsfonds | C37: (18) | D37: (0,04) | E37: / | F37: / | G37: (22) | H37: (0,04)
B38: Beiträge an den Pensions-Sicherungs-Verein VVaG | C38: / | D38: (0,01) | E38: / | F38: / | G38: / | H38: /
A39: D.122 | B39: unterstellte Sozialbeiträge der Arbeitgeberin bzw. Arbeitgeber (ohne Auszubildende) 14) | C39: 3643 | D39: 7.34 | E39: 2125 | F39: 4.42 | G39: 4078 | H39: 8.14
A40: D.1221 | B40: Entgeltfortzahlung | C40: 2070 | D40: 4.17 | E40: 1928 | F40: 4.01 | G40: 2110 | H40: 4.21
...

Sheet Fußnotenerläuterungen
A1: Link zum Inhaltsverzeichnis
A2: Fußnotenerläuterungen
A3: 1) | B3: Ergebnisse der Verdiensterhebung.
A4: 2) | B4: Index zeigt die Entwicklung des Bruttomonatsverdienstes einschließlich Sonderzahlungen der vollzeit-, teilzeit- und geringfügig beschäftigten Arbeitnehmerinnen bzw. Arbeitnehmer.
A5: 3) | B5: Bruttoverdienste von Teiljahren wurden auf 12 Monate hochgerechnet. Nur Beschäftigungsverhältnisse mit 7 und mehr Arbeitsmonaten im Berichtsjahr.
A6: 4) | B6: Anteil an den jeweils übergeordneten Zusammenfassungen.
A7: 5) | B7: Ergebnisse der Arbeitskostenerhebung (Ergebnisse für das Berichtsjahr 2024 lagen vom Statistischen Bundesamt bis zum Redaktionsschluss nicht vor).
A8: 6) | B8: Ohne Abschnitt E "Energie- und Wasserversorgung"; der Bereich Abwasser und Entsorgung war in diesen Jahren dem Dienstleistungsbereich zugeordnet und wurde nicht erhoben.
A9: 7) | B9: Harmonisierter Schlüssel der statistischen Ämter der Europäischen Union nach Verordnung (EG) 1737/2005.
A10: 8) | B10: Laufend gezahltes Entgelt für die geleistete Arbeitszeit (Bruttoverdienst abzüglich Sonderzahlungen, vermögenswirksame Leistungen, Vergütung für nicht gearbeitete Tage, Sachleistungen).
A11: 9) | B11: Zahlungen, die im Allgemeinen nicht laufend mit jeder Lohn- und Gehaltszahlung geleistet werden.
A12: 10) | B12: Unbare individuelle Leistungen, Aktienoptionsprogramme, Belegschaftsaktien, Belegschaftseinrichtungen.
A13: 11) | B13: Naturalleistungen, Firmenwagen, Personalrabatte, Job-Tickets und Zinsersparnisse.
A14: 12) | B14: Zahlungen der Arbeitgeberin bzw. des Arbeitgebers an Versicherungsträger oder Bildung von Rückstellungen, um ihren bzw. seinen Arbeitnehmerinnen bzw. Arbeitnehmern Anspruch auf Sozialleistungen zu sichern.
... A19: 17) | B19: Ausgleichsabgabe nach Schwerbehindertenrecht (Teil 2 SGB IX).

Sheet Methodik
A1: Link zum Inhaltsverzeichnis
A2: Methodik
A3: Die Daten über Verdienste und Arbeitskosten bilden deren Niveau, Entwicklung und Struktur ab und ermöglichen einen Einblick in die Kostensituation der Wirtschaft und ihre Veränderung. Damit sind sie eine wichtige Grundlage für die Geld‑, Konjunktur- und Tarifpolitik. Die auf Stichprobenerhebungen beruhende amtliche Statistik über Verdienste und Arbeitskosten umfasst nach dem Verdienststatistikge- setz (Verd Stat G) die erst- und einmalig für den April 2021 und ab Januar 2022 monatlich laufend geführte Erhebung der Arbeitsverdienste (Verdiensterhebung) sowie die in vierjährlicher Periodizität zu erstellende Erhebung über die Struktur der Arbeitskosten (Arbeitskostener- hebung).
A4: Mit dem Berichtsjahr 2022 löste die neue Verdiensterhebung die Vierteljährliche Verdiensterhebung (letztmalig für das 4. Vierteljahr 2021) sowie die vierjährliche Verdienststrukturerhebung (letztmalig für das Berichtsjahr 2018) ab. Die Umstellung auf die neue Verdiensterhe- bung und damit verbundener methodischer Änderungen schränkt die Vergleichbarkeit mit den Ergebnissen in den Vorjahren ein. Für den Nominallohnindex wurde eine Revision (Neuberechnung) mit Umstellung auf die Basis Jahr 2025 = 100 durchgeführt. Weiter zurück- liegende Werte sind rein rechnerisch umbasiert.
A5: Ergebnisse aus der Verdiensterhebung werden u. a. der Mindestlohnkommission zur Verfügung gestellt. Die Daten dienen ferner als Grundlage zur Berechnung wichtiger Indikatoren wie u. a. die Berechnung des Arbeitnehmerentgelts der Volkswirtschaftlichen Gesamt- rechnungen des Bundes und der Länder, des Arbeitskostenindex sowie die jährliche Berechnung des Verdienstabstands zwischen Frauen und Männern (Gender Pay Gap).
A6: Die wirtschaftssystematische Zuordnung erfolgt seit 2008 nach der Klassifikation der Wirtschaftszweige, Ausgabe 2008 (WZ 2008).
A7: Die Darstellung der Berufe, Tätigkeiten und des Anforderungsniveaus erfolgt nach der Klassifikation der Berufe 2010 – überarbeitete Fassung 2020 (KldB 2010). Die Schul- und Ausbildungsabschlüsse werden nach dem Tätigkeitsschlüssel 2010 dargestellt.
A8: Verdiensterhebung: Die Verdiensterhebung (VE) wird monatlich als repräsentative Stichprobe durchgeführt. Sie umfasst die Land- und Forstwirtschaft, die Fischerei, das Produzierende Gewerbe und den Dienstleistungsbereich (Abschnitte A bis S der WZ 2008). Erfasst wer- den die Angaben der Betriebe mit ihren abhängigen Beschäftigungsverhältnissen. Zu den einzelnen Arbeitnehmerinnen bzw. Arbeitnehmern werden persönliche Angaben, wie Geschlecht, Geburtsmonat und -jahr und Staatsangehörigkeit, sowie Merkmale des Beschäftigungsverhältnisses (z. B. Dauer der Unternehmenszugehörigkeit), Personengruppe und Tätigkeitsschlüssel (Beruf, Bildungsstand, Beschäftigungsumfang, Befristung), Bruttoverdienste und Arbeitsstunden erfragt. In der VE werden ausschließlich Beschäftigungsverhältnisse erfasst, die den gesamten Berichtsmonat bestanden und für die im Berichtsmonat eine Verdienstzahlung stattfand.
A9: Arbeitskostenerhebung: Die Arbeitskostenerhebung (AKE) wird alle vier Jahre (zuletzt 2024) als repräsentative Stichprobe durchgeführt. Sie umfasst das Produzierende Gewerbe und den Dienstleistungsbereich (Abschnitte B bis S der WZ 2008). Von den repräsentativ ausge- wählten Unternehmen mit 10 und mehr Arbeitnehmerinnen bzw. Arbeitnehmern werden detaillierte Angaben zur Berechnung der ver- schiedenen Bestandteile der Arbeitskosten erfragt. Dazu zählen neben Lohnbestandteilen (z. B. Entgelt für geleistete Arbeitszeit, Sonder- zahlungen, vermögenswirksame Leistungen) auch Arbeitgeberpflichtbeiträge zu den einzelnen Sozialversicherungen und die Aufwendun- gen der Arbeitgeberin bzw. des Arbeitgebers im Rahmen der betrieblichen Altersvorsorge, um so die Lohnnebenkosten darstellen zu können. (Ergebnisse für das Berichtsjahr 2024 lagen vom Statistischen Bundesamt bis zum Redaktionsschluss nicht vor.)
A10: Die Rechtsgrundlagen und tiefergehende methodische Erläuterungen entnehmen Sie bitte den Qualitätsberichten bzw. angegebenen Statis- tischen Berichten (siehe "Mehr zum Thema").

Sheet Glossar
A1: Link zum Inhaltsverzeichnis
A2: Glossar
A3: Arbeitnehmerinnen bzw. Arbeitnehmer sind alle in einem Unternehmen oder Betrieb beschäftigten Personen, die in einem direkten Be- schäftigungsverhältnis stehen und ein Arbeitsentgelt erhalten, unabhängig von der Art der Arbeit, der Arbeitszeit (Vollzeit oder Teilzeit) und der Vertragsdauer (befristet oder unbefristet).
A4: Das Arbeitnehmerentgelt umfasst sämtliche Geld- und Sachleistungen, die von Arbeitgeberinnen bzw. Arbeitgebern an Beschäftigte er- bracht werden, und zwar als Entgelt für die von diesen im Berichtszeitraum geleistete Arbeit. Das Arbeitnehmerentgelt gliedert sich in Bruttoverdienste sowie Sozialbeiträge der Arbeitgeberinnen bzw. der Arbeitgeber. In der Aufgliederung bestehen zwischen der Arbeits- kostenstatistik und den Volkswirtschaftlichen Gesamtrechnungen in der Praxis Unterschiede: Die Arbeitskostenstatistik ordnet aufgrund ihrer kleingliedrigen Erfassung mehr Bestandteile des Arbeitnehmerentgelts den Sozialbeiträgen zu.
A5: Die Arbeitskosten umfassen die Gesamtheit aller von den Arbeitgeberinnen bzw. Arbeitgebern im Zusammenhang mit der Beschäftigung von Arbeitskräften getragenen Aufwendungen. Zu den Arbeitskosten gehören das Arbeitnehmerentgelt mit Bruttolöhnen und ‑gehältern in Form von Geld- und Sachleistungen sowie den Sozialbeiträgen der Arbeitgeberinnen bzw. der Arbeitgeber, die Kosten der beruflichen Aus- und Weiterbildung, sonstige Aufwendungen sowie Steuern zu Lasten der Arbeitgeberinnen bzw. der Arbeitgeber, sofern sie im Zusammen- hang mit der Beschäftigung von Arbeitnehmerinnen bzw. Arbeitnehmern entstehen.
A6: Die bezahlte Arbeitszeit umfasst die gesamten bezahlten Arbeitsstunden der Arbeitnehmerinnen und Arbeitnehmer einschließlich der be- zahlten arbeitsfreien Stunden, wie z. B. von den Arbeitgeberinnen bzw. Arbeitgebern bezahlte Krankheits-, Urlaubs- und gesetzliche Feier- tage und sonstige arbeitsfreie Zeiten (Hochzeit, Geburt, Todesfall in der Familie, Betriebsausflüge). Geleistete Arbeitsstunden, die nicht be- zahlt werden, sind nicht einbezogen. Bei Arbeitnehmerinnen und Arbeitnehmern, deren Bezahlung nicht explizit nach Arbeitsstunden abge- rechnet wird und die auch keine bezahlten Überstunden leisten, entspricht die vertraglich vereinbarte (Wochen‑)Arbeitszeit der bezahlten Arbeitszeit.
A7: Das Anforderungsniveau bildet auf der Grundlage der Klassifikation der Berufe 2010 – überarbeitete Fassung 2020 (KldB 2010) die Komplexität der auszuübenden Tätigkeit ab und ist in vier Komplexitätsgrade unterteilt:
A8: - Helfer/in umfassen Arbeitnehmerinnen bzw. Arbeitnehmer in Berufen mit typischerweise einfachen, wenig komplexen (Routine )Tätig- keiten. Für die Ausübung dieser Tätigkeiten wird in der Regel kein formaler beruflicher Bildungsabschluss bzw. lediglich eine einjährige (geregelte) Berufsausbildung vorausgesetzt. - Fachkraft bedeutet, für die sachgerechte Ausübung der Tätigkeiten werden fundierte Fachkenntnisse und Fertigkeiten vorausgesetzt. Das wird üblicherweise mit dem Abschluss einer zwei- bis dreijährigen Berufsausbildung erreicht. Vergleichbar mit diesem Abschluss sind z. B. ein berufsqualifizierender Abschluss an einer Berufsfach- bzw. Kollegschule. Eine entsprechende Berufserfahrung und/oder infor- melle berufliche Ausbildung werden als gleichwertig angesehen. - Spezialist/in sind Arbeitnehmerinnen bzw. Arbeitnehmer in Berufen, die mit deutlich mehr komplexen und mit Spezialkenntnissen und -fertigkeiten verbunden sind. Die hier verorteten Berufe erfordern die Befähigung zur Bewältigung gehobener Fach- und Führungsaufga- ben, umfassen Planungs- und Kontrolltätigkeiten. Häufig werden die hierfür notwendigen Kenntnisse und Fertigkeiten im Rahmen einer beruflichen Fort- oder Weiterbildung vermittelt. Vorausgegangen ist meist eine Meister- oder Technikerausbildung bzw. ein gleichwerti- ger Fachschul- oder Hochschulabschluss. - Expertin und Experte charakterisiert hoch komplexe Tätigkeiten. Hier sind Berufe zugeordnet, die einen sehr hohen Komplexitätsgrad aufweisen bzw. ein entsprechend hohes Kenntnis- und Fertigkeitsniveau erfordern. Dazu zählen z. B. Entwicklungs-, Forschungs- und Diagnosetätigkeiten, Wissensvermittlung sowie Leitungs- und Führungsaufgaben innerhalb eines (großen) Unternehmens. In der Regel wird eine mindestens vierjährige Hochschulausbildung (Masterabschluss, Diplom, Staatsexamen o. Ä.) und/oder eine entsprechende Berufserfahrung vorausgesetzt.
A9: Beruflicher Bildungsabschluss ist der höchste berufliche Ausbildungsabschluss der Arbeitnehmerinnen bzw. Arbeitnehmer.
A10: Bruttomonatsverdienst ist das Gesamtbruttoentgelt laut § 1 Absatz 2 Nummer 2c Entgeltbescheinigungsverordnung (EBV). Zum Bruttoverdienst zählt der regelmäßig steuerpflichtige Arbeitslohn gemäß den Lohnsteuerrichtlinien aller einbezogenen Arbeitnehme- rinnen und Arbeitnehmer einschließlich der unregelmäßigen Sonderzahlungen sowie folgender Verdienstbestandteile: Steuerfreie Zuschlä- ge für Schicht‑, Samstags‑, Sonntags‑, Feiertags- oder Nachtarbeit; steuerfreie Beiträge der Arbeitgeberin bzw. des Arbeitgebers für ihre bzw. seine Arbeitnehmerinnen und Arbeitnehmer im Rahmen der Entgeltumwandlung, z. B. an Pensionskassen; steuerfreie Essenszu- schüsse. Eingeschlossen ist auch pauschal besteuerter Arbeitslohn, z. B. von geringfügig Beschäftigten.
A11: Lohnsubventionen (der Arbeitgeberin bzw. dem Arbeitgeber erstattete Lohn- und Gehaltszahlungen) sind empfangene Zuschüsse der Bundesagentur für Arbeit, die direkte Lohn- oder Gehaltszahlungen teilweise oder ganz erstatten.
A12: Nettoarbeitskosten ergeben sich aus den Bruttoarbeitskosten durch Abzug der Lohnsubventionen.
... A20: Vollzeiteinheiten sind alle Vollzeitbeschäftigten sowie die entsprechend ihrer geleisteten Arbeitsstunden in Vollzeitarbeitsplätze umge- rechneten Teilzeitbeschäftigten und Auszubildenden.

Sheet Mehr zum Thema
A1: Link zum Inhaltsverzeichnis
A2: Mehr zum Thema
A3: Weitere Informationen zum Thema finden Sie auf der Website des Statistischen Amtes Mecklenburg-Vorpommern
A4: > https://www.laiv-mv.de/statistik/
A5: Statistische Berichte Mecklenburg-Vorpommern
A6: > N153J | B6: Verdienste
A7: > N313 | B7: Arbeitskosten im Produzierenden Gewerbe und im Dienstleistungsbereich
A8: Qualitätsberichte Statistisches Bundesamt
A9: > Verdienste
A10: > Arbeitskosten
A11: Fachliche Informationen
A12: Darlin Victoria Böhme, Telefon: 0385 588-56431, darlin-victoria.boehme@statistik-mv.de

Sheet  
