Workbook
Name _GrafikDaten_14.1: Titelblatt!$C$20:$D$30
Name _GrafikDaten_14.10: Grafiken!$K$35:$N$67
Name _GrafikDaten_14.11: Grafiken!$K$73:$N$94
Name _GrafikDaten_14.12: '14.8.2'!$M$27:$P$45
Name _GrafikDaten_14.13: '14.8.3'!$J$23:$K$41
Name _GrafikDaten_14.2: 'Überblick in Grafiken'!$C$3:$D$30
Name _GrafikDaten_14.3: 'Überblick in Grafiken'!$C$33:$D$60
Name _GrafikDaten_14.4: '14.1.1'!$K$33:$N$49
Name _GrafikDaten_14.5: '14.1.2'!$L$39:$N$45
Name _GrafikDaten_14.6: '14.1.3'!$H$23:$I$41
Name _GrafikDaten_14.7: '14.5.3+14.5.4'!$L$15:$N$24
Name _GrafikDaten_14.8: '14.5.5'!$H$23:$I$41
Name _GrafikDaten_14.9: Grafiken!$K$3:$M$30
Name _Tabelle_14.1.1: '14.1.1'!$A$3:$I$31
Name _Tabelle_14.1.2: '14.1.2'!$A$3:$J$37
Name _Tabelle_14.1.3: '14.1.3'!$A$3:$F$21
Name _Tabelle_14.2.1: '14.2.1+14.2.2'!$A$3:$J$22
Name _Tabelle_14.2.2: '14.2.1+14.2.2'!$A$25:$J$47
Name _Tabelle_14.3.1: '14.3.1'!$A$3:$H$43
Name _Tabelle_14.3.2: '14.3.2'!$A$3:$H$43
Name _Tabelle_14.4.1: '14.4.1-14.4.3'!$A$3:$D$18
Name _Tabelle_14.4.2: '14.4.1-14.4.3'!$A$21:$J$29
Name _Tabelle_14.4.3: '14.4.1-14.4.3'!$A$32:$J$45
Name _Tabelle_14.5.1: '14.5.1+14.5.2'!$A$3:$I$18
Name _Tabelle_14.5.2: '14.5.1+14.5.2'!$A$21:$J$35
Name _Tabelle_14.5.3: '14.5.3+14.5.4'!$A$3:$J$13
Name _Tabelle_14.5.4: '14.5.3+14.5.4'!$A$41:$J$50
Name _Tabelle_14.5.5: '14.5.5'!$A$3:$F$21
Name _Tabelle_14.6.1: '14.6.1+14.6.2'!$A$3:$I$18
Name _Tabelle_14.6.2: '14.6.1+14.6.2'!$A$21:$K$31
Name _Tabelle_14.7.1: '14.7.1+14.7.2'!$A$3:$J$21
Name _Tabelle_14.7.2: '14.7.1+14.7.2'!$A$24:$J$38
Name _Tabelle_14.8.1: '14.8.1'!$A$3:$J$35
Name _Tabelle_14.8.2: '14.8.2'!$A$3:$K$25
Name _Tabelle_14.8.3: '14.8.3'!$A$3:$H$21

Sheet Titelblatt
A1: Titelblatt des Kapitels 14 "Erwerbstätigkeit": Link zum Inhaltsverzeichnis
A2: 14 | Erwerbstätigkeit
A20: Grafik 14.1 | C20: Daten der Grafik 14.1 "Arbeitslosenquote im Jahresdurchschnitt 2025"
C21: Kreise | D21: Arbeitslosenquote in %
C22: Rostock | D22: ='14.8.2'!D14 -> 7.7
C23: Schwerin | D23: ='14.8.2'!E14 -> 10.6
C24: Mecklenburgische Seenplatte | D24: ='14.8.2'!F14 -> 9.2
C25: Landkreis Rostock | D25: ='14.8.2'!G14 -> 6
C26: Vorpommern-Rügen | D26: ='14.8.2'!H14 -> 9.2
C27: Nordwestmecklenburg | D27: ='14.8.2'!I14 -> 6.7
C28: Vorpommern-Greifswald | D28: ='14.8.2'!J14 -> 9.3
C29: Ludwigslust-Parchim | D29: ='14.8.2'!K14 -> 6.2
C30: Mecklenburg-Vorpommern | D30: ='14.8.2'!C14 -> 8

Sheet Inhalt
A1: Inhaltsverzeichnis des Kapitels 14 "Erwerbstätigkeit": Die Gliederungen und Überschriften auf dieser Seite sind Links zum Inhalt.
A2: Inhaltsverzeichnis | C2: Seite
A3: Überblick | B3: Überblick in Grafiken | C3: =D3+352 -> 356 | D3: 4
B4: Überblick in Worten | C4: =D4+352 -> 357 | D4: 5
A5: Ergebnisse in Tabellen
A6: 14.1 | B6: Bevölkerung am Wohnort nach Beteiligung am Erwerbsleben
A7: 14.1.1 | B7: Bevölkerung im Zeitvergleich nach Beteiligung am Erwerbsleben | C7: =D7+352 -> 358 | D7: 6
A8: 14.1.2 | B8: Bevölkerung 2024 nach Beteiligung am Erwerbsleben, Altersgruppen und Kreisen | C8: =D8+352 -> 359 | D8: 7
A9: 14.1.3 | B9: Bevölkerung 2024 nach Beteiligung am Erwerbsleben im Ländervergleich | C9: =D9+352 -> 360 | D9: 8
A10: 14.2 | B10: Bevölkerung am Wohnort nach überwiegendem Lebensunterhalt
A11: 14.2.1 | B11: Bevölkerung 2024 nach überwiegendem Lebensunterhalt, Beteiligung am Erwerbsleben und Geschlecht | C11: =D11+352 -> 361 | D11: 9
A12: 14.2.2 | B12: Bevölkerung 2024 nach überwiegendem Lebensunterhalt, Geschlecht und Kreisen | C12: =D12+352 -> 361 | D12: 9
A13: 14.3 | B13: Erwerbsquoten und Erwerbstätigenquoten
A14: 14.3.1 | B14: Erwerbsquoten im Zeitvergleich nach Altersgruppen und Geschlecht | C14: =D14+352 -> 362 | D14: 10
A15: 14.3.2 | B15: Erwerbstätigenquoten im Zeitvergleich nach Altersgruppen und Geschlecht | C15: =D15+352 -> 363 | D15: 11
A16: 14.4 | B16: Erwerbstätige am Wohnort
A17: 14.4.1 | B17: Erwerbstätige 2024 nach monatlichem Nettoeinkommen | C17: =D17+352 -> 364 | D17: 12
A18: 14.4.2 | B18: Erwerbstätige im Zeitvergleich nach tatsächlich in der Berichtswoche geleisteten Arbeitsstunden | C18: =D18+352 -> 364 | D18: 12
A19: 14.4.3 | B19: Erwerbstätige 2024 nach normalerweise je Woche geleisteten Arbeitsstunden und Kreisen | C19: =D19+352 -> 364 | D19: 12
A20: 14.5 | B20: Sozialversicherungspflichtig Beschäftigte am Arbeitsort
A21: 14.5.1 | B21: Sozialversicherungspflichtig Beschäftigte am 30. Juni 2025 nach Wirtschaftsgliederung, Geschlecht, Ausländerinnen und Ausländern, Arbeitszeit und Auszubildenden | C21: =D21+352 -> 365 | D21: 13
A22: 14.5.2 | B22: Sozialversicherungspflichtig Beschäftigte am 30. Juni 2025 nach Wirtschaftsgliederung und Altersgruppen | C22: =D22+352 -> 365 | D22: 13
A23: 14.5.3 | B23: Sozialversicherungspflichtig Beschäftigte am 30. Juni 2025 nach Geschlecht, Ausländerinnen und Ausländern, Arbeitszeit, Auszubildenden und Kreisen | C23: =D23+352 -> 366 | D23: 14
A24: 14.5.4 | B24: Sozialversicherungspflichtig Beschäftigte am 30. Juni 2025 nach Altersgruppen und Kreisen | C24: =D24+352 -> 366 | D24: 14
A25: 14.5.5 | B25: Sozialversicherungspflichtig Beschäftigte am 30. Juni 2025 im Ländervergleich | C25: =D25+352 -> 367 | D25: 15
A26: 14.6 | B26: Sozialversicherungspflichtig Beschäftigte am Wohnort
A27: 14.6.1 | B27: Sozialversicherungspflichtig Beschäftigte am 30. Juni 2025 nach Wirtschaftsgliederung, Geschlecht, Ausländerinnen und Ausländern, Arbeitszeit und Auszubildenden | C27: =D27+352 -> 368 | D27: 16
A28: 14.6.2 | B28: Sozialversicherungspflichtig Beschäftigte am 30. Juni 2025 nach Geschlecht, Ausländerinnen und Ausländern, Arbeitszeit, Auszubildenden und Kreisen | C28: =D28+352 -> 368 | D28: 16
A29: 14.7 | B29: Sozialversicherungspflichtig beschäftigte Berufspendlerinnen und -pendler über die Landesgrenze
A30: 14.7.1 | B30: Sozialversicherungspflichtig beschäftigte Berufspendlerinnen und -pendler nach bzw. aus Mecklenburg- Vorpommern am 30. Juni im Zeitvergleich nach dem Land | C30: =D30+352 -> 369 | D30: 17
A31: 14.7.2 | B31: Sozialversicherungspflichtig beschäftigte Berufspendlerinnen und -pendler nach bzw. aus Mecklenburg- Vorpommern am 30. Juni im Zeitvergleich nach Kreisen | C31: =D31+352 -> 369 | D31: 17
A32: 14.8 | B32: Arbeitslose und Arbeitslosenquote
A33: 14.8.1 | B33: Arbeitslose und Arbeitslosenquote im Jahresdurchschnitt im Zeitvergleich nach demografischen Merkmalen und Rechtskreisen | C33: =D33+352 -> 370 | D33: 18
A34: 14.8.2 | B34: Arbeitslose und Arbeitslosenquote im Jahresdurchschnitt 2025 nach demografischen Merkmalen und Kreisen | C34: =D34+352 -> 372 | D34: 20
A35: 14.8.3 | B35: Arbeitslose und Arbeitslosenquote im Jahresdurchschnitt 2025 im Ländervergleich | C35: =D35+352 -> 373 | D35: 21
A36: Ergebnisse in Grafiken
A37: 14.1 | B37: Arbeitslosenquote im Jahresdurchschnitt 2025 | C37: =D37+352 -> 353 | D37: 1
A38: 14.2 | B38: Sozialversicherungspflichtig beschäftigte Auspendlerinnen und Auspendler aus Mecklenburg-Vorpommern in das Bundesgebiet am 30. Juni 2025 | C38: =D38+352 -> 356 | D38: 4
A39: 14.3 | B39: Sozialversicherungspflichtig beschäftigte Einpendlerinnen und Einpendler aus dem Bundesgebiet nach Mecklenburg-Vorpommern am 30. Juni 2025 | C39: =D39+352 -> 356 | D39: 4
A40: 14.4 | B40: Bevölkerung am Wohnort im Zeitvergleich nach Beteiligung am Erwerbsleben | C40: =D40+352 -> 358 | D40: 6
...

Sheet Überblick in Grafiken
A1: Link zum Inhaltsverzeichnis
A2: Überblick in Grafiken
A3: Grafik 14.2 | C3: Daten der Grafik 14.2 "Sozialverischerungspflichtig beschäftigte Auspendlerinnen und Auspendler aus Mecklenburg-Vorpommern in das Bundesgebiet am 30. Juni 2025"
C4: Auspendler aus den Kreisen | D4: Anzahl
C5: Rostock | D5: ='14.7.1+14.7.2'!C37 -> 7589
C6: Schwerin | D6: ='14.7.1+14.7.2'!D37 -> 4085
C7: Mecklenburgische Seenplatte | D7: ='14.7.1+14.7.2'!E37 -> 9719
C8: Landkreis Rostock | D8: ='14.7.1+14.7.2'!F37 -> 7871
C9: Vorpommern-Rügen | D9: ='14.7.1+14.7.2'!G37 -> 7207
C10: Nordwestmecklenburg | D10: ='14.7.1+14.7.2'!H37 -> 15464
C11: Vorpommern-Greifswald | D11: ='14.7.1+14.7.2'!I37 -> 8823
C12: Ludwigslust-Parchim | D12: ='14.7.1+14.7.2'!J37 -> 16725
C13: Mecklenburg-Vorpommern insgesamt | D13: ='14.7.1+14.7.2'!B37 -> 77483
C14: Auspendler in die Bundesländer
C15: Baden-Württemberg | D15: ='14.7.1+14.7.2'!I7 -> 2676
C16: Bayern | D16: ='14.7.1+14.7.2'!I8 -> 3415
C17: Berlin | D17: ='14.7.1+14.7.2'!I9 -> 8907
C18: Brandenburg | D18: ='14.7.1+14.7.2'!I10 -> 8517
C19: Bremen | D19: ='14.7.1+14.7.2'!I11 -> 873
C20: Hamburg | D20: ='14.7.1+14.7.2'!I12 -> 11582
C21: Hessen | D21: ='14.7.1+14.7.2'!I13 -> 2208
C22: Mecklenburg-Vorpommern | D22: x
C23: Niedersachsen | D23: ='14.7.1+14.7.2'!I14 -> 7858
C24: Nordrhein-Westfalen | D24: ='14.7.1+14.7.2'!I15 -> 5764
C25: Rheinland-Pfalz | D25: ='14.7.1+14.7.2'!I16 -> 739
C26: Saarland | D26: ='14.7.1+14.7.2'!I17 -> 134
C27: Sachsen | D27: ='14.7.1+14.7.2'!I18 -> 2115
C28: Sachsen-Anhalt | D28: ='14.7.1+14.7.2'!I19 -> 2127
C29: Schleswig-Holstein | D29: ='14.7.1+14.7.2'!I20 -> 19619
C30: Thüringen | D30: ='14.7.1+14.7.2'!I21 -> 949
A33: Grafik 14.3 | C33: Daten der Grafik 14.3 "Sozialverischerungspflichtig beschäftigte Einpendlerinnen und Einpendler aus dem Bundesgebiet nach Mecklenburg-Vorpommern am 30. Juni 2025"
C34: Einpendler aus den Bundesländern | D34: Anzahl
C35: Baden-Württemberg | D35: ='14.7.1+14.7.2'!H7 -> 789
C36: Bayern | D36: ='14.7.1+14.7.2'!H8 -> 1098
C37: Berlin | D37: ='14.7.1+14.7.2'!H9 -> 3285
C38: Brandenburg | D38: ='14.7.1+14.7.2'!H10 -> 6969
C39: Bremen | D39: ='14.7.1+14.7.2'!H11 -> 282
C40: Hamburg | D40: ='14.7.1+14.7.2'!H12 -> 2029
C41: Hessen | D41: ='14.7.1+14.7.2'!H13 -> 654
C42: Mecklenburg-Vorpommern | D42: x
...

Sheet Überblick in Worten
A1: Link zum Inhaltsverzeichnis
A2: Überblick in Worten
A3: § | B3: Der Anteil der Erwerbstätigen an den Erwerbspersonen betrug 2010 noch 87,6 Prozent und stieg bis 2024 auf 96,4 Pro- zent an.
A4: § | B4: Nach Jahren des Anstiegs ist die Erwerbstätigenquote bei den ab 65-Jährigen von 2023 zu 2024 um 0,4 Prozentpunkte auf 6,2 Prozent zurückgegangen. 2015 lag diese noch bei 3,4 Prozent und 2010 bei 1,7 Prozent.
A5: § | B5: Im Jahr 2024 verfügten 9,2 Prozent der Erwerbstätigen (mit Angabe des Einkommens) über weniger als 1.000 EUR Nettoeinkommen im Monat. Bei den Männern betrug dieser Anteil 8,1 Prozent und bei den Frauen 10,2 Prozent.
A6: § | B6: Die normalerweise geleistete Arbeitszeit belief sich im Jahr 2024 auf durchschnittlich 36,1 Stunden pro Woche. Erwerbstätige Männer (38,4 Stunden pro Woche) arbeiteten im Durchschnitt länger als erwerbstätige Frauen (33,7 Stunden pro Woche).
A7: § | B7: 2025 zählten rund drei Viertel der Erwerbstätigen (nach Erwerbstätigenkonzept, vgl. Kapitel 12) zu den sozialversiche- rungspflichtig Beschäftigten.
A8: § | B8: 77,4 Prozent der sozialversicherungspflichtig Beschäftigten übten 2025 eine Tätigkeit in Dienstleistungsbereichen aus.
A9: § | B9: 50,1 Prozent der sozialversicherungspflichtig Beschäftigten waren 2025 weiblich. Das war der höchste Wert unter allen Bundesländern. Im Bundesdurchschnitt waren 46,5 Prozent der sozialversicherungspflichtig Beschäftigten weiblich.
A10: § | B10: Im Jahr 2025 waren 36,7 Prozent der sozialversicherungspflichtig Beschäftigten 50 Jahre oder älter.
A11: § | B11: Insgesamt pendelten 31.062 sozialversicherungspflichtig Beschäftigte aus anderen Ländern nach Mecklenburg-Vorpom- mern ein. Die Zahl der Auspendler in das übrige Bundesgebiet lag bei 77.483 sozialversicherungspflichtig Beschäftigten. Somit hatte das Land Mecklenburg-Vorpommern 2025 einen deutlichen Überschuss an Auspendlerinnen und Auspendlern von 46.421 Personen.
A12: § | B12: Die Arbeitslosenquote ist in den Jahren 2005 bis 2019 kontinuierlich von 20,3 Prozent auf einen Tiefstand von 7,1 Prozent gesunken. Die Corona-Pandemie sowie die darauffolgenden Kriege und Krisen beendeten diesen Trend: 2025 stieg sie auf nunmehr 8,0 Prozent. Absolut waren es im Jahresdurschnitt 2025 insgesamt 65.605 Arbeitslose und damit 661 mehr als im Jahr zuvor. Nach wie vor hatten im Ländervergleich Bremen und Berlin, seit 2024 aber auch Hamburg eine höhere Arbeitslosenquote als Mecklenburg-Vorpommern.
A13: § | B13: Zwei Drittel aller Arbeitslosen fielen 2025 in den Rechtskreis des SGB II; sie hatten also keine oder nicht ausreichende Versicherungsansprüche (mehr) und waren auf Geld- und Sachleistungen angewiesen.
A14: § | B14: Die absolute Anzahl der jüngeren Arbeitslosen (15 bis 24 Jahre) lag 2025 mit 7.170 um 388 Personen höher als im Jahr 2024, was einer Zunahme um 5,7 Prozent entspricht. Die Arbeitslosenquote dieser Altersgruppe lag 2025 bei 9,1 Prozent. Zuletzt wurde dieser Wert 2020 mit 9,5 Prozent übertroffen.
A15: § | B15: Im Jahr 2024 waren mehr als ein Viertel (27,7 Prozent) aller Arbeitslosen 55 Jahre oder älter.

Sheet 14.1.1
A1: Link zum Inhaltsverzeichnis
A2: 14.1 Bevölkerung am Wohnort nach Beteiligung am Erwerbsleben 1)
A3: 14.1.1 Bevölkerung im Zeitvergleich nach Beteiligung am Erwerbsleben
A4: Merkmal | B4: 2000 | C4: 2005 | D4: 2010 | E4: 2015 | F4: 2020 | G4: 2022 | H4: 2023 | I4: 2024
A5: Insgesamt | B5: 1786100 | C5: 1712800 | D5: 1645200 | E5: 1600600 | F5: 1588200 | G5: 1603200 | H5: 1558300 | I5: 1555600
A6: Erwerbspersonen | B6: 949100 | C6: 929000 | D6: 890400 | E6: 806200 | F6: 803700 | G6: 797700 | H6: 782100 | I6: 766900
A7: davon
A8: Erwerbstätige | B8: 780100 | C8: 731600 | D8: 780100 | E8: 743300 | F8: 767200 | G8: 766500 | H8: 749900 | I8: 739600
A9: Erwerbslose | B9: 169000 | C9: 197400 | D9: 110300 | E9: 62800 | F9: 36500 | G9: 31100 | H9: 32200 | I9: 27300
A10: Nichterwerbspersonen | B10: 837000 | C10: 783800 | D10: 754800 | E10: 794400 | F10: 784600 | G10: 805500 | H10: 776100 | I10: 788700
A11: darunter
A12: unter 15 Jahre | B12: 236700 | C12: 178400 | D12: 177300 | E12: 193000 | F12: 208300 | G12: 212500 | H12: 203400 | I12: 200300
A13: 65 und mehr Jahre | B13: 292200 | C13: 332200 | D13: 365000 | E13: 373300 | F13: 368600 | G13: 388500 | H13: 384200 | I13: 390600
A14: Männlich | B14: 881300 | C14: 848700 | D14: 815300 | E14: 788800 | F14: 784500 | G14: 787100 | H14: 763600 | I14: 763600
A15: Erwerbspersonen | B15: 515700 | C15: 499300 | D15: 481500 | E15: 425000 | F15: 421300 | G15: 416400 | H15: 407100 | I15: 399500
A16: davon
A17: Erwerbstätige | B17: 434500 | C17: 391600 | D17: 414700 | E17: 390900 | F17: 399300 | G17: 398200 | H17: 388800 | I17: 384800
A18: Erwerbslose | B18: 81200 | C18: 107800 | D18: 66800 | E18: 34200 | F18: 22000 | G18: 18300 | H18: 18300 | I18: 14700
A19: Nichterwerbspersonen | B19: 365600 | C19: 349400 | D19: 333800 | E19: 363700 | F19: 363200 | G19: 370700 | H19: 356600 | I19: 364100
A20: darunter
A21: unter 15 Jahre | B21: 123900 | C21: 91800 | D21: 90700 | E21: 98300 | F21: 106700 | G21: 108600 | H21: 103600 | I21: 101900
A22: 65 und mehr Jahre | B22: 106500 | C22: 131700 | D22: 152800 | E22: 159200 | F22: 159000 | G22: 166400 | H22: 165400 | I22: 167600
A23: Weiblich | B23: 904800 | C23: 864100 | D23: 829900 | E23: 811800 | F23: 803800 | G23: 816100 | H23: 794600 | I23: 791900
A24: Erwerbspersonen | B24: 433400 | C24: 429700 | D24: 408900 | E24: 381100 | F24: 382400 | G24: 381300 | H24: 375100 | I24: 367400
A25: davon
A26: Erwerbstätige | B26: 345600 | C26: 340000 | D26: 365400 | E26: 352500 | F26: 367900 | G26: 368400 | H26: 361100 | I26: 354800
A27: Erwerbslose | B27: 87800 | C27: 89600 | D27: 43500 | E27: 28700 | F27: 14500 | G27: 12900 | H27: 14000 | I27: 12600
A28: Nichterwerbspersonen | B28: 471400 | C28: 434400 | D28: 421000 | E28: 430700 | F28: 421400 | G28: 434800 | H28: 419600 | I28: 424500
A29: darunter
A30: unter 15 Jahre | B30: 112800 | C30: 86600 | D30: 86600 | E30: 94700 | F30: 101600 | G30: 103900 | H30: 99800 | I30: 98300
A31: 65 und mehr Jahre | B31: 185700 | C31: 200500 | D31: 212200 | E31: 214100 | F31: 209600 | G31: 222100 | H31: 218800 | I31: 223000
A33: Grafik 14.4 | K33: Daten der Grafik 14.4 "Bevölkerung am Wohnort im Zeitvergleich nach Beteiligung am Erwerbsleben"
K34: Jahr | L34: Erwerbstätige | M34: Erwerbslose | N34: Nichterwerbspersonen
K35: 2000 | L35: 780100 | M35: 169000 | N35: 837000
K36: 2005 | L36: 731600 | M36: 197400 | N36: 783800
K37: 2010 | L37: 780100 | M37: 110300 | N37: 754800
K38: 2013 | L38: 743000 | M38: 82700 | N38: 771900
K39: 2014 | L39: 737800 | M39: 78300 | N39: 778100
K40: 2015 | L40: 743300 | M40: 62800 | N40: 794400
K41: 2016 | L41: 760000 | M41: 50700 | N41: 803700
...

Sheet 14.1.2
A1: Link zum Inhaltsverzeichnis
A2: 14.1 Bevölkerung am Wohnort nach Beteiligung am Erwerbsleben 1)
A3: 14.1.2 Bevölkerung 2024 nach Beteiligung am Erwerbsleben, Altersgruppen und Kreisen
A4: Merkmal | B4: Mecklen- burg-Vor- pommern | C4: Kreisfreie Stadt Rostock | D4: Kreisfreie Stadt Schwerin | E4: Mecklen- burgische Seenplatte | F4: Landkreis Rostock | G4: Vor- pommern- Rügen | H4: Nordwest- mecklen- burg | I4: Vor- pommern- Greifswald | J4: Ludwigs- lust- Parchim
A5: Insgesamt | B5: 1555600 | C5: 203000 | D5: 95600 | E5: 243700 | F5: 216800 | G5: 215400 | H5: 155400 | I5: 221200 | J5: 204400
A6: Alter von … bis unter … Jahren
A7: unter 15 | B7: 200300 | C7: 25600 | D7: 12900 | E7: 32200 | F7: 25400 | G7: 28700 | H7: 20900 | I7: 27000 | J7: 27400
A8: 15 bis unter 45 | B8: 480000 | C8: 87000 | D8: 31500 | E8: 67100 | F8: 63800 | G8: 61900 | H8: 45900 | I8: 67200 | J8: 55600
A9: 45 bis unter 65 | B9: 458800 | C9: 47200 | D9: 26100 | E9: 78300 | F9: 69000 | G9: 64600 | H9: 49800 | I9: 58500 | J9: 65300
A10: 65 und mehr | B10: 416500 | C10: 43200 | D10: 25000 | E10: 66000 | F10: 58600 | G10: 60200 | H10: 38800 | I10: 68500 | J10: 56100
A11: Erwerbspersonen | B11: 766900 | C11: 106100 | D11: 46500 | E11: 115200 | F11: 112600 | G11: 105000 | H11: 81500 | I11: 96900 | J11: 103100
A12: davon
A13: Erwerbstätige | B13: 739600 | C13: 101300 | D13: 44700 | E13: 110400 | F13: 109900 | G13: 101300 | H13: 79300 | I13: 92700 | J13: 100000
A14: Erwerbslose | B14: 27300 | C14: / | D14: / | E14: / | F14: / | G14: / | H14: / | I14: / | J14: /
A15: Nichterwerbspersonen | B15: 788700 | C15: 96900 | D15: 49100 | E15: 128500 | F15: 104200 | G15: 110500 | H15: 73900 | I15: 124300 | J15: 101300
A16: Männlich | B16: 763600 | C16: 99800 | D16: 44300 | E16: 118100 | F16: 106900 | G16: 105600 | H16: 77800 | I16: 108100 | J16: 103100
A17: Alter von … bis unter … Jahren
A18: unter 15 | B18: 101900 | C18: 13200 | D18: / | E18: 17000 | F18: 12300 | G18: 14600 | H18: 11000 | I18: 14900 | J18: 14100
A19: 15 bis unter 45 | B19: 247200 | C19: 45800 | D19: 16600 | E19: 33500 | F19: 32900 | G19: 32000 | H19: 23200 | I19: 33300 | J19: 30000
A20: 45 bis unter 65 | B20: 231100 | C20: 22700 | D20: 13400 | E20: 37600 | F20: 36100 | G20: 31900 | H20: 26700 | I20: 29400 | J20: 33400
A21: 65 und mehr | B21: 183400 | C21: 18100 | D21: 9500 | E21: 30000 | F21: 25600 | G21: 27100 | H21: 17000 | I21: 30500 | J21: 25500
A22: Erwerbspersonen | B22: 399500 | C22: 55200 | D22: 23900 | E22: 57700 | F22: 59700 | G22: 55100 | H22: 43000 | I22: 49000 | J22: 55900
A23: davon
A24: Erwerbstätige | B24: 384800 | C24: 53000 | D24: 22900 | E24: 55500 | F24: 58100 | G24: 52500 | H24: 41900 | I24: 47000 | J24: 53900
A25: Erwerbslose | B25: 14700 | C25: / | D25: / | E25: / | F25: / | G25: / | H25: / | I25: / | J25: /
A26: Nichterwerbspersonen | B26: 364100 | C26: 44600 | D26: 20400 | E26: 60400 | F26: 47300 | G26: 50400 | H26: 34800 | I26: 59100 | J26: 47200
A27: Weiblich | B27: 791900 | C27: 103200 | D27: 51300 | E27: 125600 | F27: 109800 | G27: 109900 | H27: 77600 | I27: 113200 | J27: 101300
A28: Alter von … bis unter … Jahren
A29: unter 15 | B29: 98300 | C29: 12500 | D29: 8100 | E29: 15300 | F29: 13100 | G29: 14100 | H29: 10000 | I29: 12100 | J29: 13300
A30: 15 bis unter 45 | B30: 232800 | C30: 41200 | D30: 14900 | E30: 33700 | F30: 30900 | G30: 30000 | H30: 22700 | I30: 33900 | J30: 25600
A31: 45 bis unter 65 | B31: 227700 | C31: 24500 | D31: 12800 | E31: 40700 | F31: 32900 | G31: 32700 | H31: 23100 | I31: 29100 | J31: 31900
A32: 65 und mehr | B32: 233100 | C32: 25100 | D32: 15500 | E32: 36000 | F32: 33000 | G32: 33100 | H32: 21800 | I32: 38000 | J32: 30500
A33: Erwerbspersonen | B33: 367400 | C33: 51000 | D33: 22500 | E33: 57500 | F33: 52900 | G33: 49800 | H33: 38500 | I33: 47900 | J33: 47200
A34: davon
A35: Erwerbstätige | B35: 354800 | C35: 48300 | D35: 21800 | E35: 54900 | F35: 51700 | G35: 48800 | H35: 37400 | I35: 45700 | J35: 46200
A36: Erwerbslose | B36: 12600 | C36: / | D36: / | E36: / | F36: / | G36: / | H36: / | I36: / | J36: /
A37: Nichterwerbspersonen | B37: 424500 | C37: 52300 | D37: 28700 | E37: 68100 | F37: 56900 | G37: 60100 | H37: 39100 | I37: 65300 | J37: 54100
A39: Grafik 14.5 | L39: Daten der Grafik 14.5 "Bevölkerung am Wohnort 2024 nach überwiegendem Lebensunterhalt und Geschlecht"
L40: Überwiegender Lebensunterhalt | M40: Männlich in % (Männlich insgesamt = 100) | N40: Weiblich in % (Weiblich insgesamt = 100)
L41: Eigene Erwerbs-/Berufstätigkeit | M41: ='14.2.1+14.2.2'!C11*100/'14.2.1+14.2.2'!B11 -> 47.551074 | N41: ='14.2.1+14.2.2'!C17*100/'14.2.1+14.2.2'!B17 -> 40.95214
...

Sheet 14.1.3
A1: Link zum Inhaltsverzeichnis
A2: 14.1 Bevölkerung am Wohnort nach Beteiligung am Erwerbsleben 1)
A3: 14.1.3 Bevölkerung 2024 nach Beteiligung am Erwerbsleben im Ländervergleich
A4: Land | B4: Bevölkerung insgesamt | C4: Erwerbspersonen insgesamt | D4: Erwerbstätige | E4: Erwerbslose | F4: Nichterwerbs- personen insgesamt
A5: Deutschland | B5: 82777000 | C5: 44158000 | D5: 42641000 | E5: 1516000 | F5: 38619000
A6: Baden-Württemberg | B6: 11206000 | C6: 6226000 | D6: 6038000 | E6: 188000 | F6: 4980000
A7: Bayern | B7: 13161000 | C7: 7351000 | D7: 7159000 | E7: 192000 | F7: 5810000
A8: Berlin | B8: 3659000 | C8: 1979000 | D8: 1868000 | E8: 111000 | F8: 1680000
A9: Brandenburg | B9: 2516000 | C9: 1280000 | D9: 1240000 | E9: 40000 | F9: 1236000
A10: Bremen | B10: 692000 | C10: 351000 | D10: 333000 | E10: 18000 | F10: 341000
A11: Hamburg | B11: 1843000 | C11: 1030000 | D11: 981000 | E11: 49000 | F11: 813000
A12: Hessen | B12: 6229000 | C12: 3315000 | D12: 3210000 | E12: 105000 | F12: 2913000
A13: Mecklenburg-Vorpommern | B13: 1556000 | C13: 767000 | D13: 740000 | E13: 27000 | F13: 789000
A14: Niedersachsen | B14: 7921000 | C14: 4196000 | D14: 4065000 | E14: 131000 | F14: 3724000
A15: Nordrhein-Westfalen | B15: 17818000 | C15: 9322000 | D15: 8964000 | E15: 358000 | F15: 8495000
A16: Rheinland-Pfalz | B16: 4092000 | C16: 2189000 | D16: 2120000 | E16: 69000 | F16: 1904000
... A21: Thüringen | B21: 2079000 | C21: 1038000 | D21: 1002000 | E21: 36000 | F21: 1041000
A23: Grafik 14.6 | H23: Daten der Grafik 14.6 "Selbstständigenquote 2024 im Ländervergleich"
H24: Bundesland | I24: Selbstständigenquote in %
H25: Baden-Württemberg | I25: 7.6349785
H26: Bayern | I26: 8.7302696
H27: Berlin | I27: 11.991435
H28: Brandenburg | I28: 8.9516129
H29: Bremen | I29: 6.6066066
H30: Hamburg | I30: 9.7859327
H31: Hessen | I31: 8.7850467
H32: Mecklenburg-Vorpommern | I32: 7.5675676
H33: Niedersachsen | I33: 7.7244772
H34: Nordrhein-Westfalen | I34: 8.0879072
H35: Rheinland-Pfalz | I35: 8.1132075
H36: Saarland | I36: 7.8028747
... H41: Deutschland | I41: 8.3651884

Sheet 14.2.1+14.2.2
A1: Link zum Inhaltsverzeichnis
A2: 14.2 Bevölkerung am Wohnort nach überwiegendem Lebensunterhalt 1)
A3: 14.2.1 Bevölkerung 2024 nach überwiegendem Lebensunterhalt, Beteiligung am Erwerbsleben und Geschlecht
A4: Beteiligung am Erwerbsleben | B4: Bevölkerung insgesamt | C4: Eigene Erwerbs-/ Berufs- tätigkeit | D4: Arbeits- losengeld | E4: Rente, Pension | F4: Einkünfte von Ange- hörigen | G4: Eigenes Vermögen | H4: Sozialhilfe | I4: Sonstige Unter- stützung | J4: Elterngeld
A5: Insgesamt | B5: 1555600 | C5: 687400 | D5: 74100 | E5: 457200 | F5: 276800 | G5: 7300 | H5: 22200 | I5: 24400 | J5: 6200
A6: Erwerbspersonen | B6: 766900 | C6: 685500 | D6: 27300 | E6: 22600 | F6: 13300 | G6: / | H6: / | I6: 8200 | J6: /
A7: davon
A8: Erwerbstätige | B8: 739600 | C8: 684500 | D8: 6800 | E8: 22100 | F8: 9900 | G8: / | H8: / | I8: 7000 | J8: /
A9: Erwerbslose | B9: 27300 | C9: / | D9: 20400 | E9: / | F9: / | G9: / | H9: / | I9: / | J9: /
A10: Nichterwerbspersonen | B10: 788700 | C10: / | D10: 46800 | E10: 434700 | F10: 263400 | G10: / | H10: 19400 | I10: 16200 | J10: /
A11: Männlich | B11: 763600 | C11: 363100 | D11: 39500 | E11: 202300 | F11: 136300 | G11: / | H11: 9800 | I11: 8100 | J11: /
A12: Erwerbspersonen | B12: 399500 | C12: 362000 | D12: 15300 | E12: 12800 | F12: / | G12: / | H12: / | I12: / | J12: /
A13: davon
A14: Erwerbstätige | B14: 384800 | C14: 361400 | D14: / | E14: 12600 | F14: / | G14: / | H14: / | I14: / | J14: /
A15: Erwerbslose | B15: 14700 | C15: / | D15: 12100 | E15: / | F15: / | G15: / | H15: / | I15: / | J15: -
A16: Nichterwerbspersonen | B16: 364100 | C16: / | D16: 24200 | E16: 189500 | F16: 131400 | G16: / | H16: 9000 | I16: 5900 | J16: /
A17: Weiblich | B17: 791900 | C17: 324300 | D17: 34600 | E17: 254900 | F17: 140400 | G17: / | H17: 12400 | I17: 16300 | J17: 5800
A18: Erwerbspersonen | B18: 367400 | C18: 323400 | D18: 12000 | E18: 9800 | F18: 8400 | G18: / | H18: / | I18: 6000 | J18: /
A19: davon
A20: Erwerbstätige | B20: 354800 | C20: 323100 | D20: / | E20: 9600 | F20: 6000 | G20: / | H20: / | I20: / | J20: /
A21: Erwerbslose | B21: 12600 | C21: / | D21: 8300 | E21: / | F21: / | G21: / | H21: / | I21: / | J21: /
A22: Nichterwerbspersonen | B22: 424500 | C22: / | D22: 22600 | E22: 245200 | F22: 132000 | G22: / | H22: 10400 | I22: 10300 | J22: /
A25: 14.2.2 Bevölkerung 2024 nach überwiegendem Lebensunterhalt, Geschlecht und Kreisen
A26: Merkmal | B26: Mecklen- burg-Vor- pommern | C26: Kreisfreie Stadt Rostock | D26: Kreisfreie Stadt Schwerin | E26: Mecklen- burgische Seenplatte | F26: Landkreis Rostock | G26: Vor- pommern- Rügen | H26: Nordwest- mecklen- burg | I26: Vor- pommern- Greifswald | J26: Ludwigs- lust- Parchim
A27: Insgesamt | B27: 1555600 | C27: 203000 | D27: 95600 | E27: 243700 | F27: 216800 | G27: 215400 | H27: 155400 | I27: 221200 | J27: 204400
A28: eigene Erwerbs-/Berufs- tätigkeit | B28: 687400 | C28: 95000 | D28: 41000 | E28: 102100 | F28: 103000 | G28: 93500 | H28: 74100 | I28: 85900 | J28: 92700
A29: Anteil an Insgesamt in % | B29: 44.188737 | C29: 46.79803 | D29: 42.887029 | E29: 41.895773 | F29: 47.509225 | G29: 43.407614 | H29: 47.683398 | I29: 38.833635 | J29: 45.35225
A30: Einkünfte von Angehörigen | B30: 276800 | C30: 39600 | D30: 18700 | E30: 42600 | F30: 35800 | G30: 36500 | H30: 29300 | I30: 41000 | J30: 33300
A31: Anteil an Insgesamt in % | B31: 17.793777 | C31: 19.507389 | D31: 19.560669 | E31: 17.480509 | F31: 16.512915 | G31: 16.945218 | H31: 18.854569 | I31: 18.535262 | J31: 16.291585
A32: Rente und Sonstiges | B32: 591500 | C32: 68400 | D32: 35800 | E32: 99100 | F32: 77900 | G32: 85500 | H32: 52000 | I32: 94400 | J32: 78300
A33: Anteil an Insgesamt in % | B33: 38.023914 | C33: 33.694581 | D33: 37.447699 | E33: 40.664752 | F33: 35.931734 | G33: 39.693593 | H33: 33.462033 | I33: 42.676311 | J33: 38.307241
A34: Männlich | B34: 763600 | C34: 99800 | D34: 44300 | E34: 118100 | F34: 106900 | G34: 105600 | H34: 77800 | I34: 108100 | J34: 103100
A35: eigene Erwerbs-/Berufs- tätigkeit | B35: 363100 | C35: 51300 | D35: 21200 | E35: 52000 | F35: 55500 | G35: 49100 | H35: 39600 | I35: 44100 | J35: 50300
A36: Anteil an Insgesamt in % | B36: 47.551074 | C36: 51.402806 | D36: 47.85553 | E36: 44.030483 | F36: 51.91768 | G36: 46.496212 | H36: 50.899743 | I36: 40.79556 | J36: 48.787585
A37: Einkünfte von Angehörigen | B37: 136300 | C37: 19700 | D37: 7900 | E37: 21600 | F37: 16700 | G37: 18300 | H37: 14500 | I37: 20700 | J37: 17000
A38: Anteil an Insgesamt in % | B38: 17.84966 | C38: 19.739479 | D38: 17.832957 | E38: 18.289585 | F38: 15.622077 | G38: 17.329545 | H38: 18.637532 | I38: 19.148936 | J38: 16.488846
... A47: Anteil an Insgesamt in % | B47: 41.318348 | C47: 38.372093 | D47: 40.350877 | E47: 43.471338 | F47: 39.253188 | G47: 43.039126 | H47: 36.340206 | I47: 45.141343 | J47: 42.053307

Sheet 14.3.1
A1: Link zum Inhaltsverzeichnis
A2: 14.3 Erwerbsquoten und Erwerbstätigenquoten 1)
A3: 14.3.1 Erwerbsquoten im Zeitvergleich nach Altersgruppen und Geschlecht 2)
A4: Alter von … bis unter … Jahren | B4: 2000 in % | C4: 2005 in % | D4: 2010 in % | E4: 2015 in % | F4: 2020 in % | G4: 2023 in % | H4: 2024 in %
A5: Insgesamt | B5: 61.3 | C5: 60.5 | D5: 60.7 | E5: 57.3 | F5: 58.2 | G5: 49.807134 | H5: 49.3
A6: 15 bis unter 20 | B6: 42.2 | C6: 37.4 | D6: 37.9 | E6: 23.8 | F6: 32.68078 | G6: 33.306137 | H6: 30.4
A7: 20 bis unter 25 | B7: 78.5 | C7: 79 | D7: 77.7 | E7: 71.8 | F7: 75.791656 | G7: 77.457301 | H7: 75.7
A8: 25 bis unter 30 | B8: 89.1 | C8: 84.9 | D8: 86.3 | E8: 85.3 | F8: 86.569397 | G8: 87.797423 | H8: 88.8
A9: 30 bis unter 35 | B9: 94.6 | C9: 91.4 | D9: 89.6 | E9: 90.3 | F9: 89.115722 | G9: 90.610709 | H9: 90.2
A10: 35 bis unter 40 | B10: 93.8 | C10: 93.8 | D10: 91.5 | E10: 90.6 | F10: 90.622197 | G10: 91.632079 | H10: 90.8
A11: 40 bis unter 45 | B11: 95.1 | C11: 92.4 | D11: 93.5 | E11: 92.2 | F11: 92.782542 | G11: 90.863087 | H11: 89.6
A12: 45 bis unter 50 | B12: 93.3 | C12: 90.9 | D12: 90.7 | E12: 89.6 | F12: 91.566638 | G12: 91.13272 | H12: 89.4
A13: 50 bis unter 55 | B13: 88 | C13: 89.1 | D13: 86.9 | E13: 84.8 | F13: 86.685363 | G13: 87.448295 | H13: 87.1
A14: 55 bis unter 60 | B14: 74.6 | C14: 78.8 | D14: 77.5 | E14: 79.1 | F14: 80.927905 | G14: 82.718377 | H14: 80.8
A15: 60 bis unter 65 | B15: 16 | C15: 24.3 | D15: 42.7 | E15: 51 | F15: 55.825869 | G15: 62.73749 | H15: 64.3
A16: 65 und mehr | B16: / | C16: / | D16: 1.7 | E16: 3.4 | F16: 5.2157423 | G16: 6.597776 | H16: 6.2
A17: 15 bis unter 65 | B17: 75.4 | C17: 77.2 | D17: 80.6 | E17: 77.7 | F17: 79.050958 | G17: 80.022555 | H17: 78.9
A18: Männlich | B18: 68.1 | C18: 66 | D18: 66.5 | E18: 61.5 | F18: 62.2 | G18: 53.306253 | H18: 52.3
A19: 15 bis unter 20 | B19: 46 | C19: 39.1 | D19: 42 | E19: 24.9 | F19: 33.037087 | G19: 36.504052 | H19: 34.8
A20: 20 bis unter 25 | B20: 84.5 | C20: 82.9 | D20: 80.9 | E20: 78.5 | F20: 79.052295 | G20: 81.904687 | H20: 81.4
A21: 25 bis unter 30 | B21: 91.6 | C21: 89.2 | D21: 91.7 | E21: 88.7 | F21: 91.330656 | G21: 88.365494 | H21: 87.7
A22: 30 bis unter 35 | B22: 97 | C22: 95 | D22: 93 | E22: 93.4 | F22: 92.034134 | G22: 92.170562 | H22: 92.6
A23: 35 bis unter 40 | B23: 95.8 | C23: 96.1 | D23: 96 | E23: 90.6 | F23: 91.64946 | G23: 92.677495 | H23: 91.4
A24: 40 bis unter 45 | B24: 95.1 | C24: 94 | D24: 95.1 | E24: 92.6 | F24: 93.539249 | G24: 91.633971 | H24: 91.8
A25: 45 bis unter 50 | B25: 94.9 | C25: 90.6 | D25: 91.3 | E25: 90.4 | F25: 90.869213 | G25: 90.326889 | H25: 89.1
A26: 50 bis unter 55 | B26: 89 | C26: 89 | D26: 86.8 | E26: 85.8 | F26: 87.677585 | G26: 89.965002 | H26: 88.3
A27: 55 bis unter 60 | B27: 79 | C27: 82 | D27: 80.8 | E27: 79.5 | F27: 81.143639 | G27: 85.743683 | H27: 81.9
A28: 60 bis unter 65 | B28: 24.6 | C28: 33.7 | D28: 51.8 | E28: 57.1 | F28: 59.061524 | G28: 63.902177 | H28: 63.8
A29: 65 und mehr | B29: / | C29: / | D29: / | E29: 5.1 | F29: 8.1341507 | G29: 8.074483 | H29: 8.6
A30: 15 bis unter 65 | B30: 79.2 | C30: 79.7 | D30: 84.1 | E30: 79.7 | F30: 80.695164 | G30: 81.762815 | H30: 80.2
A31: Weiblich | B31: 54.7 | C31: 55.3 | D31: 55 | E31: 53.1 | F31: 54.5 | G31: 47.200995 | H31: 46.4
A32: 15 bis unter 20 | B32: 38.1 | C32: 35.3 | D32: 33.9 | E32: 22.3 | F32: 32.273844 | G32: 29.777421 | H32: 25.2
A33: 20 bis unter 25 | B33: 71.6 | C33: 73.9 | D33: 73.7 | E33: 65.8 | F33: 72.576896 | G33: 72.938569 | H33: 70
A34: 25 bis unter 30 | B34: 86.2 | C34: 79.9 | D34: 80.1 | E34: 81.5 | F34: 81.712215 | G34: 87.175306 | H34: 90.082199
A35: 30 bis unter 35 | B35: 92.1 | C35: 87.2 | D35: 85.5 | E35: 86.5 | F35: 86.013733 | G35: 88.968366 | H35: 87.880382
A36: 35 bis unter 40 | B36: 91.5 | C36: 91.6 | D36: 86.1 | E36: 90.7 | F36: 89.433913 | G36: 90.558467 | H36: 90.140732
A37: 40 bis unter 45 | B37: 95.1 | C37: 90.7 | D37: 92 | E37: 91.9 | F37: 91.992809 | G37: 90.044526 | H37: 87.283183
A38: 45 bis unter 50 | B38: 91.6 | C38: 91.2 | D38: 89.9 | E38: 88.5 | F38: 92.315582 | G38: 92.047638 | H38: 89.780567
A39: 50 bis unter 55 | B39: 86.8 | C39: 89.2 | D39: 87 | E39: 83.7 | F39: 85.623477 | G39: 84.947436 | H39: 85.846923
A40: 55 bis unter 60 | B40: 70.5 | C40: 75.8 | D40: 74.2 | E40: 78.6 | F40: 80.720246 | G40: 79.670051 | H40: 79.773319
...

Sheet 14.3.2
A1: Link zum Inhaltsverzeichnis
A2: 14.3 Erwerbsquoten und Erwerbstätigenquoten 1)
A3: 14.3.2 Erwerbstätigenquoten im Zeitvergleich nach Altersgruppen und Geschlecht 2)
A4: Alter von … bis unter … Jahren | B4: 2000 in % | C4: 2005 in % | D4: 2010 in % | E4: 2015 in % | F4: 2020 in % | G4: 2023 in % | H4: 2024 in %
A5: Insgesamt | B5: 50.3 | C5: 47.7 | D5: 53.1 | E5: 52.8 | F5: 55.6 | G5: 48.124313 | H5: 47.5
A6: 15 bis unter 20 | B6: 39.3 | C6: 32.2 | D6: 33.7 | E6: 20.2 | F6: 29.492123 | G6: 29.756306 | H6: 28
A7: 20 bis unter 25 | B7: 65.9 | C7: 60.3 | D7: 67.1 | E7: 65.5 | F7: 70.253375 | G7: 72.749657 | H7: 69.2
A8: 25 bis unter 30 | B8: 76.6 | C8: 65.9 | D8: 76.2 | E8: 79.8 | F8: 81.667922 | G8: 82.517938 | H8: 85.4
A9: 30 bis unter 35 | B9: 77.7 | C9: 72.6 | D9: 78.3 | E9: 83 | F9: 84.418172 | G9: 85.540227 | H9: 87.4
A10: 35 bis unter 40 | B10: 79 | C10: 74 | D10: 79.5 | E10: 82.8 | F10: 86.365425 | G10: 88.141544 | H10: 87.1
A11: 40 bis unter 45 | B11: 76.1 | C11: 75.5 | D11: 81.5 | E11: 85.2 | F11: 89.431387 | G11: 87.023304 | H11: 85.3
A12: 45 bis unter 50 | B12: 76.2 | C12: 71.2 | D12: 79.7 | E12: 82.5 | F12: 89.13911 | G12: 88.961042 | H12: 87.2
A13: 50 bis unter 55 | B13: 72.6 | C13: 68.3 | D13: 76.7 | E13: 79.5 | F13: 83.513688 | G13: 84.873166 | H13: 85.3
A14: 55 bis unter 60 | B14: 52.3 | C14: 59.2 | D14: 68.1 | E14: 72.6 | F14: 77.678171 | G14: 79.659817 | H14: 78.8
A15: 60 bis unter 65 | B15: 13 | C15: 18.5 | D15: 36.9 | E15: 46.2 | F15: 52.966357 | G15: 60.429165 | H15: 63
A16: 65 und mehr | B16: / | C16: / | D16: 1.7 | E16: 3.3 | F16: 5.0922077 | G16: 6.5827796 | H16: 6.1
A17: 15 bis unter 65 | B17: 61.9 | C17: 60.7 | D17: 70.6 | E17: 71.5 | F17: 75.415993 | G17: 76.612638 | H17: 76.1
A18: Männlich | B18: 57.4 | C18: 51.7 | D18: 57.2 | E18: 56.6 | F18: 58.9 | G18: 50.914278 | H18: 50.4
A19: 15 bis unter 20 | B19: 42.8 | C19: 33.4 | D19: 36.4 | E19: 20.2 | F19: 29.494699 | G19: 32.535867 | H19: 31.1
A20: 20 bis unter 25 | B20: 71.6 | C20: 62 | D20: 68 | E20: 70.4 | F20: 72.635688 | G20: 75.763965 | H20: 75.7
A21: 25 bis unter 30 | B21: 80.1 | C21: 67.8 | D21: 81.3 | E21: 84.1 | F21: 84.634647 | G21: 82.055293 | H21: 84.244433
A22: 30 bis unter 35 | B22: 84 | C22: 75.7 | D22: 79.3 | E22: 84.6 | F22: 86.596362 | G22: 86.326168 | H22: 91.00742
A23: 35 bis unter 40 | B23: 82.7 | C23: 74.4 | D23: 81.2 | E23: 82.1 | F23: 85.985364 | G23: 89.282497 | H23: 87.031219
A24: 40 bis unter 45 | B24: 76.7 | C24: 78.5 | D24: 81.2 | E24: 87.4 | F24: 89.359861 | G24: 87.48779 | H24: 87.572894
A25: 45 bis unter 50 | B25: 80.4 | C25: 70.4 | D25: 79.1 | E25: 82.2 | F25: 88.524063 | G25: 87.646556 | H25: 86.440451
A26: 50 bis unter 55 | B26: 74.2 | C26: 66.8 | D26: 75.5 | E26: 81.2 | F26: 83.977347 | G26: 87.217705 | H26: 86.298591
A27: 55 bis unter 60 | B27: 59.5 | C27: 62.9 | D27: 69.7 | E27: 73.2 | F27: 78.135221 | G27: 82.29067 | H27: 79.638922
A28: 60 bis unter 65 | B28: 19.3 | C28: 25.9 | D28: 45.1 | E28: 50.8 | F28: 55.233781 | G28: 61.817938 | H28: 62.187753
A29: 65 und mehr | B29: / | C29: / | D29: / | E29: 4.9 | F29: 7.9464766 | G29: 8.0401991 | H29: 8.5
A30: 15 bis unter 65 | B30: 66.6 | C30: 62.4 | D30: 72.4 | E30: 73.2 | F30: 76.402325 | G30: 77.970974 | H30: 77.2
A31: Weiblich | B31: 43.6 | C31: 43.7 | D31: 49.2 | E31: 49.2 | F31: 52.4 | G31: 45.443241 | H31: 44.8
A32: 15 bis unter 20 | B32: 35.6 | C32: 30.8 | D32: 31 | E32: 20.1 | F32: 29.489181 | G32: 26.689221 | H32: 24.3
A33: 20 bis unter 25 | B33: 59 | C33: 58.1 | D33: 66.2 | E33: 60.7 | F33: 67.904581 | G33: 69.686993 | H33: 62.734285
A34: 25 bis unter 30 | B34: 72.3 | C34: 63.5 | D34: 70.4 | E34: 75.4 | F34: 78.641428 | G34: 83.024599 | H34: 86.866564
A35: 30 bis unter 35 | B35: 71.4 | C35: 69 | D35: 77 | E35: 81 | F35: 82.102967 | G35: 84.712723 | H35: 84.021466
A36: 35 bis unter 40 | B36: 75 | C36: 73.5 | D36: 77.4 | E36: 83.8 | F36: 86.805059 | G36: 86.969818 | H36: 87.118035
A37: 40 bis unter 45 | B37: 75.5 | C37: 72.2 | D37: 81.8 | E37: 82.9 | F37: 89.506034 | G37: 86.530092 | H37: 82.908623
A38: 45 bis unter 50 | B38: 71.7 | C38: 72 | D38: 80.3 | E38: 82.7 | F38: 89.79959 | G38: 90.453473 | H38: 88.099877
A39: 50 bis unter 55 | B39: 70.9 | C39: 69.9 | D39: 77.9 | E39: 77.7 | F39: 83.017476 | G39: 82.543391 | H39: 84.316816
A40: 55 bis unter 60 | B40: 45.3 | C40: 56 | D40: 66.7 | E40: 72.1 | F40: 77.238228 | G40: 77.008945 | H40: 77.895887
...

Sheet 14.4.1-14.4.3
A1: Link zum Inhaltsverzeichnis
A2: 14.4 Erwerbstätige am Wohnort 1)
A3: 14.4.1 Erwerbstätige 2024 nach monatlichem Nettoeinkommen
A4: Monatliches Nettoeinkommen von ... bis unter ... EUR | B4: Insgesamt | C4: Männlich | D4: Weiblich
A5: Insgesamt | B5: 739600 | C5: 384800 | D5: 354800
A6: mit Angabe des Einkommens | B6: 739600 | C6: 384800 | D6: 354800
A7: kein Einkommen | B7: / | C7: / | D7: /
A8: unter 500 | B8: 10500 | C8: / | D8: 7000
A9: 500 bis unter 1.000 | B9: 54800 | C9: 26500 | D9: 28300
A10: 1.000 bis unter 1.250 | B10: 47100 | C10: 16000 | D10: 31100
A11: 1.250 bis unter 1.500 | B11: 64200 | C11: 24400 | D11: 39800
A12: 1.500 bis unter 1.750 | B12: 88200 | C12: 41200 | D12: 47000
A13: 1.750 bis unter 2.000 | B13: 96300 | C13: 54200 | D13: 42100
A14: 2.000 bis unter 2.500 | B14: 161000 | C14: 83400 | D14: 77600
A15: 2.500 bis unter 3.000 | B15: 89500 | C15: 52400 | D15: 37100
A16: 3.000 bis unter 3.500 | B16: 52200 | C16: 30500 | D16: 21700
A17: 3.500 und mehr | B17: 73300 | C17: 51300 | D17: 22100
A18: ohne Angabe | B18: . | C18: . | D18: .
A21: 14.4.2 Erwerbstätige im Zeitvergleich nach tatsächlich in der Berichtswoche geleisteten Arbeitsstunden
A22: Merkmal | B22: 2000 | C22: 2005 | D22: 2010 | E22: 2015 | F22: 2020 | G22: 2023 | H22: 2024 insgesamt | I22: 2024 männlich | J22: 2024 weiblich
A23: Insgesamt | B23: 780100 | C23: 731600 | D23: 780100 | E23: 743300 | F23: 759400 | G23: 749900 | H23: 739600 | I23: 384800 | J23: 354800
A24: davon mit … tatsächlich in der Berichtswoche geleisteten Arbeitsstunden
A25: unter 20 | B25: 66100 | C25: 130300 | D25: 143000 | E25: 154400 | F25: 152400 | G25: 153600 | H25: 141400 | I25: 60900 | J25: 80400
A26: 20 bis 35 | B26: 64000 | C26: 99200 | D26: 118200 | E26: 119600 | F26: 155900 | G26: 175000 | H26: 181800 | I26: 53400 | J26: 128400
A27: 36 bis 39 | B27: 75400 | C27: 49200 | D27: 53500 | E27: 54100 | F27: 62800 | G27: 73500 | H27: 77900 | I27: 42600 | J27: 35300
A28: 40 bis 44 | B28: 443400 | C28: 297800 | D28: 341400 | E28: 308200 | F28: 309900 | G28: 242600 | H28: 248500 | I28: 166600 | J28: 81800
A29: 45 und mehr | B29: 131200 | C29: 155100 | D29: 124000 | E29: 107000 | F29: 74400 | G29: 38700 | H29: 33500 | I29: 22700 | J29: 10800
A32: 14.4.3 Erwerbstätige 2024 nach normalerweise je Woche geleisteten Arbeitsstunden und Kreisen
A33: Merkmal | B33: Mecklen-burg-Vor-pommern | C33: Kreisfreie Stadt Rostock | D33: Kreisfreie Stadt Schwerin | E33: Mecklen-burgische Seenplatte | F33: Landkreis Rostock | G33: Vor-pommern-Rügen | H33: Nordwest-mecklen-burg | I33: Vor-pommern-Greifswald | J33: Ludwigs-lust-Parchim
A34: Insgesamt | B34: 739600 | C34: 101300 | D34: 44700 | E34: 110400 | F34: 109900 | G34: 101300 | H34: 79300 | I34: 92700 | J34: 100000
A35: mit normalerweise geleisteten Arbeitsstunden | B35: 739600 | C35: 101300 | D35: 44700 | E35: 110400 | F35: 109900 | G35: 101300 | H35: 79300 | I35: 92700 | J35: 100000
A36: bis 35 | B36: 236400 | C36: 31000 | D36: 16300 | E36: 37800 | F36: 34600 | G36: 29800 | H36: 24600 | I36: 33100 | J36: 29300
A37: 36 und mehr | B37: 503100 | C37: 70300 | D37: 28400 | E37: 72600 | F37: 75300 | G37: 71500 | H37: 54700 | I37: 59600 | J37: 70800
A38: darunter weiblich | B38: 354800 | C38: 48300 | D38: 21800 | E38: 54900 | F38: 51700 | G38: 48800 | H38: 37400 | I38: 45700 | J38: 46200
A39: mit normalerweise geleis- teten Arbeitsstunden | B39: 354800 | C39: 48300 | D39: 21800 | E39: 54900 | F39: 51700 | G39: 48800 | H39: 37400 | I39: 45700 | J39: 46200
A40: bis 35 | B40: 175600 | C40: 22400 | D40: 11300 | E40: 27700 | F40: 25900 | G40: 22700 | H40: 18500 | I40: 24400 | J40: 22700
A41: 36 und mehr | B41: 179200 | C41: 25900 | D41: 10500 | E41: 27200 | F41: 25800 | G41: 26100 | H41: 18800 | I41: 21300 | J41: 23500
A42: Durchschnittlich geleistete Arbeitsstunden je erwerbs- tätiger Person | B42: 36 | C42: 36 | D42: 36 | E42: 36 | F42: 36 | G42: 36 | H42: 36 | I42: 35 | J42: 37
A43: davon
A44: männlich | B44: 38 | C44: 38 | D44: 38 | E44: 38 | F44: 39 | G44: 39 | H44: 38 | I44: 38 | J44: 39
...

Sheet 14.5.1+14.5.2
A1: Link zum Inhaltsverzeichnis
A2: 14.5 Sozialversicherungspflichtig Beschäftigte am Arbeitsort
A3: 14.5.1 Sozialversicherungspflichtig Beschäftigte am 30. Juni 2025 nach Wirtschaftsgliederung, Geschlecht, Ausländerinnen
A4: und Ausländern, Arbeitszeit und Auszubildenden
A5: Nr. der Klas- sifi- kation | B5: Wirtschaftsgliederung | C5: Insgesamt und zwar... | D5: …männ- lich | E5: …weib- lich | F5: ...Auslän- derinnen und Ausländer | G5: ...Vollzeit- beschäf- tigte | H5: ...Teilzeit- beschäf- tigte | I5: ...Auszu- bildende
A6: A-U | B6: Insgesamt 3) 4) | C6: 576795 | D6: 287547 | E6: 289248 | F6: 47285 | G6: 384643 | H6: 192152 | I6: 23420
A7: A | B7: Land- und Forstwirtschaft, Fischerei | C7: 14273 | D7: 10591 | E7: 3682 | F7: 2345 | G7: 12218 | H7: 2055 | I7: 698
A8: B-F | B8: Produzierendes Gewerbe | C8: 116235 | D8: 91483 | E8: 24752 | F8: 9448 | G8: 104000 | H8: 12235 | I8: 5494
A9: B-E | B9: Produzierendes Gewerbe ohne Baugewerbe | C9: 76865 | D9: 56958 | E9: 19907 | F9: 6977 | G9: 68680 | H9: 8185 | I9: 3069
A10: C | B10: Verarbeitendes Gewerbe | C10: 63834 | D10: 46855 | E10: 16979 | F10: 6745 | G10: 56951 | H10: 6883 | I10: 2503
A11: G-U | B11: Dienstleistungsbereiche | C11: 446285 | D11: 185472 | E11: 260813 | F11: 35491 | G11: 268425 | H11: 177860 | I11: 17228
A12: G-I | B12: Handel, Verkehr und Gastgewerbe | C12: 140616 | D12: 75160 | E12: 65456 | F12: 18972 | G12: 90714 | H12: 49902 | I12: 6438
A13: J | B13: Information und Kommunikation | C13: 8772 | D13: 5780 | E13: 2992 | F13: 381 | G13: 6982 | H13: 1790 | I13: 336
A14: K | B14: Finanz- und Versicherungsdienstleister | C14: 8003 | D14: 2993 | E14: 5010 | F14: 144 | G14: 5096 | H14: 2907 | I14: 377
A15: L | B15: Grundstücks- und Wohnungswesen | C15: 7919 | D15: 4075 | E15: 3844 | F15: 483 | G15: 5778 | H15: 2141 | I15: 217
A16: M-N | B16: Freiberufliche, wissenschaftliche, technische Dienstleister; sonstige wirtschaftliche Dienstleister | C16: 65767 | D16: 34176 | E16: 31591 | F16: 6486 | G16: 41849 | H16: 23918 | I16: 1316
A17: O-Q | B17: Öffentliche Verwaltung, Verteidigung, Sozialversicherung; Erziehung und Unterricht; Gesundheits- und Sozial- wesen | C17: 193631 | D17: 54884 | E17: 138747 | F17: 6982 | G17: 105582 | H17: 88049 | I17: 7957
A18: R-U | B18: Kunst, Unterhaltung und Erholung; sonstige Dienstleister; private Haus- halte; Exterritoriale Organisationen | C18: 21577 | D18: 8404 | E18: 13173 | F18: 2043 | G18: 12424 | H18: 9153 | I18: 587
A21: 14.5.2 Sozialversicherungspflichtig Beschäftigte am 30. Juni 2025 nach Wirtschaftsgliederung und Altersgruppen
A22: Nr. der Klas- sifi- kation | B22: Wirtschaftsgliederung | C22: Insgesamt davon im Alter... | D22: …unter 20 | E22: ...20 bis unter 30 | F22: ...30 bis unter 40 | G22: ...40 bis unter 50 | H22: ...50 bis unter 60 | I22: ...60 bis unter 65 | J22: ...65 und mehr
A23: A-U | B23: Insgesamt 3) | C23: 576795 | D23: 15282 | E23: 86084 | F23: 122267 | G23: 141720 | H23: 133517 | I23: 67723 | J23: 10202
A24: A | B24: Land- und Forstwirtschaft, Fischerei | C24: 14273 | D24: 605 | E24: 2649 | F24: 3029 | G24: 2727 | H24: 3129 | I24: 1846 | J24: 288
A25: B-F | B25: Produzierendes Gewerbe | C25: 116235 | D25: 3429 | E25: 15347 | F25: 24110 | G25: 29915 | H25: 28186 | I25: 13706 | J25: 1542
A26: B-E | B26: Produzierendes Gewerbe ohne Baugewerbe | C26: 76865 | D26: 1864 | E26: 9973 | F26: 17104 | G26: 19765 | H26: 18285 | I26: 9008 | J26: 866
A27: C | B27: Verarbeitendes Gewerbe | C27: 63834 | D27: 1535 | E27: 8403 | F27: 14308 | G27: 16609 | H27: 14996 | I27: 7271 | J27: 712
A28: G-U | B28: Dienstleistungsbereiche | C28: 446285 | D28: 11248 | E28: 68086 | F28: 95128 | G28: 109078 | H28: 102202 | I28: 52171 | J28: 8372
A29: G-I | B29: Handel, Verkehr und Gastgewerbe | C29: 140616 | D29: 4436 | E29: 23958 | F29: 28572 | G29: 33387 | H29: 31973 | I29: 15632 | J29: 2658
A30: J | B30: Information und Kommunikation | C30: 8772 | D30: 88 | E30: 1477 | F30: 2456 | G30: 2406 | H30: 1554 | I30: 660 | J30: 131
A31: K | B31: Finanz- und Versicherungsdienstleister | C31: 8003 | D31: 124 | E31: 1233 | F31: 1447 | G31: 1800 | H31: 2352 | I31: 939 | J31: 108
A32: L | B32: Grundstücks- und Wohnungswesen | C32: 7919 | D32: 96 | E32: 831 | F32: 1343 | G32: 2072 | H32: 2222 | I32: 1130 | J32: 225
A33: M-N | B33: Freiberufliche, wissenschaftliche, technische Dienstleister; sonstige wirtschaftliche Dienstleister | C33: 65767 | D33: 902 | E33: 9792 | F33: 15312 | G33: 16784 | H33: 14128 | I33: 7339 | J33: 1510
A34: O-Q | B34: Öffentliche Verwaltung, Verteidigung, Sozialversicherung; Erziehung und Unterricht; Gesundheits- und Sozial- wesen | C34: 193631 | D34: 5137 | E34: 28004 | F34: 41669 | G34: 47080 | H34: 44709 | I34: 23810 | J34: 3222
A35: R-U | B35: Kunst, Unterhaltung und Erholung; sonstige Dienstleister; private Haus- halte; Exterritoriale Organisationen | C35: 21577 | D35: 465 | E35: 2791 | F35: 4329 | G35: 5549 | H35: 5264 | I35: 2661 | J35: 518

Sheet 14.5.3+14.5.4
A1: Link zum Inhaltsverzeichnis
A2: 14.5 Sozialversicherungspflichtig Beschäftigte am Arbeitsort
A3: 14.5.3 Sozialversicherungspflichtig Beschäftigte am 30. Juni 2025 nach Geschlecht, Ausländerinnen und Ausländern, Arbeitszeit,
A4: Auszubildenden und Kreisen
A5: Merkmal | B5: Mecklen- burg-Vor- pommern 4) | C5: Kreisfreie Stadt Rostock | D5: Kreisfreie Stadt Schwerin | E5: Mecklen- burgische Seenplatte | F5: Landkreis Rostock | G5: Vor- pommern- Rügen | H5: Nordwest- mecklen- burg | I5: Vor- pommern- Greifswald | J5: Ludwigs- lust- Parchim
A6: Insgesamt | B6: 576795 | C6: 96862 | D6: 51776 | E6: 89844 | F6: 71242 | G6: 73638 | H6: 45619 | I6: 83277 | J6: 64537
A7: und zwar
A8: männlich | B8: 287547 | C8: 48780 | D8: 23680 | E8: 44980 | F8: 37257 | G8: 35790 | H8: 23795 | I8: 39393 | J8: 33872
A9: weiblich | B9: 289248 | C9: 48082 | D9: 28096 | E9: 44864 | F9: 33985 | G9: 37848 | H9: 21824 | I9: 43884 | J9: 30665
A10: Ausländerinnen und Ausländer | B10: 47285 | C10: 7951 | D10: 3482 | E10: 4950 | F10: 6663 | G10: 6327 | H10: 3233 | I10: 8229 | J10: 6450
A11: Vollzeitbeschäftigte | B11: 384643 | C11: 65753 | D11: 35100 | E11: 58558 | F11: 47209 | G11: 49854 | H11: 30337 | I11: 52606 | J11: 45226
A12: Teilzeitbeschäftigte | B12: 192152 | C12: 31109 | D12: 16676 | E12: 31286 | F12: 24033 | G12: 23784 | H12: 15282 | I12: 30671 | J12: 19311
A13: Auszubildende | B13: 23420 | C13: 3828 | D13: 2224 | E13: 3833 | F13: 2773 | G13: 3263 | H13: 1768 | I13: 3445 | J13: 2286
A15: Grafik 14.7 | L15: Daten der Grafik 14.7 "Sozialversicherungspflichtig Beschäftigte am Arbeitsort am 30. Juni 2025 nach Beschäftigungsarten und Kreisen"
L16: Kreise | M16: Vollzeitbeschäftigte | N16: Teilzeitbeschäftigte
L17: Rostock | M17: =C11 -> 65753 | N17: =C12 -> 31109
L18: Schwerin | M18: =D11 -> 35100 | N18: =D12 -> 16676
L19: Mecklenburgische Seenplatte | M19: =E11 -> 58558 | N19: =E12 -> 31286
L20: Landkreis Rostock | M20: =F11 -> 47209 | N20: =F12 -> 24033
L21: Vorpommern-Rügen | M21: =G11 -> 49854 | N21: =G12 -> 23784
L22: Nordwestmecklenburg | M22: =H11 -> 30337 | N22: =H12 -> 15282
L23: Vorpommern-Greifswald | M23: =I11 -> 52606 | N23: =I12 -> 30671
L24: Ludwigslust-Parchim | M24: =J11 -> 45226 | N24: =J12 -> 19311
A41: 14.5.4 Sozialversicherungspflichtig Beschäftigte am 30. Juni 2025 nach Altersgruppen und Kreisen
A42: Alter | B42: Mecklen- burg-Vor- pommern | C42: Kreisfreie Stadt Rostock | D42: Kreisfreie Stadt Schwerin | E42: Mecklen- burgische Seenplatte | F42: Landkreis Rostock | G42: Vor- pommern- Rügen | H42: Nordwest- mecklen- burg | I42: Vor- pommern- Greifswald | J42: Ludwigs- lust- Parchim
A43: Insgesamt | B43: 576795 | C43: 96862 | D43: 51776 | E43: 89844 | F43: 71242 | G43: 73638 | H43: 45619 | I43: 83277 | J43: 64537
A44: unter 20 | B44: 15282 | C44: 1939 | D44: 1730 | E44: 2499 | F44: 1798 | G44: 2100 | H44: 1263 | I44: 2245 | J44: 1708
A45: 20 bis unter 30 | B45: 86084 | C45: 17176 | D45: 7888 | E45: 12438 | F45: 10610 | G45: 10708 | H45: 6417 | I45: 12341 | J45: 8506
A46: 30 bis unter 40 | B46: 122267 | C46: 23312 | D46: 11208 | E46: 17804 | F46: 14809 | G46: 14625 | H46: 9563 | I46: 17589 | J46: 13357
A47: 40 bis unter 50 | B47: 141720 | C47: 23428 | D47: 12437 | E47: 22176 | F47: 17320 | G47: 18314 | H47: 11255 | I47: 20852 | J47: 15938
A48: 50 bis unter 60 | B48: 133517 | C48: 19728 | D48: 11665 | E48: 21995 | F48: 16704 | G48: 17554 | H48: 10934 | I48: 19057 | J48: 15880
A49: 60 bis unter 65 | B49: 67723 | C49: 9742 | D49: 5858 | E49: 11345 | F49: 8683 | G49: 8942 | H49: 5331 | I49: 9771 | J49: 8051
A50: 65 und mehr | B50: 10202 | C50: 1537 | D50: 990 | E50: 1587 | F50: 1318 | G50: 1395 | H50: 856 | I50: 1422 | J50: 1097

Sheet 14.5.5
A1: Link zum Inhaltsverzeichnis
A2: 14.5 Sozialversicherungspflichtig Beschäftigte am Arbeitsort
A3: 14.5.5 Sozialversicherungspflichtig Beschäftigte am 30. Juni 2025 im Ländervergleich
A4: Land | B4: Sozialversiche- rungspflichtig Beschäftigte insgesamt | C4: Anteil der Männer am Insgesamt in % | D4: Anteil der Frauen am Insgesamt in % | E4: Sozialversicherungs- pflichtig beschäftigte Ausländerinnen und Ausländer | F4: Darunter aus EU-Mitgliedstaaten in %
A5: Deutschland 5) | B5: 34885488 | C5: 53.5 | D5: 46.5 | E5: 5837916 | F5: 43.4
A6: Baden-Württemberg | B6: 4936486 | C6: 54.3 | D6: 45.7 | E6: 994829 | F6: 47.8
A7: Bayern | B7: 5967395 | C7: 53.8 | D7: 46.2 | E7: 1161457 | F7: 49.5
A8: Berlin | B8: 1682946 | C8: 51.4 | D8: 48.6 | E8: 375423 | F8: 32.1
A9: Brandenburg | B9: 883830 | C9: 52.7 | D9: 47.3 | E9: 112927 | F9: 54.3
A10: Bremen | B10: 348167 | C10: 55.9 | D10: 44.1 | E10: 53933 | F10: 34.2
A11: Hamburg | B11: 1084974 | C11: 53.7 | D11: 46.3 | E11: 192525 | F11: 35.4
A12: Hessen | B12: 2769431 | C12: 54.2 | D12: 45.8 | E12: 559447 | F12: 42
A13: Mecklenburg-Vorpommern | B13: 576795 | C13: 49.9 | D13: 50.1 | E13: 47285 | F13: 46.6
A14: Niedersachsen | B14: 3148764 | C14: 53.6 | D14: 46.4 | E14: 422357 | F14: 43.9
A15: Nordrhein-Westfalen | B15: 7350231 | C15: 54 | D15: 46 | E15: 1193812 | F15: 37.4
A16: Rheinland-Pfalz | B16: 1487255 | C16: 53 | D16: 47 | E16: 238263 | F16: 45.9
... A21: Thüringen | B21: 783130 | C21: 52.2 | D21: 47.8 | E21: 78539 | F21: 45.4
A23: Grafik 14.8 | H23: Daten der Grafik 14.8 "Anteil der Ausländerinnen und Ausländer an den sozialversicherungspflichtig Beschäftigten am 30. Juni 2025 im Ländervergleich"
H24: Bundesland | I24: Anteil in %
H25: Baden-Württemberg | I25: =E6*100/B6 -> 20.152574
H26: Bayern | I26: =E7*100/B7 -> 19.463384
H27: Berlin | I27: =E8*100/B8 -> 22.307489
H28: Brandenburg | I28: =E9*100/B9 -> 12.777005
H29: Bremen | I29: =E10*100/B10 -> 15.490555
H30: Hamburg | I30: =E11*100/B11 -> 17.744665
H31: Hessen | I31: =E12*100/B12 -> 20.200792
H32: Mecklenburg-Vorpommern | I32: =E13*100/B13 -> 8.1978866
H33: Niedersachsen | I33: =E14*100/B14 -> 13.413422
H34: Nordrhein-Westfalen | I34: =E15*100/B15 -> 16.24183
H35: Rheinland-Pfalz | I35: =E16*100/B16 -> 16.020319
H36: Saarland | I36: =E17*100/B17 -> 15.775684
... H40: Thüringen | I40: =E21*100/B21 -> 10.028859
H41: Deutschland | I41: =E5*100/B5 -> 16.734511

Sheet 14.6.1+14.6.2
A1: Link zum Inhaltsverzeichnis
A2: 14.6 Sozialversicherungspflichtig Beschäftigte am Wohnort
A3: 14.6.1 Sozialversicherungspflichtig Beschäftigte am 30. Juni 2025 nach Wirtschaftsgliederung, Geschlecht,
A4: Ausländerinnen und Ausländern, Arbeitszeit und Auszubildenden
A5: Nr. der Klas- sifi- kation | B5: Wirtschaftsgliederung | C5: Insgesamt und zwar... | D5: …männ- lich | E5: …weib- lich | F5: ...Auslän- derinnen und Ausländer | G5: ...Vollzeit- beschäf- tigte | H5: ...Teilzeit- beschäf- tigte | I5: ...Auszu- bildende
A6: A-U | B6: Insgesamt 3) 4) | C6: 617369 | D6: 314831 | E6: 302538 | F6: 44346 | G6: 417103 | H6: 200266 | I6: 24325
A7: A | B7: Land- und Forstwirtschaft, Fischerei | C7: 13871 | D7: 10224 | E7: 3647 | F7: 1988 | G7: 11844 | H7: 2027 | I7: 675
A8: B-F | B8: Produzierendes Gewerbe | C8: 127671 | D8: 101691 | E8: 25980 | F8: 8492 | G8: 114677 | H8: 12994 | I8: 5718
A9: B-E | B9: Produzierendes Gewerbe ohne Baugewerbe | C9: 83819 | D9: 62892 | E9: 20927 | F9: 6349 | G9: 75117 | H9: 8702 | I9: 3190
A10: C | B10: Verarbeitendes Gewerbe | C10: 69454 | D10: 51681 | E10: 17773 | F10: 6102 | G10: 62172 | H10: 7282 | I10: 2622
A11: G-U | B11: Dienstleistungsbereiche | C11: 475782 | D11: 202892 | E11: 272890 | F11: 33858 | G11: 290554 | H11: 185228 | I11: 17930
A12: G-I | B12: Handel, Verkehr und Gast- gewerbe | C12: 148943 | D12: 81670 | E12: 67273 | F12: 16575 | G12: 97970 | H12: 50973 | I12: 6617
A13: J | B13: Information und Kommuni- kation | C13: 11786 | D13: 7912 | E13: 3874 | F13: 484 | G13: 9455 | H13: 2331 | I13: 380
A14: K | B14: Finanz- und Versicherungs- dienstleister | C14: 9447 | D14: 3769 | E14: 5678 | F14: 156 | G14: 6193 | H14: 3254 | I14: 424
A15: L | B15: Grundstücks- und Wohnungs- wesen | C15: 8294 | D15: 4305 | E15: 3989 | F15: 385 | G15: 6049 | H15: 2245 | I15: 216
A16: M-N | B16: Freiberufliche, wissenschaft- liche, technische Dienst- leister; sonstige wirtschaft- liche Dienstleister | C16: 75118 | D16: 39937 | E16: 35181 | F16: 7386 | G16: 48759 | H16: 26359 | I16: 1429
A17: O-Q | B17: Öffentliche Verwaltung, Ver- teidigung, Sozialversiche- rung; Erziehung und Unter- richt; Gesundheits- und Sozialwesen | C17: 199508 | D17: 56391 | E17: 143117 | F17: 6888 | G17: 108984 | H17: 90524 | I17: 8247
A18: R-U | B18: Kunst, Unterhaltung und Er- holung; sonstige Dienst- leister; private Haushalte; Exterritoriale Organisationen | C18: 22686 | D18: 8908 | E18: 13778 | F18: 1984 | G18: 13144 | H18: 9542 | I18: 617
A21: 14.6.2 Sozialversicherungspflichtig Beschäftigte am 30. Juni 2025 nach Geschlecht, Ausländerinnen und Ausländern, Arbeitszeit,
A22: Auszubildenden und Kreisen
B23: Merkmal | C23: Mecklen- burg-Vor- pommern 4) | D23: Kreisfreie Stadt Rostock | E23: Kreisfreie Stadt Schwerin | F23: Mecklen- burgische Seen- platte | G23: Landkreis Rostock | H23: Vorpom- mern- Rügen | I23: Nordwest- mecklen- burg | J23: Vorpom- mern- Greifs- wald | K23: Ludwigs- lust- Parchim
A24: Insgesamt | C24: 617369 | D24: 84347 | E24: 36672 | F24: 94756 | G24: 84234 | H24: 83955 | I24: 63320 | J24: 84685 | K24: 85400
A25: und zwar
A26: männlich | C26: 314831 | D26: 43985 | E26: 18609 | F26: 48189 | G26: 42286 | H26: 42022 | I26: 32742 | J26: 42453 | K26: 44545
A27: weiblich | C27: 302538 | D27: 40362 | E27: 18063 | F27: 46567 | G27: 41948 | H27: 41933 | I27: 30578 | J27: 42232 | K27: 40855
A28: Ausländerinnen und Ausländer | C28: 44346 | D28: 8442 | E28: 3452 | F28: 4846 | G28: 5240 | H28: 6293 | I28: 3515 | J28: 5645 | K28: 6913
A29: Vollzeitbeschäftigte | C29: 417103 | D29: 56766 | E29: 25160 | F29: 62569 | G29: 57190 | H29: 57359 | I29: 42884 | J29: 54703 | K29: 60472
A30: Teilzeitbeschäftigte | C30: 200266 | D30: 27581 | E30: 11512 | F30: 32187 | G30: 27044 | H30: 26596 | I30: 20436 | J30: 29982 | K30: 24928
A31: Auszubildende | C31: 24325 | D31: 3344 | E31: 1556 | F31: 3961 | G31: 3087 | H31: 3489 | I31: 2430 | J31: 3508 | K31: 2950

Sheet 14.7.1+14.7.2
A1: Link zum Inhaltsverzeichnis
A2: 14.7 Sozialversicherungspflichtig beschäftigte Berufspendlerinnen und -pendler über die Landesgrenze
A3: 14.7.1 Sozialversicherungspflichtig beschäftigte Berufspendlerinnen und -pendler nach bzw. aus Mecklenburg-Vorpommern
A4: am 30. Juni im Zeitvergleich nach dem Land
A5: Land | B5: Einpendle- rinnen und Einpendler 2023 | C5: Auspendle- rinnen und Auspendler 2023 | D5: Pendler- saldo 2023 | E5: Einpendle- rinnen und Einpendler 2024 | F5: Auspendle- rinnen und Auspendler 2024 | G5: Pendler- saldo 2024 | H5: Einpendle- rinnen und Einpendler 2025 | I5: Auspendle- rinnen und Auspendler 2025 | J5: Pendler- saldo 2025
A6: Insgesamt 6) | B6: 30133 | C6: 76852 | D6: -46719 | E6: 29810 | F6: 77660 | G6: -47850 | H6: 31062 | I6: 77483 | J6: -46421
A7: Baden-Württemberg | B7: 842 | C7: 2284 | D7: -1442 | E7: 832 | F7: 2604 | G7: -1772 | H7: 789 | I7: 2676 | J7: -1887
A8: Bayern | B8: 1063 | C8: 3615 | D8: -2552 | E8: 1097 | F8: 3394 | G8: -2297 | H8: 1098 | I8: 3415 | J8: -2317
A9: Berlin | B9: 2966 | C9: 8617 | D9: -5651 | E9: 2940 | F9: 8798 | G9: -5858 | H9: 3285 | I9: 8907 | J9: -5622
A10: Brandenburg | B10: 7066 | C10: 8491 | D10: -1425 | E10: 6849 | F10: 8499 | G10: -1650 | H10: 6969 | I10: 8517 | J10: -1548
A11: Bremen | B11: 267 | C11: 976 | D11: -709 | E11: 249 | F11: 914 | G11: -665 | H11: 282 | I11: 873 | J11: -591
A12: Hamburg | B12: 1980 | C12: 11509 | D12: -9529 | E12: 1888 | F12: 11669 | G12: -9781 | H12: 2029 | I12: 11582 | J12: -9553
A13: Hessen | B13: 628 | C13: 1871 | D13: -1243 | E13: 633 | F13: 1924 | G13: -1291 | H13: 654 | I13: 2208 | J13: -1554
A14: Niedersachsen | B14: 3641 | C14: 8058 | D14: -4417 | E14: 3537 | F14: 7920 | G14: -4383 | H14: 3631 | I14: 7858 | J14: -4227
A15: Nordrhein-Westfalen | B15: 1887 | C15: 5177 | D15: -3290 | E15: 1943 | F15: 5521 | G15: -3578 | H15: 2151 | I15: 5764 | J15: -3613
A16: Rheinland-Pfalz | B16: 332 | C16: 659 | D16: -327 | E16: 309 | F16: 708 | G16: -399 | H16: 392 | I16: 739 | J16: -347
A17: Saarland | B17: 82 | C17: 113 | D17: -31 | E17: 84 | F17: 125 | G17: -41 | H17: 75 | I17: 134 | J17: -59
... A21: Thüringen | B21: 616 | C21: 902 | D21: -286 | E21: 616 | F21: 963 | G21: -347 | H21: 611 | I21: 949 | J21: -338
A24: 14.7.2 Sozialversicherungspflichtig beschäftigte Berufspendlerinnen und -pendler nach bzw. aus Mecklenburg-Vorpommern
A25: am 30. Juni im Zeitvergleich nach Kreisen
A26: Merkmal | B26: Mecklen- burg-Vor- pom- mern 6) | C26: Kreisfreie Stadt Rostock | D26: Kreisfreie Stadt Schwerin | E26: Mecklen- burgische Seenplatte | F26: Landkreis Rostock | G26: Vor- pommern- Rügen | H26: Nordwest- mecklen- burg | I26: Vor- pommern- Greifswald | J26: Ludwigs- lust- Parchim
A27: 30. Juni 2023
A28: Einpendlerinnen und -pendler | B28: 30133 | C28: 4027 | D28: 2494 | E28: 4388 | F28: 2859 | G28: 2417 | H28: 4283 | I28: 4237 | J28: 5428
A29: Auspendlerinnen und -pendler | B29: 76852 | C29: 7477 | D29: 3937 | E29: 9431 | F29: 7770 | G29: 6997 | H29: 15346 | I29: 8614 | J29: 17280
A30: Pendlersaldo | B30: -46719 | C30: -3450 | D30: -1443 | E30: -5043 | F30: -4911 | G30: -4580 | H30: -11063 | I30: -4377 | J30: -11852
A31: 30. Juni 2024
A32: Einpendlerinnen und -pendler | B32: 29810 | C32: 3986 | D32: 2572 | E32: 4275 | F32: 2901 | G32: 2521 | H32: 4041 | I32: 4473 | J32: 5041
A33: Auspendlerinnen und -pendler | B33: 77660 | C33: 7372 | D33: 4050 | E33: 9463 | F33: 7723 | G33: 7094 | H33: 15643 | I33: 8750 | J33: 17565
A34: Pendlersaldo | B34: -47850 | C34: -3386 | D34: -1478 | E34: -5188 | F34: -4822 | G34: -4573 | H34: -11602 | I34: -4277 | J34: -12524
A35: 30. Juni 2025
A36: Einpendlerinnen und -pendler | B36: 31062 | C36: 4384 | D36: 2655 | E36: 4428 | F36: 3165 | G36: 2562 | H36: 4115 | I36: 4432 | J36: 5321
A37: Auspendlerinnen und -pendler | B37: 77483 | C37: 7589 | D37: 4085 | E37: 9719 | F37: 7871 | G37: 7207 | H37: 15464 | I37: 8823 | J37: 16725
A38: Pendlersaldo | B38: -46421 | C38: -3205 | D38: -1430 | E38: -5291 | F38: -4706 | G38: -4645 | H38: -11349 | I38: -4391 | J38: -11404

Sheet 14.8.1
A1: Link zum Inhaltsverzeichnis
A2: 14.8 Arbeitslose und Arbeitslosenquote
