Workbook
Name _GrafikDaten_13.1: Titelblatt!$C$20:$D$30
Name _GrafikDaten_13.10: '13.4.1'!$I$29:$K$38
Name _GrafikDaten_13.11: '13.4.4'!$J$23:$K$41
Name _GrafikDaten_13.2: 'Überblick in Grafiken'!$C$3:$D$21
Name _GrafikDaten_13.3: 'Überblick in Grafiken'!$C$42:$E$50
Name _GrafikDaten_13.4: '13.1.4'!$G$23:$H$40
Name _GrafikDaten_13.5: '13.2.1'!$H$39:$J$47
Name _GrafikDaten_13.6: '13.2.3'!$K$23:$M$41
Name _GrafikDaten_13.7: '13.3.3'!$J$25:$L$52
Name _GrafikDaten_13.8: '13.3.4'!$H$23:$I$41
Name _GrafikDaten_13.9: '13.3.5'!$G$23:$H$41
Name _Tabelle_13.1.1: '13.1.1'!$A$3:$H$40
Name _Tabelle_13.1.2: '13.1.2'!$A$3:$J$27
Name _Tabelle_13.1.3: '13.1.3'!$A$3:$J$27
Name _Tabelle_13.1.4: '13.1.4'!$A$3:$E$21
Name _Tabelle_13.2.1: '13.2.1'!$A$3:$F$36
Name _Tabelle_13.2.2: '13.2.2'!$A$3:$J$46
Name _Tabelle_13.2.3: '13.2.3'!$A$3:$I$21
Name _Tabelle_13.3.1: '13.3.1+13.3.2'!$A$3:$I$14
Name _Tabelle_13.3.2: '13.3.1+13.3.2'!$A$16:$F$47
Name _Tabelle_13.3.3: '13.3.3'!$A$3:$H$23
Name _Tabelle_13.3.4: '13.3.4'!$A$3:$F$21
Name _Tabelle_13.3.5: '13.3.5'!$A$3:$E$21
Name _Tabelle_13.4.1: '13.4.1'!$A$3:$G$28
Name _Tabelle_13.4.2: '13.4.2'!$A$3:$F$46
Name _Tabelle_13.4.3: '13.4.3'!$A$3:$G$56
Name _Tabelle_13.4.4: '13.4.4'!$A$3:$H$21
Name _Tabelle_13.4.5: '13.4.5'!$A$3:$F$42
Name _Tabelle_13.4.6: '13.4.6'!$A$3:$F$33

Sheet Titelblatt
A1: Titelblatt des Kapitels 13 "Unternehmen und Handwerk": Link zum Inhaltsverzeichnis
A2: 13 | Unternehmen und Handwerk
A20: Grafik 13.1 | C20: Daten der Grafik 13.1 "Anteil der im Gesundheits- und Sozialwesen aktiven Niederlassungen an allen Niederlassungen von rechtlichen Einheiten 2024 nach Kreisen"
C21: Kreisfreie Stadt/Landkreis | D21: Anteil in %
C22: Rostock | D22: ='13.1.3'!C25*100/'13.1.3'!C5 -> 11.574425
C23: Schwerin | D23: ='13.1.3'!D25*100/'13.1.3'!D5 -> 10.813374
C24: Mecklenburgische Seenplatte | D24: ='13.1.3'!E25*100/'13.1.3'!E5 -> 10.340162
C25: Landkreis Rostock | D25: =Tabelle_13.1.3[[#This Row],[Landkreis Rostock]]*100/'13.1.3'!F5 -> 7.7634195
C26: Vorpommern-Rügen | D26: ='13.1.3'!G25*100/'13.1.3'!G5 -> 8.6780658
C27: Nordwestmecklenburg | D27: ='13.1.3'!H25*100/'13.1.3'!H5 -> 8.1639187
C28: Vorpommern-Greifswald | D28: ='13.1.3'!I25*100/'13.1.3'!I5 -> 9.9803496
C29: Ludwigslust-Parchim | D29: ='13.1.3'!J25*100/'13.1.3'!J5 -> 8.6232239
C30: Mecklenburg-Vorpommern | D30: ='13.1.3'!B25*100/'13.1.3'!B5 -> 9.4018993

Sheet Inhalt
A1: Inhaltsverzeichnis des Kapitels 13 "Unternehmen und Handwerk": Die Gliederungen und Überschriften auf dieser Seite sind Links zum Inhalt.
A2: Inhaltsverzeichnis | C2: Seite
A3: Überblick | B3: Überblick in Grafiken | C3: =D3+326 -> 329 | D3: 3
B4: Überblick in Worten | C4: =D4+326 -> 330 | D4: 4
A5: Ergebnisse in Tabellen
A6: 13.1 | B6: Rechtliche Einheiten und Niederlassungen
A7: 13.1.1 | B7: Rechtliche Einheiten und Niederlassungen 2024 nach Wirtschaftsgliederung und Beschäftigtengrößenklassen | C7: =D7+326 -> 331 | D7: 5
A8: 13.1.2 | B8: Rechtliche Einheiten 2024 nach Beschäftigtengrößenklassen und Wirtschaftsgliederung sowie Kreisen | C8: =D8+326 -> 332 | D8: 6
A9: 13.1.3 | B9: Niederlassungen 2024 nach Beschäftigtengrößenklassen und Wirtschaftsgliederung sowie Kreisen | C9: =D9+326 -> 333 | D9: 7
A10: 13.1.4 | B10: Rechtliche Einheiten 2024 im Ländervergleich | C10: =D10+326 -> 334 | D10: 8
A11: 13.2 | B11: Gewerbeanzeigen
A12: 13.2.1 | B12: Gewerbeanmeldungen und -abmeldungen im Zeitvergleich sowie 2025 nach Wirtschaftsgliederung | C12: =D12+326 -> 335 | D12: 9
A13: 13.2.2 | B13: Gewerbeanmeldungen und -abmeldungen nach Kreisen im Zeitvergleich sowie 2025 nach Wirtschaftsgliederung | C13: =D13+326 -> 336 | D13: 10
A14: 13.2.3 | B14: Gewerbeanmeldungen und -abmeldungen 2025 im Ländervergleich | C14: =D14+326 -> 337 | D14: 11
A15: 13.3 | B15: Insolvenzen
A16: 13.3.1 | B16: Insolvenzverfahren im Zeitvergleich | C16: =D16+326 -> 338 | D16: 12
A17: 13.3.2 | B17: Insolvenzverfahren 2024 und 2025 nach Kreisen | C17: =D17+326 -> 338 | D17: 12
A18: 13.3.3 | B18: Unternehmensinsolvenzen 2024 und 2025 nach Wirtschaftsgliederung | C18: =D18+326 -> 339 | D18: 13
A19: 13.3.4 | B19: Unternehmensinsolvenzen 2025 im Ländervergleich | C19: =D19+326 -> 340 | D19: 14
A20: 13.3.5 | B20: Verbraucherinsolvenzen 2025 im Ländervergleich | C20: =D20+326 -> 341 | D20: 15
A21: 13.4 | B21: Handwerk
A22: 13.4.1 | B22: Handwerksunternehmen, tätige Personen im Jahresdurchschnitt und Umsatz 2024 nach Gewerbegruppen | C22: =D22+326 -> 342 | D22: 16
A23: 13.4.2 | B23: Zulassungspflichtige Handwerksunternehmen, tätige Personen im Jahresdurchschnitt und Umsatz 2024 nach Handwerkskammerbezirken | C23: =D23+326 -> 343 | D23: 17
A24: 13.4.3 | B24: Zulassungspflichtige Handwerksunternehmen, tätige Personen im Jahresdurchschnitt und Umsatz 2024 nach Gewerbegruppen und Gewerbezweigen | C24: =D24+326 -> 344 | D24: 18
A25: 13.4.4 | B25: Handwerksunternehmen, tätige Personen im Jahresdurchschnitt und Umsatz 2024 im Ländervergleich | C25: =D25+326 -> 345 | D25: 19
A26: 13.4.5 | B26: Messzahlen Beschäftigte und Umsatz in zulassungspflichtigen Handwerksunternehmen 2024 und 2025 nach ausgewählten Gewerbezweigen | C26: =D26+326 -> 346 | D26: 20
A27: 13.4.6 | B27: Messzahlen Beschäftigte und Umsatz in zulassungspflichtigen Handwerksunternehmen 2024 und 2025 nach Wirtschaftsgliederung | C27: =D27+326 -> 347 | D27: 21
A28: Ergebnisse in Grafiken
A29: 13.1 | B29: Anteil der im Gesundheits- und Sozialwesen aktiven Niederlassungen an allen Niederlassungen von rechtlichen Einheiten 2024 nach Kreisen | C29: =D29+326 -> 327 | D29: 1
A30: 13.2 | B30: Struktur der abhängig Beschäftigten in aktiven Niederlassungen sowie in rechtlichen Einheiten mit nur einer Niederlassung in Mecklenburg-Vorpommern 2024 nach ausgewählten Wirtschaftsabschnitten | C30: =D30+326 -> 329 | D30: 3
A31: 13.3 | B31: Gewerbeanzeigen 2025 nach Wirtschaftsgliederung | C31: =D31+326 -> 329 | D31: 3
A32: 13.4 | B32: Anteil der in den Ländern aktiven rechtlichen Einheiten an der Gesamtzahl in Deutschland 2024 | C32: =D32+326 -> 334 | D32: 8
A33: 13.5 | B33: Neuerrichtungen 2025 nach Wirtschaftsgliederung | C33: =D33+326 -> 335 | D33: 9
A34: 13.6 | B34: Gewerbeanzeigen 2025 im Ländervergleich | C34: =D34+326 -> 337 | D34: 11
A35: 13.7 | B35: Unternehmens- und Verbraucherinsolvenzen im Zeitvergleich | C35: =D35+326 -> 339 | D35: 13
A36: 13.8 | B36: Unternehmensinsolvenzen 2025 im Ländervergleich | C36: =D36+326 -> 340 | D36: 14
A37: 13.9 | B37: Verbraucherinsolvenzen 2025 im Ländervergleich | C37: =D37+326 -> 341 | D37: 15
A38: 13.10 | B38: Tätige Personen im Jahresdurchschnitt und Umsatz 2024 in Handwerksunternehmen des zulassungspflichtigen Handwerks nach Gewerbegruppen | C38: =D38+326 -> 342 | D38: 16
A39: 13.11 | B39: Umsatz je tätige Person in Handwerksunternehmen 2024 im Ländervergleich | C39: =D39+326 -> 345 | D39: 19
A40: Erläuterungen
A41: Fußnotenerläuterungen | C41: =D41+326 -> 348 | D41: 22
A42: Methodik | C42: =D42+326 -> 349 | D42: 23
A43: Glossar | C43: =D43+326 -> 351 | D43: 25
A44: Mehr zum Thema | C44: =D44+326 -> 352 | D44: 26

Sheet Überblick in Grafiken
A1: Link zum Inhaltsverzeichnis
A2: Überblick in Grafiken
A3: Grafik 13.2 | C3: Daten der Grafik 13.2 "Struktur der abhängig Beschäftigten in aktiven Niederlassungen sowie in rechtlichen Einheiten mit nur einer Niederlassung 2024 nach ausgewählten Wirtschaftsabschnitten": 67.497 aktive Niederlassungen mit 608.780 abhängig Beschäftigten, davon sind beschäftigt im Bereich …
C4: Wirtschaftsgliederung | D4: Anteil in %
C5: B Bergbau und Gewinnung von Steinen und Erden | D5: ='13.1.1'!H24*100/'13.1.1'!$H$23 -> 0.090393888
C6: C Verarbeitendes Gewerbe | D6: ='13.1.1'!H25*100/'13.1.1'!$H$23 -> 11.735896
C7: D Energieversorgung | D7: ='13.1.1'!H26*100/'13.1.1'!$H$23 -> 0.98526545
C8: E Wasserversorgung; Abwasser- und Abfallentsorgung und Beseitigung von Umweltverschmutzungen | D8: ='13.1.1'!H27*100/'13.1.1'!$H$23 -> 1.2575148
C9: F Baugewerbe | D9: ='13.1.1'!H28*100/'13.1.1'!$H$23 -> 6.9589003
C10: G Handel; Instandhaltung und Reparatur von Kraftfahr- zeugen | D10: ='13.1.1'!H29*100/'13.1.1'!$H$23 -> 14.607015
C11: H Verkehr und Lagerei | D11: ='13.1.1'!H30*100/'13.1.1'!$H$23 -> 6.4544981
C12: I Gastgewerbe | D12: ='13.1.1'!H31*100/'13.1.1'!$H$23 -> 8.2726259
C13: J Information und Kommunikation | D13: ='13.1.1'!H32*100/'13.1.1'!$H$23 -> 1.6415287
C14: K Erbringung von Finanz- und Versicherungsdienst- leistungen | D14: ='13.1.1'!H33*100/'13.1.1'!$H$23 -> 1.3652056
C15: L Grundstücks- und Wohnungswesen | D15: ='13.1.1'!H34*100/'13.1.1'!$H$23 -> 1.5956008
C16: M Erbringung von freiberuflichen, wissenschaftlichen und technischen Dienstleistungen | D16: ='13.1.1'!H35*100/'13.1.1'!$H$23 -> 4.470317
... C21: S Erbringung von sonstigen Dienstleistungen | D21: ='13.1.1'!H40*100/'13.1.1'!$H$23 -> 2.7961656
A42: Grafik 13.3 | C42: Daten der Grafik 13.3 "Gewerbeanzeigen 2025 nach Wirtschaftsgliederung"
C43: Wirtschaftsgliederung | D43: Gewerbeanmeldungen | E43: Gewerbeabmeldungen
C44: Verarbeitendes Gewerbe | D44: ='13.2.1'!C21*100/'13.2.1'!C18 -> 4.3631638 | E44: ='13.2.1'!E21*100/'13.2.1'!E18 -> 4.2021166
C45: Baugewerbe | D45: ='13.2.1'!C24*100/'13.2.1'!C18 -> 7.0181953 | E45: ='13.2.1'!E24*100/'13.2.1'!E18 -> 11.465034
C46: Handel; Instandhaltung und Reparatur von Kraftfahrzeugen | D46: ='13.2.1'!C25*100/'13.2.1'!C18 -> 21.778685 | E46: ='13.2.1'!E25*100/'13.2.1'!E18 -> 23.604482
C47: Gastgewerbe | D47: ='13.2.1'!C27*100/'13.2.1'!C18 -> 8.3921277 | E47: ='13.2.1'!E27*100/'13.2.1'!E18 -> 10.064329
C48: Freiberufliche, wissenschaftliche und technische Dienstleistungen | D48: ='13.2.1'!C31*100/'13.2.1'!C18 -> 8.2900111 | E48: ='13.2.1'!E31*100/'13.2.1'!E18 -> 6.8271426
C49: Sonstige wirtschaftliche Dienstleistungen | D49: ='13.2.1'!C32*100/'13.2.1'!C18 -> 15.948756 | E49: ='13.2.1'!E32*100/'13.2.1'!E18 -> 13.955177
C50: Sonstiges | D50: =('13.2.1'!C19+'13.2.1'!C20+'13.2.1'!C22+'13.2.1'!C23+'13.2.1'!C26+'13.2.1'!C28+'13.2.1'!C29+'13.2.1'!C30+'13.2.1'!C33+'13.2.1'!C34+'13.2.1'!C35+'13.2.1'!C36)*100/'13.2.1'!C18 -> 34.209061 | E50: =('13.2.1'!E19+'13.2.1'!E20+'13.2.1'!E22+'13.2.1'!E23+'13.2.1'!E26+'13.2.1'!E28+'13.2.1'!E29+'13.2.1'!E30+'13.2.1'!E33+'13.2.1'!E34+'13.2.1'!E35+'13.2.1'!E36)*100/'13.2.1'!E18 -> 29.881718

Sheet Überblick in Worten
A1: Link zum Inhaltsverzeichnis
A2: Überblick in Worten
A3: § | B3: Im Jahr 2024 waren in der Wirtschaft des Landes (ohne Landwirtschaft und öffentliche Verwaltung, Verteidigung; Sozial- versicherungen) 59.116 rechtliche Einheiten mit insgesamt 514.073 abhängig Beschäftigten aktiv tätig, darunter 86,2 Pro- zent mit weniger als 10 bzw. nur 0,4 Prozent mit 250 und mehr abhängig Beschäftigten.
A4: § | B4: 15,5 Prozent aller wirtschaftlich aktiven rechtlichen Einheiten waren im Baugewerbe tätig, weitere 14,6 Prozent im Bereich Handel einschließlich Instandhaltung und Reparatur von Kraftfahrzeugen.
A5: § | B5: Das Verarbeitende Gewerbe hatte einen Anteil von 5,3 Prozent an den wirtschaftlich aktiven rechtlichen Einheiten im Land. Von diesen 3.130 rechtlichen Einheiten hatten 1,5 Prozent 250 und mehr abhängig Beschäftigte. Mit 70,8 Prozent waren aber auch hier der überwiegende Teil rechtliche Einheiten mit weniger als 10 abhängig Beschäftigten.
A6: § | B6: Im Gastgewerbe waren 10,7 Prozent aller rechtlichen Einheiten wirtschaftlich tätig. Auch dort dominierten die Kleinst- einheiten mit 82,7 Prozent. Mit 26,2 Prozent waren von den im Gastgewerbe tätigen rechtlichen Einheiten die meisten im Landkreis Vorpommern-Rügen aktiv.
A7: § | B7: In der Wirtschaft des Landes (ohne Landwirtschaft und öffentliche Verwaltung, Verteidigung; Sozialversicherungen) waren 2024 insgesamt 67.497 Niederlassungen mit insgesamt 608.780 abhängig Beschäftigten wirtschaftlich aktiv, davon 83,2 Pro- zent mit weniger als 10 bzw. 0,3 Prozent mit 250 und mehr abhängig Beschäftigten.
A8: § | B8: Im Jahr 2025 stieg die Anzahl der Gewerbeanmeldungen leicht, gleichzeitig sank die Anzahl der Gewerbeabmeldungen. Insgesamt wurden im Land 10.772 Gewerbe angemeldet, 2,8 Prozent mehr als im Vorjahr. Gleichzeitig wurden 9.638 Ge- werbe abgemeldet. Das ist ein Rückgang um 2,8 Prozent gegenüber dem Jahr 2024.
A9: § | B9: Bei den Amtsgerichten in Mecklenburg-Vorpommern wurden 2025 insgesamt 2.211 Insolvenzverfahren beantragt, 10,0 Prozent weniger als im Vorjahr. Darunter wurden 2.125 Verfahren eröffnet, 73 Anträge mangels Masse abgewiesen und weitere 13 Anträge über einen Schuldenbereinigungsplan geregelt. In 12,4 Prozent aller Insolvenzverfahren waren Unternehmen betroffen. Von den übrigen Schuldnerinnen und Schuldnern wiederum waren 78,5 Prozent Verbraucherinnen und Verbraucher. Die Anzahl der Unternehmensinsolvenzen blieb mit 275 Verfahren (+2 Verfahren bzw. +0,7 Prozent) nahezu auf Vorjahresniveau. Einen deutlichen Rückgang gab es mit 14,9 Prozent bei den Verbraucherinsolvenzen.
A10: § | B10: Bei 225 der 275 insolventen Unternehmen konnte ein Insolvenzverfahren eröffnet werden, deren voraussichtlichen Forderungen mit einem Wert von 324,6 Millionen EUR veranschlagt wurden.
A11: § | B11: Von den insgesamt 1.520 Verbraucherinsolvenzen wurden 1.507 Verfahren eröffnet. Hier beliefen sich die voraussicht- lichen Forderungen auf 61,8 Millionen EUR.
A12: § | B12: Regional betrachtet wurden 2025 die meisten Insolvenzen im Landkreis Mecklenburgische Seenplatte (567 Insolvenzen), gefolgt von den Landkreisen Rostock (323 Insolvenzen) und Rostock Stadt (299 Insolvenzen) angemeldet. Bis auf den Landkreis Mecklenburgische-Seenplatte (+10,7 Prozent), konnten alle Landkreise einen Rückgang der Insolvenzen ver- zeichnen.
A13: § | B13: Im Jahr 2024 waren in den insgesamt 11.943 Handwerksunternehmen 92.763 Personen tätig. Insgesamt 6.565 Handwerks- unternehmen (55,0 Prozent) waren schwerpunktmäßig im Baugewerbe tätig; die Mehrzahl im Ausbaugewerbe (4.518 Handwerksunternehmen). In den baugewerblichen Handwerksunternehmen arbeiteten 2024 insgesamt 43.166 Personen. Das entsprach 46,5 Prozent aller handwerklich Tätigen.
A14: § | B14: Die Handwerksunternehmen Mecklenburg-Vorpommerns erwirtschafteten 2024 Umsätze in Höhe von 10,6 Milliarden EUR. Das entsprach 1,4 Prozent des 2024 in Deutschland insgesamt erzielten handwerklichen Umsatzes.
A15: § | B15: Die in den zulassungspflichtigen Handwerksunternehmen Mecklenburg-Vorpommerns 2024 am häufigsten ausgeübten Berufe waren Kraftfahrzeugtechniker/in (10.357), Elektrotechniker/in (8.497), Maurer/in und Betonbauer/in (6.794), Installateur/in und Heizungsbauer/in (6.738), Bäcker/in (5.759), Metallbauer/in (5.566), Maler/in und Lackierer/in (4.240) sowie Friseur/in (3.938).

Sheet 13.1.1
A1: Link zum Inhaltsverzeichnis
A2: 13.1 Rechtliche Einheiten und Niederlassungen 1)
A3: 13.1.1 Rechtliche Einheiten und Niederlassungen 2024 nach Wirtschaftsgliederung und Beschäftigtengrößenklassen
A4: Nr. der Klassi- fikation | B4: Wirtschaftsgliederung | C4: Aktive rechtliche Einheiten und Nieder- lassun- gen 2) 3) ins- gesamt | D4: Davon mit 0 bis unter 10 abhän- gig Be- schäftig- ten | E4: 10 bis unter 50 | F4: 50 bis unter 250 | G4: 250 und mehr | H4: Darin abhängig Beschäftigte (vom Ins- gesamt)
A5: B-N, P-S | B5: Rechtliche Einheiten | C5: 59116 | D5: 50969 | E5: 6643 | F5: 1255 | G5: 249 | H5: 514072.7
A6: B | B6: Bergbau und Gewinnung von Steinen und Erden | C6: 37 | D6: 24 | E6: 11 | F6: 2 | G6: - | H6: 516.6
A7: C | B7: Verarbeitendes Gewerbe | C7: 3130 | D7: 2217 | E7: 672 | F7: 195 | G7: 46 | H7: 61803.4
A8: D | B8: Energieversorgung | C8: 1287 | D8: 1230 | E8: 38 | F8: 15 | G8: 4 | H8: 5035.1
A9: E | B9: Wasserversorgung; Abwasser- und Abfallentsorgung und Beseitigung von Umweltverschmutzungen | C9: 217 | D9: 129 | E9: 50 | F9: 33 | G9: 5 | H9: 7341.7
A10: F | B10: Baugewerbe | C10: 9188 | D10: 8153 | E10: 960 | F10: 74 | G10: 1 | H10: 40303
A11: G | B11: Handel; Instandhaltung und Reparatur von Kraftfahr- zeugen | C11: 8613 | D11: 7419 | E11: 1049 | F11: 135 | G11: 10 | H11: 62664.9
A12: H | B12: Verkehr und Lagerei | C12: 1922 | D12: 1405 | E12: 410 | F12: 95 | G12: 12 | H12: 29018.7
A13: I | B13: Gastgewerbe | C13: 6297 | D13: 5205 | E13: 954 | F13: 128 | G13: 10 | H13: 47005.2
A14: J | B14: Information und Kommunikation | C14: 1227 | D14: 1105 | E14: 91 | F14: 28 | G14: 3 | H14: 7885.4
A15: K | B15: Erbringung von Finanz- und Versicherungsdienst- leistungen | C15: 1264 | D15: 1228 | E15: 21 | F15: 10 | G15: 5 | H15: 6212.9
A16: L | B16: Grundstücks- und Wohnungswesen | C16: 2775 | D16: 2591 | E16: 162 | F16: 21 | G16: 1 | H16: 9297.6
A17: M | B17: Erbringung von freiberuflichen, wissenschaftlichen und technischen Dienstleistungen | C17: 6437 | D17: 5973 | E17: 414 | F17: 44 | G17: 6 | H17: 23635
A18: N | B18: Erbringung von sonstigen wirtschaftlichen Dienst- leistungen | C18: 4718 | D18: 4066 | E18: 487 | F18: 134 | G18: 31 | H18: 42542.2
... A23: B-N, P-S | B23: Niederlassungen | C23: 67497 | D23: 56140 | E23: 9285 | F23: 1836 | G23: 236 | H23: 608780.1
A24: B | B24: Bergbau und Gewinnung von Steinen und Erden | C24: 48 | D24: 31 | E24: 15 | F24: 2 | G24: - | H24: 550.3
A25: C | B25: Verarbeitendes Gewerbe | C25: 3413 | D25: 2363 | E25: 766 | F25: 235 | G25: 49 | H25: 71445.8
A26: D | B26: Energieversorgung | C26: 1376 | D26: 1300 | E26: 55 | F26: 17 | G26: 4 | H26: 5998.1
A27: E | B27: Wasserversorgung; Abwasser- und Abfallentsorgung und Beseitigung von Umweltverschmutzungen | C27: 281 | D27: 159 | E27: 79 | F27: 41 | G27: 2 | H27: 7655.5
A28: F | B28: Baugewerbe | C28: 9383 | D28: 8297 | E28: 1004 | F28: 81 | G28: 1 | H28: 42364.4
A29: G | B29: Handel; Instandhaltung und Reparatur von Kraftfahr- zeugen | C29: 11599 | D29: 9320 | E29: 2027 | F29: 240 | G29: 12 | H29: 88924.6
A30: H | B30: Verkehr und Lagerei | C30: 2288 | D30: 1582 | E30: 543 | F30: 143 | G30: 20 | H30: 39293.7
A31: I | B31: Gastgewerbe | C31: 6847 | D31: 5582 | E31: 1112 | F31: 148 | G31: 5 | H31: 50362.1
A32: J | B32: Information und Kommunikation | C32: 1433 | D32: 1250 | E32: 145 | F32: 34 | G32: 4 | H32: 9993.3
A33: K | B33: Erbringung von Finanz- und Versicherungsdienst- leistungen | C33: 1508 | D33: 1399 | E33: 80 | F33: 26 | G33: 3 | H33: 8311.1
A34: L | B34: Grundstücks- und Wohnungswesen | C34: 2919 | D34: 2720 | E34: 177 | F34: 21 | G34: 1 | H34: 9713.7
A35: M | B35: Erbringung von freiberuflichen, wissenschaftlichen und technischen Dienstleistungen | C35: 7019 | D35: 6436 | E35: 522 | F35: 54 | G35: 7 | H35: 27214.4
A36: N | B36: Erbringung von sonstigen wirtschaftlichen Dienst- leistungen | C36: 5238 | D36: 4351 | E36: 641 | F36: 214 | G36: 32 | H36: 55718.9
... A40: S | B40: Erbringung von sonstigen Dienstleistungen | C40: 4248 | D40: 3962 | E40: 243 | F40: 42 | G40: 1 | H40: 17022.5

Sheet 13.1.2
A1: Link zum Inhaltsverzeichnis
A2: 13.1 Rechtliche Einheiten und Niederlassungen 1)
A3: 13.1.2 Rechtliche Einheiten 2024 nach Beschäftigtengrößenklassen und Wirtschaftsgliederung sowie Kreisen
A4: Beschäftigtengrößenklassen Wirtschaftsgliederung | B4: Mecklen- burg-Vor- pommern | C4: Kreisfreie Stadt Rostock | D4: Kreisfreie Stadt Schwerin | E4: Mecklen- burgische Seenplatte | F4: Landkreis Rostock | G4: Vor- pommern- Rügen | H4: Nordwest- mecklen- burg | I4: Vor- pommern- Greifswald | J4: Ludwigs- lust- Parchim
A5: Aktive rechtliche Einheiten (B-N, P-S) 2) | B5: 59116 | C5: 7000 | D5: 3574 | E5: 8948 | F5: 8937 | G5: 9486 | H5: 5535 | I5: 8402 | J5: 7234
A6: davon mit … bis unter … abhängig Beschäftigten
A7: 0 bis unter 10 | B7: 50969 | C7: 5850 | D7: 2989 | E7: 7661 | F7: 7770 | G7: 8318 | H7: 4799 | I7: 7266 | J7: 6316
A8: 10 bis unter 50 | B8: 6643 | C8: 882 | D8: 444 | E8: 1045 | F8: 985 | G8: 998 | H8: 610 | I8: 925 | J8: 754
A9: 50 bis unter 250 | B9: 1255 | C9: 213 | D9: 108 | E9: 212 | F9: 157 | G9: 148 | H9: 111 | I9: 171 | J9: 135
A10: 250 und mehr | B10: 249 | C10: 55 | D10: 33 | E10: 30 | F10: 25 | G10: 22 | H10: 15 | I10: 40 | J10: 29
A11: Bergbau und Gewinnung von Steinen und Erden | B11: 37 | C11: 1 | D11: - | E11: 7 | F11: 4 | G11: 5 | H11: 4 | I11: 9 | J11: 7
A12: Verarbeitendes Gewerbe | B12: 3130 | C12: 278 | D12: 162 | E12: 503 | F12: 500 | G12: 413 | H12: 358 | I12: 410 | J12: 506
A13: Energieversorgung | B13: 1287 | C13: 66 | D13: 44 | E13: 199 | F13: 415 | G13: 172 | H13: 82 | I13: 138 | J13: 171
A14: Wasserversorgung; Abwasser- und Abfallentsorgung und Beseitigung von Umwelt- verschmutzungen | B14: 217 | C14: 13 | D14: 12 | E14: 34 | F14: 32 | G14: 26 | H14: 26 | I14: 36 | J14: 38
A15: Baugewerbe | B15: 9188 | C15: 608 | D15: 434 | E15: 1401 | F15: 1584 | G15: 1319 | H15: 1050 | I15: 1195 | J15: 1597
A16: Handel; Instandhaltung und Re- paratur von Kraftfahrzeugen | B16: 8613 | C16: 920 | D16: 493 | E16: 1363 | F16: 1259 | G16: 1371 | H16: 765 | I16: 1321 | J16: 1121
A17: Verkehr und Lagerei | B17: 1922 | C17: 231 | D17: 81 | E17: 325 | F17: 330 | G17: 241 | H17: 176 | I17: 282 | J17: 256
A18: Gastgewerbe | B18: 6297 | C18: 580 | D18: 248 | E18: 900 | F18: 782 | G18: 1652 | H18: 521 | I18: 1126 | J18: 488
A19: Information und Kommuni- kation | B19: 1227 | C19: 261 | D19: 113 | E19: 139 | F19: 176 | G19: 165 | H19: 126 | I19: 128 | J19: 119
A20: Erbringung von Finanz- und Ver- sicherungsdienstleistungen | B20: 1264 | C20: 209 | D20: 110 | E20: 194 | F20: 157 | G20: 155 | H20: 94 | I20: 198 | J20: 147
A21: Grundstücks- und Wohnungs- wesen | B21: 2775 | C21: 374 | D21: 184 | E21: 394 | F21: 436 | G21: 527 | H21: 224 | I21: 344 | J21: 292
A22: Erbringung von freiberuflichen, wissenschaftlichen und tech- nischen Dienstleistungen | B22: 6437 | C22: 1157 | D22: 544 | E22: 915 | F22: 992 | G22: 806 | H22: 601 | I22: 762 | J22: 660
A23: Erbringung von sonstigen wirt- schaftlichen Dienstleistungen | B23: 4718 | C23: 447 | D23: 211 | E23: 679 | F23: 751 | G23: 870 | H23: 441 | I23: 736 | J23: 583
... A27: Erbringung von sonstigen Dienstleistungen | B27: 3799 | C27: 577 | D27: 317 | E27: 571 | F27: 495 | G27: 553 | H27: 360 | I27: 535 | J27: 391

Sheet 13.1.3
A1: Link zum Inhaltsverzeichnis
A2: 13.1 Rechtliche Einheiten und Niederlassungen 1)
A3: 13.1.3 Niederlassungen 2024 nach Beschäftigtengrößenklassen und Wirtschaftsgliederung sowie Kreisen
A4: Beschäftigtengrößenklassen Wirtschaftsgliederung | B4: Mecklen- burg-Vor- pommern | C4: Kreisfreie Stadt Rostock | D4: Kreisfreie Stadt Schwerin | E4: Mecklen- burgische Seenplatte | F4: Landkreis Rostock | G4: Vor- pommern- Rügen | H4: Nordwest- mecklen- burg | I4: Vor- pommern- Greifswald | J4: Ludwigs- lust- Parchim
A5: Aktive Niederlassungen (B-N, P-S) 3) | B5: 67497 | C5: 7914 | D5: 4217 | E5: 10348 | F5: 10060 | G5: 10878 | H5: 6247 | I5: 9669 | J5: 8164
A6: davon mit … bis unter … abhängig Beschäftigten
A7: 0 bis unter 10 | B7: 56140 | C7: 6378 | D7: 3378 | E7: 8502 | F7: 8466 | G7: 9217 | H7: 5258 | I7: 8078 | J7: 6863
A8: 10 bis unter 50 | B8: 9285 | C8: 1172 | D8: 633 | E8: 1503 | F8: 1358 | G8: 1408 | H8: 815 | I8: 1312 | J8: 1084
A9: 50 bis unter 250 | B9: 1836 | C9: 297 | D9: 174 | E9: 319 | F9: 215 | G9: 239 | H9: 160 | I9: 244 | J9: 188
A10: 250 und mehr | B10: 236 | C10: 67 | D10: 32 | E10: 24 | F10: 21 | G10: 14 | H10: 14 | I10: 35 | J10: 29
A11: Bergbau und Gewinnung von Steinen und Erden | B11: 48 | C11: 1 | D11: - | E11: 8 | F11: 5 | G11: 7 | H11: 9 | I11: 10 | J11: 8
A12: Verarbeitendes Gewerbe | B12: 3413 | C12: 314 | D12: 177 | E12: 562 | F12: 543 | G12: 436 | H12: 390 | I12: 436 | J12: 555
A13: Energieversorgung | B13: 1376 | C13: 76 | D13: 50 | E13: 213 | F13: 426 | G13: 191 | H13: 89 | I13: 154 | J13: 177
A14: Wasserversorgung; Abwasser- und Abfallentsorgung und Beseitigung von Umwelt- verschmutzungen | B14: 281 | C14: 22 | D14: 15 | E14: 46 | F14: 38 | G14: 32 | H14: 30 | I14: 48 | J14: 50
A15: Baugewerbe | B15: 9383 | C15: 636 | D15: 451 | E15: 1426 | F15: 1626 | G15: 1348 | H15: 1068 | I15: 1209 | J15: 1619
A16: Handel; Instandhaltung und Re- paratur von Kraftfahrzeugen | B16: 11599 | C16: 1175 | D16: 711 | E16: 1868 | F16: 1732 | G16: 1865 | H16: 1021 | I16: 1787 | J16: 1440
A17: Verkehr und Lagerei | B17: 2288 | C17: 274 | D17: 97 | E17: 387 | F17: 379 | G17: 290 | H17: 217 | I17: 325 | J17: 319
A18: Gastgewerbe | B18: 6847 | C18: 617 | D18: 265 | E18: 964 | F18: 814 | G18: 1833 | H18: 573 | I18: 1250 | J18: 531
A19: Information und Kommuni- kation | B19: 1433 | C19: 312 | D19: 143 | E19: 164 | F19: 195 | G19: 202 | H19: 134 | I19: 153 | J19: 130
A20: Erbringung von Finanz- und Ver- sicherungsdienstleistungen | B20: 1508 | C20: 244 | D20: 139 | E20: 231 | F20: 182 | G20: 191 | H20: 109 | I20: 234 | J20: 178
A21: Grundstücks- und Wohnungs- wesen | B21: 2919 | C21: 394 | D21: 213 | E21: 413 | F21: 438 | G21: 554 | H21: 248 | I21: 350 | J21: 309
A22: Erbringung von freiberuflichen, wissenschaftlichen und tech- nischen Dienstleistungen | B22: 7019 | C22: 1286 | D22: 629 | E22: 1002 | F22: 1059 | G22: 871 | H22: 642 | I22: 836 | J22: 694
A23: Erbringung von sonstigen wirt- schaftlichen Dienstleistungen | B23: 5238 | C23: 538 | D23: 286 | E23: 748 | F23: 814 | G23: 936 | H23: 480 | I23: 797 | J23: 639
... A27: Erbringung von sonstigen Dienstleistungen | B27: 4248 | C27: 620 | D27: 350 | E27: 649 | F27: 554 | G27: 628 | H27: 397 | I27: 609 | J27: 441

Sheet 13.1.4
A1: Link zum Inhaltsverzeichnis
A2: 13.1 Rechtliche Einheiten und Niederlassungen 1)
A3: 13.1.4 Rechtliche Einheiten 2024 im Ländervergleich
A4: Land | B4: Aktive rechtliche Einheiten 2) | C4: Anteil der aktiven rechtlichen Einheiten an Deutschland in % | D4: Darin abhängig Beschäftigte | E4: Anteil der darin abhängig Beschäftigten an Deutschland in %
A5: Deutschland | B5: 3543865 | C5: 100 | D5: 40083660 | E5: 100
A6: Baden-Württemberg | B6: 478571 | C6: 13.504211 | D6: 5909180 | E6: 14.742117
A7: Bayern | B7: 647475 | C7: 18.270307 | D7: 7075297 | E7: 17.651325
A8: Berlin | B8: 188834 | C8: 5.3284761 | D8: 1905325 | E8: 4.7533708
A9: Brandenburg | B9: 97304 | C9: 2.7457028 | D9: 781625 | E9: 1.9499841
A10: Bremen | B10: 26345 | C10: 0.74339739 | D10: 377286 | E10: 0.94124638
A11: Hamburg | B11: 102696 | C11: 2.8978531 | D11: 1287601 | E11: 3.212284
A12: Hessen | B12: 279656 | C12: 7.8912713 | D12: 3395286 | E12: 8.470499
A13: Mecklenburg-Vorpommern | B13: 59116 | C13: 1.6681222 | D13: 514073 | E13: 1.2825002
A14: Niedersachsen | B14: 299558 | C14: 8.4528615 | D14: 3486990 | E14: 8.6992805
A15: Nordrhein-Westfalen | B15: 740506 | C15: 20.895435 | D15: 9236554 | E15: 23.04319
A16: Rheinland-Pfalz | B16: 163400 | C16: 4.6107851 | D16: 1674614 | E16: 4.1777971
... A21: Thüringen | B21: 74937 | C21: 2.1145557 | D21: 709329 | E21: 1.7696213
A23: Grafik 13.4 | G23: Daten der Grafik 13.4 "Anteil der in den Ländern aktiven rechtlichen Einheiten an der Gesamtzahl in Deutschland 2024" (Deutschland = 100)
G24: Bundesland | H24: Anteil in %
G25: Baden-Württemberg | H25: =C6 -> 13.504211
G26: Bayern | H26: =C7 -> 18.270307
G27: Berlin | H27: =C8 -> 5.3284761
G28: Brandenburg | H28: =C9 -> 2.7457028
G29: Bremen | H29: =C10 -> 0.74339739
G30: Hamburg | H30: =C11 -> 2.8978531
G31: Hessen | H31: =C12 -> 7.8912713
G32: Mecklenburg-Vorpommern | H32: =C13 -> 1.6681222
G33: Niedersachsen | H33: =C14 -> 8.4528615
G34: Nordrhein-Westfalen | H34: =C15 -> 20.895435
G35: Rheinland-Pfalz | H35: =C16 -> 4.6107851
G36: Saarland | H36: =C17 -> 1.0625969
... G40: Thüringen | H40: =C21 -> 2.1145557

Sheet 13.2.1
A1: Link zum Inhaltsverzeichnis
A2: 13.2 Gewerbeanzeigen 4)
A3: 13.2.1 Gewerbeanmeldungen und -abmeldungen im Zeitvergleich sowie 2025 nach Wirtschaftsgliederung
A4: Nr. der Klassi- fikation | B4: Merkmal | C4: Gewerbe- anmeldungen | D4: Darunter Neuerrichtungen 5) | E4: Gewerbe- abmeldungen | F4: Darunter Aufgabe 6)
B5: 2000 | C5: 14813 | D5: 12595 | E5: 15220 | F5: 12864
B6: 2005 | C6: 17200 | D6: 15291 | E6: 14185 | F6: 12197
B7: 2010 | C7: 13373 | D7: 11215 | E7: 12867 | F7: 10690
B8: 2015 | C8: 10483 | D8: 8434 | E8: 10998 | F8: 9184
B9: 2016 | C9: 10152 | D9: 8143 | E9: 11448 | F9: 9628
B10: 2017 | C10: 9700 | D10: 7814 | E10: 10756 | F10: 9073
B11: 2018 | C11: 9540 | D11: 7482 | E11: 10801 | F11: 9045
B12: 2019 | C12: 9747 | D12: 7849 | E12: 9923 | F12: 8208
B13: 2020 | C13: 9311 | D13: 7309 | E13: 8965 | F13: 7191
B14: 2021 | C14: 10052 | D14: 7954 | E14: 9171 | F14: 7297
B15: 2022 | C15: 9832 | D15: 7773 | E15: 8991 | F15: 7248
B16: 2023 | C16: 10562 | D16: 8542 | E16: 9805 | F16: 8085
... B18: 2025 | C18: 10772 | D18: 8797 | E18: 9638 | F18: 7929
A19: A | B19: Land- und Forstwirtschaft, Fischerei | C19: 106 | D19: 87 | E19: 91 | F19: 76
A20: B | B20: Bergbau und Gewinnung von Steinen und Erden | C20: 1 | D20: - | E20: 3 | F20: 2
A21: C | B21: Verarbeitendes Gewerbe | C21: 470 | D21: 383 | E21: 405 | F21: 334
A22: D | B22: Energieversorgung | C22: 178 | D22: 151 | E22: 144 | F22: 117
A23: E | B23: Wasserversorgung, Abwasser- und Abfallent- sorgung und Beseitigung von Umweltver- schmutzungen | C23: 21 | D23: 17 | E23: 22 | F23: 16
A24: F | B24: Baugewerbe | C24: 756 | D24: 581 | E24: 1105 | F24: 951
A25: G | B25: Handel; Instandhaltung und Reparatur von Kraftfahrzeugen | C25: 2346 | D25: 1949 | E25: 2275 | F25: 1920
A26: H | B26: Verkehr und Lagerei | C26: 231 | D26: 175 | E26: 284 | F26: 226
A27: I | B27: Gastgewerbe | C27: 904 | D27: 576 | E27: 970 | F27: 733
A28: J | B28: Information und Kommunikation | C28: 435 | D28: 370 | E28: 279 | F28: 220
A29: K | B29: Erbringung von Finanz- und Versicherungsdienst- leistungen | C29: 324 | D29: 270 | E29: 313 | F29: 260
A30: L | B30: Grundstücks- und Wohnungswesen | C30: 277 | D30: 216 | E30: 251 | F30: 176
A31: M | B31: Erbringung von freiberuflichen, wissenschaftlichen und technischen Dienstleistungen | C31: 893 | D31: 750 | E31: 658 | F31: 532
A32: N | B32: Erbringung von sonstigen wirtschaftlichen Dienst- leistungen | C32: 1718 | D32: 1488 | E32: 1345 | F32: 1149
... A36: O, S | B36: Öffentliche Verwaltung, Verteidigung; Sozialver- sicherung; Erbringung von sonstigen Dienst- leistungen | C36: 1356 | D36: 1153 | E36: 939 | F36: 772
A38: Grafik 13.5
H39: Daten der Grafik 13.5 "Neuerrichtungen 2025 nach Wirtschaftsgliederung"
H40: Wirtschaftsgliederung | I40: M-V = 100 | J40: Deutschland = 100
H41: Dienstleistungen | I41: =(D29+D30+D31+D32+D33+D34+D35+D36)*100/D18 -> 51.244743 | J41: 48
H42: Handel; Instandhaltung und Reparatur von Kraftfahrzeugen | I42: =D25*100/D18 -> 22.15528 | J42: 22.6
H43: Baugewerbe | I43: =D24*100/D18 -> 6.6045243 | J43: 7.3
H44: Gastgewerbe | I44: =D27*100/D18 -> 6.5476867 | J44: 5.7
H45: Information und Kommunikation | I45: =D28*100/D18 -> 4.2059793 | J45: 6.1
H46: Verarbeitendes Gewerbe einschl. Bergbau und Gewinnung von Steinen und Erden | I46: =D21*100/D18 -> 4.353757 | J46: 4.7
H47: Sonstige | I47: =(D19+D22+D23+D26)*100/D18 -> 4.88803 | J47: 5

Sheet 13.2.2
A1: Link zum Inhaltsverzeichnis
A2: 13.2 Gewerbeanzeigen 4)
A3: 13.2.2 Gewerbeanmeldungen und -abmeldungen nach Kreisen im Zeitvergleich sowie 2025 nach Wirtschaftsgliederung
A4: Merkmal | B4: Mecklen- burg-Vor- pommern | C4: Kreisfreie Stadt Rostock | D4: Kreisfreie Stadt Schwerin | E4: Mecklen- burgische Seenplatte | F4: Landkreis Rostock | G4: Vor- pommern- Rügen | H4: Nordwest- mecklen- burg | I4: Vor- pommern- Greifswald | J4: Ludwigs- lust- Parchim
A5: Gewerbeanmeldungen
A6: 2005 | B6: 17200 | C6: 1975 | D6: 906 | E6: 2480 | F6: 3487 | G6: 2432 | H6: 1500 | I6: 2351 | J6: 2069
A7: 2010 | B7: 13373 | C7: 2176 | D7: 941 | E7: 1895 | F7: 2063 | G7: 1841 | H7: 1235 | I7: 1702 | J7: 1520
A8: 2015 | B8: 10483 | C8: 1616 | D8: 738 | E8: 1421 | F8: 1546 | G8: 1499 | H8: 992 | I8: 1444 | J8: 1227
A9: 2016 | B9: 10152 | C9: 1446 | D9: 654 | E9: 1361 | F9: 1486 | G9: 1685 | H9: 958 | I9: 1295 | J9: 1267
A10: 2017 | B10: 9700 | C10: 1534 | D10: 570 | E10: 1166 | F10: 1531 | G10: 1508 | H10: 909 | I10: 1348 | J10: 1134
A11: 2018 | B11: 9540 | C11: 1397 | D11: 619 | E11: 1271 | F11: 1531 | G11: 1420 | H11: 940 | I11: 1266 | J11: 1096
A12: 2019 | B12: 9747 | C12: 1394 | D12: 604 | E12: 1326 | F12: 1541 | G12: 1587 | H12: 913 | I12: 1244 | J12: 1138
A13: 2020 | B13: 9311 | C13: 1459 | D13: 503 | E13: 1221 | F13: 1468 | G13: 1516 | H13: 892 | I13: 1161 | J13: 1091
A14: 2021 | B14: 10052 | C14: 1492 | D14: 526 | E14: 1369 | F14: 1473 | G14: 1579 | H14: 1016 | I14: 1351 | J14: 1246
A15: 2022 | B15: 9832 | C15: 1356 | D15: 594 | E15: 1382 | F15: 1617 | G15: 1549 | H15: 966 | I15: 1295 | J15: 1073
A16: 2023 | B16: 10562 | C16: 1403 | D16: 650 | E16: 1446 | F16: 1661 | G16: 1591 | H16: 1120 | I16: 1377 | J16: 1314
A17: 2024 | B17: 10477 | C17: 1438 | D17: 635 | E17: 1469 | F17: 1626 | G17: 1589 | H17: 1004 | I17: 1426 | J17: 1290
A18: 2025 | B18: 10772 | C18: 1488 | D18: 661 | E18: 1607 | F18: 1648 | G18: 1561 | H18: 978 | I18: 1514 | J18: 1315
A19: darunter
A20: Verarbeitendes Gewerbe | B20: 470 | C20: 54 | D20: 20 | E20: 68 | F20: 66 | G20: 82 | H20: 47 | I20: 58 | J20: 75
A21: Baugewerbe | B21: 756 | C21: 89 | D21: 53 | E21: 96 | F21: 150 | G21: 98 | H21: 65 | I21: 98 | J21: 107
A22: Handel; Instandhaltung und Re- paratur von Kraftfahrzeugen | B22: 2346 | C22: 317 | D22: 123 | E22: 372 | F22: 314 | G22: 331 | H22: 220 | I22: 356 | J22: 313
A23: Gastgewerbe | B23: 904 | C23: 139 | D23: 60 | E23: 128 | F23: 83 | G23: 167 | H23: 66 | I23: 163 | J23: 98
A24: Erbringung von freiberuflichen, wissenschaftlichen und tech- nischen Dienstleistungen | B24: 893 | C24: 153 | D24: 51 | E24: 113 | F24: 144 | G24: 100 | H24: 74 | I24: 129 | J24: 129
A25: Erbringung von sonstigen wirt- schaftlichen Dienstleistungen | B25: 1718 | C25: 210 | D25: 58 | E25: 292 | F25: 263 | G25: 274 | H25: 162 | I25: 236 | J25: 223
A26: Gewerbeabmeldungen
A27: 2005 | B27: 14185 | C27: 1980 | D27: 993 | E27: 2174 | F27: 2133 | G27: 2106 | H27: 1198 | I27: 1872 | J27: 1729
A28: 2010 | B28: 12867 | C28: 2266 | D28: 1023 | E28: 1820 | F28: 1946 | G28: 1719 | H28: 1163 | I28: 1520 | J28: 1410
A29: 2015 | B29: 10998 | C29: 1824 | D29: 693 | E29: 1572 | F29: 1508 | G29: 1617 | H29: 1001 | I29: 1548 | J29: 1235
A30: 2016 | B30: 11448 | C30: 1987 | D30: 784 | E30: 1558 | F30: 1482 | G30: 1851 | H30: 1002 | I30: 1446 | J30: 1338
A31: 2017 | B31: 10756 | C31: 1707 | D31: 780 | E31: 1337 | F31: 1521 | G31: 1622 | H31: 989 | I31: 1425 | J31: 1375
A32: 2018 | B32: 10801 | C32: 1579 | D32: 725 | E32: 1364 | F32: 1536 | G32: 1729 | H32: 1063 | I32: 1510 | J32: 1295
A33: 2019 | B33: 9923 | C33: 1499 | D33: 674 | E33: 1342 | F33: 1462 | G33: 1589 | H33: 976 | I33: 1214 | J33: 1167
A34: 2020 | B34: 8965 | C34: 1387 | D34: 491 | E34: 1294 | F34: 1402 | G34: 1477 | H34: 764 | I34: 1062 | J34: 1088
A35: 2021 | B35: 9171 | C35: 1440 | D35: 499 | E35: 1340 | F35: 1270 | G35: 1469 | H35: 812 | I35: 1262 | J35: 1079
A36: 2022 | B36: 8991 | C36: 1511 | D36: 510 | E36: 1361 | F36: 1232 | G36: 1290 | H36: 880 | I36: 1236 | J36: 971
A37: 2023 | B37: 9805 | C37: 1487 | D37: 661 | E37: 1381 | F37: 1354 | G37: 1389 | H37: 1028 | I37: 1278 | J37: 1227
A38: 2024 | B38: 9916 | C38: 1380 | D38: 627 | E38: 1453 | F38: 1455 | G38: 1423 | H38: 1040 | I38: 1320 | J38: 1218
A39: 2025 | B39: 9638 | C39: 1277 | D39: 535 | E39: 1384 | F39: 1557 | G39: 1439 | H39: 911 | I39: 1365 | J39: 1170
A40: darunter
A41: Verarbeitendes Gewerbe | B41: 405 | C41: 59 | D41: 22 | E41: 64 | F41: 70 | G41: 41 | H41: 31 | I41: 66 | J41: 52
A42: Baugewerbe | B42: 1105 | C42: 103 | D42: 67 | E42: 138 | F42: 234 | G42: 156 | H42: 120 | I42: 146 | J42: 141
A43: Handel; Instandhaltung und Re- paratur von Kraftfahrzeugen | B43: 2275 | C43: 288 | D43: 120 | E43: 339 | F43: 346 | G43: 333 | H43: 201 | I43: 339 | J43: 309
A44: Gastgewerbe | B44: 970 | C44: 106 | D44: 55 | E44: 146 | F44: 108 | G44: 206 | H44: 69 | I44: 177 | J44: 103
A45: Erbringung von freiberuflichen, wissenschaftlichen und tech- nischen Dienstleistungen | B45: 658 | C45: 145 | D45: 42 | E45: 84 | F45: 100 | G45: 92 | H45: 53 | I45: 65 | J45: 77
A46: Erbringung von sonstigen wirt- schaftlichen Dienstleistungen | B46: 1345 | C46: 193 | D46: 63 | E46: 171 | F46: 208 | G46: 235 | H46: 135 | I46: 194 | J46: 146

Sheet 13.2.3
A1: Link zum Inhaltsverzeichnis
A2: 13.2 Gewerbeanzeigen 4)
A3: 13.2.3 Gewerbeanmeldungen und -abmeldungen 2025 im Ländervergleich
A4: Land | B4: Gewerbe- anmel- dungen davon… | C4: ...Neu- errichtung | D4: ...Zuzug | E4: ...Über- nahme | F4: Gewerbe- abmel- dungen darunter... | G4: ...Betriebs- aufgabe | H4: ...Fortzug | I4: ...Übergabe
A5: Deutschland | B5: 762391 | C5: 640457 | D5: 74375 | E5: 47559 | F5: 612906 | G5: 502236 | H5: 65956 | I5: 44714
A6: Baden-Württemberg | B6: 105160 | C6: 85832 | D6: 11860 | E6: 7468 | F6: 82827 | G6: 64870 | H6: 11199 | I6: 6758
A7: Bayern | B7: 129172 | C7: 104521 | D7: 16458 | E7: 8193 | F7: 103272 | G7: 80770 | H7: 14663 | I7: 7839
A8: Berlin | B8: 43200 | C8: 40013 | D8: 1374 | E8: 1813 | F8: 30284 | G8: 27793 | H8: 1263 | I8: 1228
A9: Brandenburg | B9: 19975 | C9: 16085 | D9: 2737 | E9: 1153 | F9: 16573 | G9: 13324 | H9: 2055 | I9: 1194
A10: Bremen | B10: 5993 | C10: 5366 | D10: 271 | E10: 356 | F10: 4732 | G10: 4232 | H10: 227 | I10: 273
A11: Hamburg | B11: 20716 | C11: 18725 | D11: 925 | E11: 1066 | F11: 13562 | G11: 11828 | H11: 797 | I11: 937
A12: Hessen | B12: 63885 | C12: 53300 | D12: 6936 | E12: 3649 | F12: 52319 | G12: 43194 | H12: 5479 | I12: 3646
A13: Mecklenburg-Vorpommern | B13: 10772 | C13: 8677 | D13: 1199 | E13: 896 | F13: 9638 | G13: 7774 | H13: 1020 | I13: 844
A14: Niedersachsen | B14: 71413 | C14: 59975 | D14: 6584 | E14: 4854 | F14: 55591 | G14: 45444 | H14: 5647 | I14: 4500
A15: Nordrhein-Westfalen | B15: 166786 | C15: 144191 | D15: 13563 | E15: 9032 | F15: 132674 | G15: 111634 | H15: 12440 | I15: 8600
A16: Rheinland-Pfalz | B16: 36027 | C16: 30039 | D16: 3588 | E16: 2400 | F16: 32563 | G16: 26911 | H16: 3351 | I16: 2301
... A21: Thüringen | B21: 12028 | C21: 9859 | D21: 1016 | E21: 1153 | F21: 12104 | G21: 9969 | H21: 934 | I21: 1201
A23: Grafik 13.6 | K23: Daten der Grafik 13.6 "Gewerbeanzeigen 2025 im Ländervergleich"
K24: Bundesland | L24: Anteil der Gewerbeanmeldungen am Insgesamt | M24: Anteil der Gewerbeabmeldungen am Insgesamt
K25: Baden-Württemberg | L25: =B6*100/(B6+F6) -> 55.940038 | M25: =F6*100/(B6+F6) -> 44.059962
K26: Bayern | L26: =B7*100/(B7+F7) -> 55.571234 | M26: =F7*100/(B7+F7) -> 44.428766
K27: Berlin | L27: =B8*100/(B8+F8) -> 58.788308 | M27: =F8*100/(B8+F8) -> 41.211692
K28: Brandenburg | L28: =B9*100/(B9+F9) -> 54.654153 | M28: =F9*100/(B9+F9) -> 45.345847
K29: Bremen | L29: =B10*100/(B10+F10) -> 55.878788 | M29: =F10*100/(B10+F10) -> 44.121212
K30: Hamburg | L30: =B11*100/(B11+F11) -> 60.435265 | M30: =F11*100/(B11+F11) -> 39.564735
K31: Hessen | L31: =B12*100/(B12+F12) -> 54.976593 | M31: =F12*100/(B12+F12) -> 45.023407
K32: Mecklenburg-Vorpommern | L32: =B13*100/(B13+F13) -> 52.77805 | M32: =F13*100/(B13+F13) -> 47.22195
K33: Niedersachsen | L33: =B14*100/(B14+F14) -> 56.228938 | M33: =F14*100/(B14+F14) -> 43.771062
K34: Nordrhein-Westfalen | L34: =B15*100/(B15+F15) -> 55.695585 | M34: =F15*100/(B15+F15) -> 44.304415
K35: Rheinland-Pfalz | L35: =B16*100/(B16+F16) -> 52.525149 | M35: =F16*100/(B16+F16) -> 47.474851
K36: Saarland | L36: =B17*100/(B17+F17) -> 52.574348 | M36: =F17*100/(B17+F17) -> 47.425652
... K40: Thüringen | L40: =B21*100/(B21+F21) -> 49.842533 | M40: =F21*100/(B21+F21) -> 50.157467
K41: Deutschland | L41: =B5*100/(B5+F5) -> 55.434644 | M41: =F5*100/(B5+F5) -> 44.565356

Sheet 13.3.1+13.3.2
A1: Link zum Inhaltsverzeichnis
A2: 13.3 Insolvenzen
A3: 13.3.1 Insolvenzverfahren im Zeitvergleich
A4: Merkmal | B4: Insolvenz- verfahren 2005 | C4: Insolvenz- verfahren 2010 | D4: Insolvenz- verfahren 2015 | E4: Insolvenz- verfahren 2020 | F4: Insolvenz- verfahren 2024 | G4: Insolvenz- verfahren 2025 | H4: Darunter eröffnete Verfahren 2025 | I4: Voraus- sichtliche Forderun- gen 2025 in 1.000 EUR
A5: Insgesamt | B5: 3836 | C5: 3372 | D5: 2667 | E5: 1478 | F5: 2456 | G5: 2211 | H5: 2125 | I5: 464236
A6: Unternehmen | B6: 948 | C6: 456 | D6: 323 | E6: 201 | F6: 273 | G6: 275 | H6: 225 | I6: 324609
A7: Übrige Schuldnerinnen und Schuldner | B7: 2888 | C7: 2916 | D7: 2344 | E7: 1277 | F7: 2183 | G7: 1936 | H7: 1900 | I7: 139627
A8: davon
A9: natürliche Personen als Gesellschafter u. Ä. | B9: 266 | C9: 177 | D9: 10 | E9: 10 | F9: 11 | G9: 16 | H9: 14 | I9: 8445
A10: ehemals selbstständig Tätige mit
A11: Regelinsolvenzverfahren | B11: 463 | C11: 319 | D11: 344 | E11: 144 | F11: 208 | G11: 239 | H11: 228 | I11: 48721
A12: vereinfachtem Verfahren | B12: 243 | C12: 132 | D12: 233 | E12: 94 | F12: 154 | G12: 141 | H12: 140 | I12: 14152
A13: Verbraucherinnen und Verbraucher | B13: 1889 | C13: 2263 | D13: 1735 | E13: 1002 | F13: 1787 | G13: 1520 | H13: 1507 | I13: 61775
A14: Nachlässe und Gesamtgut | B14: 27 | C14: 25 | D14: 22 | E14: 27 | F14: 23 | G14: 20 | H14: 11 | I14: 6534
A16: 13.3.2 Insolvenzverfahren 2024 und 2025 nach Kreisen
A17: Land Kreisfreie Stadt Landkreis | B17: Insolvenz- verfahren 2024 | C17: Darunter eröffnete Verfahren 2024 | D17: Abweisung mangels Masse 2024 | E17: Voraus- sichtliche Forderun- gen 2024 in 1.000 EUR | F17: Insolvenz- verfahren 2025 | G17: Darunter eröffnete Verfahren 2025 | H17: Abweisung mangels Masse 2025 | I17: Voraus- sichtliche Forderun- gen 2025 in 1.000 EUR
A18: Mecklenburg-Vorpommern insgesamt | B18: 2456 | C18: 2380 | D18: 62 | E18: 352112 | F18: 2211 | G18: 2125 | H18: 73 | I18: 464236
A19: Rostock | B19: 300 | C19: 292 | D19: 7 | E19: 36674 | F19: 299 | G19: 290 | H19: 6 | I19: 22351
A20: Schwerin | B20: 211 | C20: 207 | D20: 1 | E20: 10084 | F20: 176 | G20: 168 | H20: 8 | I20: 36009
A21: Mecklenburgische Seenplatte | B21: 512 | C21: 497 | D21: 13 | E21: 64704 | F21: 567 | G21: 548 | H21: 17 | I21: 92655
A22: Landkreis Rostock | B22: 387 | C22: 375 | D22: 10 | E22: 69806 | F22: 323 | G22: 309 | H22: 11 | I22: 176188
A23: Vorpommern-Rügen | B23: 303 | C23: 295 | D23: 5 | E23: 26247 | F23: 246 | G23: 241 | H23: 5 | I23: 34644
A24: Nordwestmecklenburg | B24: 191 | C24: 182 | D24: 8 | E24: 53271 | F24: 128 | G24: 116 | H24: 9 | I24: 39393
A25: Vorpommern-Greifswald | B25: 225 | C25: 215 | D25: 10 | E25: 62892 | F25: 193 | G25: 185 | H25: 8 | I25: 33663
A26: Ludwigslust-Parchim | B26: 315 | C26: 307 | D26: 6 | E26: 22821 | F26: 271 | G26: 261 | H26: 8 | I26: 22408
A27: außerhalb Mecklenburg-Vorpommerns bzw. Deutschlands 7) | B27: 12 | C27: 10 | D27: 2 | E27: 5614 | F27: 8 | G27: 7 | H27: 1 | I27: 6926
A28: Mecklenburg-Vorpommern (Unternehmen) | B28: 273 | C28: 237 | D28: 36 | E28: 226266 | F28: 275 | G28: 225 | H28: 50 | I28: 324609
A29: Rostock | B29: 38 | C29: 33 | D29: 5 | E29: 18865 | F29: 26 | G29: 22 | H29: 4 | I29: 5456
A30: Schwerin | B30: 10 | C30: 10 | D30: - | E30: 1022 | F30: 15 | G30: 11 | H30: 4 | I30: 29062
A31: Mecklenburgische Seenplatte | B31: 49 | C31: 42 | D31: 7 | E31: 43803 | F31: 73 | G31: 61 | H31: 12 | I31: 64591
A32: Landkreis Rostock | B32: 31 | C32: 27 | D32: 4 | E32: 45621 | F32: 48 | G32: 40 | H32: 8 | I32: 150400
A33: Vorpommern-Rügen | B33: 37 | C33: 35 | D33: 2 | E33: 11320 | F33: 17 | G33: 15 | H33: 2 | I33: 10944
A34: Nordwestmecklenburg | B34: 35 | C34: 29 | D34: 6 | E34: 38873 | F34: 30 | G34: 23 | H34: 7 | I34: 30780
A35: Vorpommern-Greifswald | B35: 32 | C35: 26 | D35: 6 | E35: 50835 | F35: 35 | G35: 29 | H35: 6 | I35: 18569
A36: Ludwigslust-Parchim | B36: 30 | C36: 26 | D36: 4 | E36: 10351 | F36: 23 | G36: 17 | H36: 6 | I36: 7880
A37: außerhalb Mecklenburg-Vorpommerns bzw. Deutschlands 7) | B37: 11 | C37: 9 | D37: 2 | E37: 5575 | F37: 8 | G37: 7 | H37: 1 | I37: 6926
A38: Mecklenburg-Vorpommern (Verbraucherinnen und Verbraucher) | B38: 1787 | C38: 1773 | D38: 3 | E38: 67891 | F38: 1520 | G38: 1507 | H38: 1 | I38: 61775
A39: Rostock | B39: 208 | C39: 207 | D39: 1 | E39: 8033 | F39: 215 | G39: 213 | H39: - | I39: 10942
A40: Schwerin | B40: 176 | C40: 174 | D40: - | E40: 6177 | F40: 143 | G40: 143 | H40: - | I40: 5630
A41: Mecklenburgische Seenplatte | B41: 389 | C41: 386 | D41: 1 | E41: 11333 | F41: 420 | G41: 417 | H41: 1 | I41: 11836
A42: Landkreis Rostock | B42: 275 | C42: 273 | D42: 1 | E42: 13321 | F42: 186 | G42: 183 | H42: - | I42: 8785
A43: Vorpommern-Rügen | B43: 212 | C43: 209 | D43: - | E43: 8091 | F43: 162 | G43: 162 | H43: - | I43: 7115
A44: Nordwestmecklenburg | B44: 130 | C44: 129 | D44: - | E44: 6866 | F44: 74 | G44: 71 | H44: - | I44: 5127
A45: Vorpommern-Greifswald | B45: 149 | C45: 149 | D45: - | E45: 5259 | F45: 121 | G45: 121 | H45: - | I45: 4297
A46: Ludwigslust-Parchim | B46: 247 | C46: 245 | D46: - | E46: 8772 | F46: 199 | G46: 197 | H46: - | I46: 8044
A47: außerhalb Mecklenburg-Vorpommerns bzw. Deutschlands 7) | B47: 1 | C47: 1 | D47: - | E47: 39 | F47: - | G47: - | H47: - | I47: -

Sheet 13.3.3
A1: Link zum Inhaltsverzeichnis
A2: 13.3 Insolvenzen
A3: 13.3.3 Unternehmensinsolvenzen 2024 und 2025 nach Wirtschaftsgliederung
A4: Nr. der Klassi- fika- tion | B4: Wirtschaftsgliederung | C4: Insolvenz- verfahren 2024 | D4: Darunter eröffnete Verfahren 2024 | E4: Voraussicht- liche Forde- rungen 2024 in 1.000 EUR | F4: Insolvenz- verfahren 2025 | G4: Darunter eröffnete Verfahren 2025 | H4: Voraussicht- liche Forde- rungen 2025 in 1.000 EUR
A5: A-N, P-S | B5: Insgesamt | C5: 273 | D5: 237 | E5: 226266 | F5: 275 | G5: 225 | H5: 324609
A6: A | B6: Land- und Forstwirtschaft, Fischerei | C6: 3 | D6: 3 | E6: 700 | F6: 2 | G6: 2 | H6: .
A7: B | B7: Bergbau und Gewinnung von Steinen und Erden | C7: - | D7: - | E7: - | F7: - | G7: - | H7: -
A8: C | B8: Verarbeitendes Gewerbe | C8: 28 | D8: 27 | E8: 98520 | F8: 29 | G8: 29 | H8: 65345
A9: D | B9: Energieversorgung | C9: - | D9: - | E9: - | F9: 5 | G9: 4 | H9: 1211
A10: E | B10: Wasserversorgung; Abwasser- und Abfallent- sorgung und Beseitigung von Umweltver- schmutzungen | C10: - | D10: - | E10: - | F10: - | G10: - | H10: -
A11: F | B11: Baugewerbe | C11: 53 | D11: 41 | E11: 13748 | F11: 57 | G11: 44 | H11: 20266
A12: G | B12: Handel; Instandhaltung und Reparatur von Kraftfahrzeugen | C12: 30 | D12: 27 | E12: 37788 | F12: 34 | G12: 24 | H12: 20558
A13: H | B13: Verkehr und Lagerei | C13: 14 | D13: 13 | E13: 4300 | F13: 20 | G13: 17 | H13: 6202
A14: I | B14: Gastgewerbe | C14: 32 | D14: 29 | E14: 11532 | F14: 34 | G14: 30 | H14: 20029
A15: J | B15: Information und Kommunikation | C15: 4 | D15: 4 | E15: 1471 | F15: 6 | G15: 5 | H15: 4276
A16: K | B16: Erbringung von Finanz- und Versicherungsdienst- leistungen | C16: 2 | D16: 2 | E16: . | F16: 3 | G16: 2 | H16: .
A17: L | B17: Grundstücks- und Wohnungswesen | C17: 13 | D17: 9 | E17: 12191 | F17: 8 | G17: 4 | H17: 19023
A18: M | B18: Erbringung von freiberuflichen, wissenschaft- lichen und technischen Dienstleistungen | C18: 34 | D18: 25 | E18: 14608 | F18: 27 | G18: 22 | H18: 139614
A19: N | B19: Erbringung von sonstigen wirtschaftlichen Dienst- leistungen | C19: 22 | D19: 21 | E19: 5521 | F19: 30 | G19: 25 | H19: 14286
A20: P | B20: Erziehung und Unterricht | C20: 2 | D20: 2 | E20: . | F20: 1 | G20: 1 | H20: .
A21: Q | B21: Gesundheits- und Sozialwesen | C21: 21 | D21: 20 | E21: 22155 | F21: 9 | G21: 6 | H21: 4324
A22: R | B22: Kunst, Unterhaltung und Erholung | C22: 4 | D22: 4 | E22: 894 | F22: 2 | G22: 2 | H22: .
A23: S | B23: Erbringung von sonstigen Dienstleistungen | C23: 11 | D23: 10 | E23: 1343 | F23: 7 | G23: 7 | H23: 708
A25: Grafik 13.7 | J25: Daten der Grafik 13.7 "Unternehmens- und Verbraucherinsolvenzen im Zeitvergleich"
J26: Jahr | K26: Unternehmensinsolvenzen | L26: Verbraucherinsolvenzen
J27: 2000 | K27: 998 | L27: 212
J28: 2001 | K28: 1303 | L28: 210
J29: 2002 | K29: 1146 | L29: 342
J30: 2003 | K30: 1108 | L30: 627
J31: 2004 | K31: 1029 | L31: 1243
J32: 2005 | K32: 948 | L32: 1889
J33: 2006 | K33: 672 | L33: 2680
J34: 2007 | K34: 490 | L34: 1991
J35: 2008 | K35: 505 | L35: 1903
J36: 2009 | K36: 485 | L36: 1982
J37: 2010 | K37: 456 | L37: 2263
J38: 2011 | K38: 433 | L38: 2199
... J51: 2024 | K51: 273 | L51: 1787
J52: 2025 | K52: ='13.3.1+13.3.2'!G6 -> 275 | L52: ='13.3.1+13.3.2'!G13 -> 1520

Sheet 13.3.4
A1: Link zum Inhaltsverzeichnis
A2: 13.3 Insolvenzen
A3: 13.3.4 Unternehmensinsolvenzen 2025 im Ländervergleich
A4: Land | B4: Insolvenzverfahren davon… | C4: …eröffnete Verfahren | D4: ...Abweisung mangels Masse | E4: Veränderung zum Vorjahreszeitraum in % | F4: Voraussichtliche Forderungen in Mill. EUR
A5: Deutschland | B5: 24064 | C5: 16639 | D5: 7425 | E5: 10.3 | F5: 47887.9
A6: Baden-Württemberg | B6: 2706 | C6: 1740 | D6: 966 | E6: 10.7 | F6: 3658.3
A7: Bayern | B7: 3316 | C7: 2280 | D7: 1036 | E7: 10.7 | F7: 16740.3
A8: Berlin | B8: 1916 | C8: 1263 | D8: 653 | E8: -8.4 | F8: 3667.8
A9: Brandenburg | B9: 479 | C9: 360 | D9: 119 | E9: 11.1 | F9: 607.5
A10: Bremen | B10: 183 | C10: 119 | D10: 64 | E10: -7.1 | F10: 243.2
A11: Hamburg | B11: 869 | C11: 669 | D11: 200 | E11: 2.4 | F11: 1399
A12: Hessen | B12: 2077 | C12: 1281 | D12: 796 | E12: 25.5 | F12: 2603
A13: Mecklenburg-Vorpommern | B13: 275 | C13: 225 | D13: 50 | E13: 0.7 | F13: 324.6
A14: Niedersachsen | B14: 1910 | C14: 1371 | D14: 539 | E14: 4.7 | F14: 4480.1
A15: Nordrhein-Westfalen | B15: 6502 | C15: 4448 | D15: 2054 | E15: 15.3 | F15: 8347.2
A16: Rheinland-Pfalz | B16: 1002 | C16: 726 | D16: 276 | E16: 16.4 | F16: 1348.5
... A21: Thüringen | B21: 345 | C21: 242 | D21: 103 | E21: 30.7 | F21: 289
A23: Grafik 13.8 | H23: Daten der Grafik 13.8 "Unternehmensinsolvenzen 2025 im Ländervergleich"
H24: Bundesland | I24: Anzahl
H25: Baden-Württemberg | I25: =B6 -> 2706
H26: Bayern | I26: =B7 -> 3316
H27: Berlin | I27: =B8 -> 1916
H28: Brandenburg | I28: =B9 -> 479
H29: Bremen | I29: =B10 -> 183
H30: Hamburg | I30: =B11 -> 869
H31: Hessen | I31: =B12 -> 2077
H32: Mecklenburg-Vorpommern | I32: =B13 -> 275
H33: Niedersachsen | I33: =B14 -> 1910
H34: Nordrhein-Westfalen | I34: =B15 -> 6502
H35: Rheinland-Pfalz | I35: =B16 -> 1002
H36: Saarland | I36: =B17 -> 170
... H40: Thüringen | I40: =B21 -> 345
H41: Deutschland | I41: =B5 -> 24064

Sheet 13.3.5
A1: Link zum Inhaltsverzeichnis
A2: 13.3 Insolvenzen
A3: 13.3.5 Verbraucherinsolvenzen 2025 im Ländervergleich
A4: Land | B4: Insolvenzverfahren | C4: Darunter eröffnet | D4: Veränderung zum Vorjahreszeitraum in % | E4: Voraussichtliche Forderungen in Mill. EUR
A5: Deutschland | B5: 77219 | C5: 76482 | D5: 8.4 | E5: 3760.8
A6: Baden-Württemberg | B6: 7760 | C6: 7635 | D6: 12.889148 | E6: 448.925
A7: Bayern | B7: 7430 | C7: 7393 | D7: 14.501464 | E7: 440.191
A8: Berlin | B8: 3382 | C8: 3358 | D8: 5.3582555 | E8: 160.242
A9: Brandenburg | B9: 2626 | C9: 2601 | D9: 7.755437 | E9: 106.083
A10: Bremen | B10: 1135 | C10: 1111 | D10: -2.0707506 | E10: 40.114
A11: Hamburg | B11: 2405 | C11: 2394 | D11: 4.5652174 | E11: 97.104
A12: Hessen | B12: 4950 | C12: 4922 | D12: 5.4088586 | E12: 261.298
A13: Mecklenburg-Vorpommern | B13: 1520 | C13: 1507 | D13: -14.941242 | E13: 61.775
A14: Niedersachsen | B14: 11165 | C14: 11107 | D14: 5.8193536 | E14: 461.133
A15: Nordrhein-Westfalen | B15: 19777 | C15: 19449 | D15: 14.417125 | E15: 958.42
A16: Rheinland-Pfalz | B16: 3167 | C16: 3152 | D16: 1.8655516 | E16: 175.03
... A21: Thüringen | B21: 1530 | C21: 1511 | D21: 6.993007 | E21: 87.393
A23: Grafik 13.9 | G23: Daten der Grafik 13.9 "Verbraucherinsolvenzen 2025 im Ländervergleich"
G24: Bundesland | H24: Anzahl
G25: Baden-Württemberg | H25: =B6 -> 7760
G26: Bayern | H26: =B7 -> 7430
G27: Berlin | H27: =B8 -> 3382
G28: Brandenburg | H28: =B9 -> 2626
G29: Bremen | H29: =B10 -> 1135
G30: Hamburg | H30: =B11 -> 2405
G31: Hessen | H31: =B12 -> 4950
G32: Mecklenburg-Vorpommern | H32: =B13 -> 1520
G33: Niedersachsen | H33: =B14 -> 11165
G34: Nordrhein-Westfalen | H34: =B15 -> 19777
G35: Rheinland-Pfalz | H35: =B16 -> 3167
G36: Saarland | H36: =B17 -> 1192
... G40: Thüringen | H40: =B21 -> 1530
G41: Deutschland | H41: =B5 -> 77219

Sheet 13.4.1
A1: Link zum Inhaltsverzeichnis
A2: 13.4 Handwerk
A3: 13.4.1 Handwerksunternehmen, tätige Personen im Jahresdurchschnitt und Umsatz 2024 nach Gewerbegruppen 8)
A4: Nr. | B4: Gewerbegruppe | C4: Handwerksunter- nehmen 9) | D4: Tätige Personen 11) | E4: Tätige Personen je Handwerks- unternehmen | F4: Umsatz 10) in 1.000 EUR | G4: Umsatz 10) je tätige Person in EUR
B5: Insgesamt | C5: 11943 | D5: 92763 | E5: 8 | F5: 10632584 | G5: 114621
A6: I | B6: Bauhauptgewerbe | C6: 2047 | D6: 16313 | E6: 8 | F6: 2335525 | G6: 143170
A7: II | B7: Ausbaugewerbe | C7: 4518 | D7: 26853 | E7: 6 | F7: 3233592 | G7: 120418
A8: III | B8: Handwerke für den gewerblichen Bedarf | C8: 1429 | D8: 18895 | E8: 13 | F8: 1532029 | G8: 81081
A9: IV | B9: Kraftfahrzeuggewerbe | C9: 1212 | D9: 11283 | E9: 9 | F9: 2315944 | G9: 205260
A10: V | B10: Lebensmittelgewerbe | C10: 240 | D10: 7735 | E10: 32 | F10: 483893 | G10: 62559
A11: VI | B11: Gesundheitsgewerbe | C11: 335 | D11: 3222 | E11: 10 | F11: 290619 | G11: 90198
A12: VII | B12: Handwerke für den privaten Bedarf | C12: 2162 | D12: 8462 | E12: 4 | F12: 440982 | G12: 52113
B13: Zulassungspflichtiges Handwerk 12) | C13: 10156 | D13: 78139 | E13: 8 | F13: 10001544 | G13: 127997
A14: I | B14: Bauhauptgewerbe | C14: 1845 | D14: 15810 | E14: 9 | F14: 2284540 | G14: 144500
A15: II | B15: Ausbaugewerbe | C15: 4518 | D15: 26853 | E15: 6 | F15: 3233592 | G15: 120418
A16: III | B16: Handwerke für den gewerblichen Bedarf | C16: 762 | D16: 8344 | E16: 11 | F16: 1169540 | G16: 140165
A17: IV | B17: Kraftfahrzeuggewerbe | C17: 1212 | D17: 11283 | E17: 9 | F17: 2315944 | G17: 205260
A18: V | B18: Lebensmittelgewerbe | C18: 230 | D18: 7556 | E18: 33 | F18: 474371 | G18: 62781
A19: VI | B19: Gesundheitsgewerbe | C19: 335 | D19: 3222 | E19: 10 | F19: 290619 | G19: 90198
A20: VII | B20: Handwerke für den privaten Bedarf | C20: 1254 | D20: 5071 | E20: 4 | F20: 232938 | G20: 45935
B21: Zulassungsfreies Handwerk 13) | C21: 1787 | D21: 14624 | E21: 8 | F21: 631040 | G21: 43151
A22: I | B22: Bauhauptgewerbe | C22: 202 | D22: 503 | E22: 2 | F22: 50985 | G22: 101362
A23: II | B23: Ausbaugewerbe 14) | C23: - | D23: - | E23: - | F23: - | G23: -
A24: III | B24: Handwerke für den gewerblichen Bedarf | C24: 667 | D24: 10551 | E24: 16 | F24: 362489 | G24: 34356
A25: IV | B25: Kraftfahrzeuggewerbe | C25: - | D25: - | E25: - | F25: - | G25: -
A26: V | B26: Lebensmittelgewerbe | C26: 10 | D26: 179 | E26: 18 | F26: 9522 | G26: 53196
A27: VI | B27: Gesundheitsgewerbe | C27: - | D27: - | E27: - | F27: - | G27: -
A28: VII | B28: Handwerke für den privaten Bedarf | C28: 908 | D28: 3391 | E28: 4 | F28: 208044 | G28: 61352
A30: Grafik 13.10 | I30: Daten der Grafik 13.10 "Tätige Personen im Jahresdurchschnitt und Umsatz 2024 in Handwerksunternehmen des zulassungspflichtigen Handwerks nach Gewerbegruppen"
I31: Gewerbegruppe | J31: Tätige Personen | K31: Umsatz in 1.000 EUR
I32: Bauhauptgewerbe | J32: =D14 -> 15810 | K32: =F14 -> 2284540
I33: Ausbaugewerbe | J33: =D15 -> 26853 | K33: =F15 -> 3233592
I34: Handwerke für den gewerblichen Bedarf | J34: =D16 -> 8344 | K34: =F16 -> 1169540
I35: Kraftfahrzeuggewerbe | J35: =D17 -> 11283 | K35: =F17 -> 2315944
I36: Lebensmittelgewerbe | J36: =D18 -> 7556 | K36: =F18 -> 474371
I37: Gesundheitsgewerbe | J37: =D19 -> 3222 | K37: =F19 -> 290619
I38: Handwerke für den privaten Bedarf | J38: =D20 -> 5071 | K38: =F20 -> 232938

Sheet 13.4.2
A1: Link zum Inhaltsverzeichnis
A2: 13.4 Handwerk
A3: 13.4.2 Zulassungspflichtige Handwerksunternehmen, tätige Personen im Jahresdurchschnitt und Umsatz 2024 nach Handwerks-
A4: kammerbezirken 8)
A5: Merkmal | B5: Zulassungs- pflichtige Hand- werksunterneh- men 9) 12) | C5: Tätige Personen 11) | D5: Tätige Personen je Handwerks- unternehmen | E5: Umsatz 10) in 1.000 EUR | F5: Umsatz 10) je tätige Person in EUR
A6: Beschäftigtengrößenklassen Handwerksunternehmen mit … tätigen Personen
A7: Insgesamt | B7: 10156 | C7: 78139 | D7: 8 | E7: 10001544 | F7: 127997
A8: unter 5 | B8: 5982 | C8: 12067 | D8: 2 | E8: 968612 | F8: 80269
A9: 5 bis 9 | B9: 2220 | C9: 14599 | D9: 7 | E9: 1428111 | F9: 97823
A10: 10 bis 19 | B10: 1153 | C10: 15364 | D10: 13 | E10: 1911994 | F10: 124446
A11: 20 bis 49 | B11: 627 | C11: 18106 | D11: 29 | E11: 2768319 | F11: 152895
A12: 50 und mehr | B12: 174 | C12: 18003 | D12: 103 | E12: 2924508 | F12: 162446
A13: Ostmecklenburg-Vorpommern | B13: 6230 | C13: 49753 | D13: 8 | E13: 6254369 | F13: 125708
A14: unter 5 | B14: 3573 | C14: 7231 | D14: 2 | E14: 577909 | F14: 79921
A15: 5 bis 9 | B15: 1410 | C15: 9315 | D15: 7 | E15: 912229 | F15: 97931
A16: 10 bis 19 | B16: 737 | C16: 9846 | D16: 13 | E16: 1227212 | F16: 124641
A17: 20 bis 49 | B17: 398 | C17: 11539 | D17: 29 | E17: 1822918 | F17: 157979
A18: 50 und mehr | B18: 112 | C18: 11822 | D18: 106 | E18: 1714101 | F18: 144992
... A24: 50 und mehr | B24: 62 | C24: 6181 | D24: 100 | E24: 1210407 | F24: 195827
A25: Umsatzgrößenklassen Umsatz von … bis unter … EUR
A26: Insgesamt | B26: 10156 | C26: 78139 | D26: 8 | E26: 10001544 | F26: 127997
A27: unter 50.000 | B27: 1184 | C27: 1603 | D27: 1 | E27: 36725 | F27: 22910
A28: 50.000 bis unter 125.000 | B28: 2171 | C28: 3590 | D28: 2 | E28: 179488 | F28: 49997
A29: 125.000 bis unter 250.000 | B29: 1812 | C29: 5264 | D29: 3 | E29: 328140 | F29: 62337
A30: 250.000 bis unter 500.000 | B30: 1692 | C30: 7854 | D30: 5 | E30: 602986 | F30: 76774
A31: 500.000 bis unter 5 Mill. | B31: 2910 | C31: 35958 | D31: 12 | E31: 4106843 | F31: 114212
A32: 5 Mill. und mehr | B32: 387 | C32: 23870 | D32: 62 | E32: 4747362 | F32: 198884
A33: Ostmecklenburg-Vorpommern | B33: 6230 | C33: 49753 | D33: 8 | E33: 6254369 | F33: 125708
A34: unter 50.000 | B34: 754 | C34: 1019 | D34: 1 | E34: 23363 | F34: 22927
A35: 50.000 bis unter 125.000 | B35: 1292 | C35: 2134 | D35: 2 | E35: 107118 | F35: 50196
A36: 125.000 bis unter 250.000 | B36: 1064 | C36: 3219 | D36: 3 | E36: 193522 | F36: 60119
A37: 250.000 bis unter 500.000 | B37: 1042 | C37: 4986 | D37: 5 | E37: 372954 | F37: 74800
... A46: 5 Mill. und mehr | B46: 140 | C46: 8238 | D46: 59 | E46: 1793778 | F46: 217744

Sheet 13.4.3
A1: Link zum Inhaltsverzeichnis
A2: 13.4 Handwerk
A3: 13.4.3 Zulassungspflichtige Handwerksunternehmen, tätige Personen im Jahresdurchschnitt und Umsatz 2024 nach Gewerbegruppen
A4: und Gewerbezweigen 8)
A5: Nr. der Klas- si­ fika- tion | B5: Gewerbegruppe Gewerbezweig | C5: Zulassungs- pflichtige Hand- werksunter- nehmen 9) 12) | D5: Tätige Personen 11) | E5: Tätige Personen je Hand- werks- unternehmen | F5: Umsatz 10) in 1.000 EUR | G5: Umsatz 10) je tätige Person in EUR
B6: Insgesamt | C6: 10156 | D6: 78139 | E6: 8 | F6: 10001544 | G6: 127997
A7: I | B7: Bauhauptgewerbe | C7: 1845 | D7: 15810 | E7: 9 | F7: 2284540 | G7: 144500
A8: 01 | B8: Maurer/in und Betonbauer/in | C8: 829 | D8: 6794 | E8: 8 | F8: 985548 | G8: 145062
A9: 03 | B9: Zimmerin und Zimmerer | C9: 322 | D9: 1790 | E9: 6 | F9: 332600 | G9: 185810
A10: 04 | B10: Dachdecker/in | C10: 409 | D10: 2584 | E10: 6 | F10: 301527 | G10: 116690
A11: 05 | B11: Straßenbauer/in | C11: 162 | D11: 3248 | E11: 20 | F11: 485685 | G11: 149534
A12: 06 | B12: Wärme-, Kälte- und Schallschutzisolierer/in | C12: 22 | D12: 127 | E12: 6 | F12: 11353 | G12: 89394
A13: 07 | B13: Brunnenbauer/in | C13: 22 | D13: 295 | E13: 13 | F13: 63562 | G13: 215464
A14: 11 | B14: Gerüstbauer/in | C14: 69 | D14: 885 | E14: 13 | F14: 87770 | G14: 99175
A15: 43 | B15: Werkstein- und Terrazzohersteller/in | C15: 10 | D15: 87 | E15: 9 | F15: 16495 | G15: 189598
A16: II | B16: Ausbaugewerbe | C16: 4518 | D16: 26853 | E16: 6 | F16: 3233592 | G16: 120418
B17: darunter
A18: 02 | B18: Ofen- und Luftheizungsbauer/in | C18: 50 | D18: 153 | E18: 3 | F18: 17077 | G18: 111614
A19: 10 | B19: Maler/in und Lackierer/in | C19: 720 | D19: 4240 | E19: 6 | F19: 338301 | G19: 79788
A20: 23 | B20: Klempner/in | C20: 36 | D20: 197 | E20: 5 | F20: 21697 | G20: 110137
A21: 24 | B21: Installateur/in und Heizungsbauer/in | C21: 939 | D21: 6738 | E21: 7 | F21: 1033908 | G21: 153444
A22: 25 | B22: Elektrotechniker/in | C22: 937 | D22: 8497 | E22: 9 | F22: 1165396 | G22: 137154
A23: 27 | B23: Tischler/in | C23: 517 | D23: 3056 | E23: 6 | F23: 285780 | G23: 93514
A24: 39 | B24: Glaser/in | C24: 70 | D24: 328 | E24: 5 | F24: 30600 | G24: 93293
A25: 42 | B25: Fliesen-, Platten- und Mosaikleger/in | C25: 718 | D25: 1979 | E25: 3 | F25: 176307 | G25: 89089
A26: 52 | B26: Raumausstatter/in | C26: 319 | D26: 858 | E26: 3 | F26: 60741 | G26: 70794
A27: III | B27: Handwerke für den gewerblichen Bedarf | C27: 762 | D27: 8344 | E27: 11 | F27: 1169540 | G27: 140165
B28: darunter
A29: 13 | B29: Metallbauer/in | C29: 440 | D29: 5566 | E29: 13 | F29: 742919 | G29: 133474
A30: 16 | B30: Feinwerkmechaniker/in | C30: 80 | D30: 773 | E30: 10 | F30: 101285 | G30: 131028
A31: 18 | B31: Kälteanlagenbauer/in | C31: 40 | D31: 242 | E31: 6 | F31: 33617 | G31: 138913
A32: 19 | B32: Informationstechniker/in | C32: 53 | D32: 446 | E32: 8 | F32: 55375 | G32: 124159
A33: 21 | B33: Land- und Baumaschinenmechatroniker/in | C33: 56 | D33: 840 | E33: 15 | F33: 190679 | G33: 226999
A34: 26 | B34: Elektromaschinenbauer/in | C34: 18 | D34: 98 | E34: 5 | F34: 12528 | G34: 127837
A35: 51 | B35: Schilder- und Lichtreklamehersteller/in | C35: 50 | D35: 242 | E35: 5 | F35: 17906 | G35: 73992
A36: IV | B36: Kraftfahrzeuggewerbe | C36: 1212 | D36: 11283 | E36: 9 | F36: 2315944 | G36: 205260
A37: 15 | B37: Karosserie- und Fahrzeugbauer/in | C37: 36 | D37: 403 | E37: 11 | F37: 58732 | G37: 145737
A38: 17 | B38: Zweiradmechaniker/in | C38: 38 | D38: 332 | E38: 9 | F38: 56812 | G38: 171120
A39: 20 | B39: Kraftfahrzeugtechniker/in | C39: 1107 | D39: 10357 | E39: 9 | F39: 2171284 | G39: 209644
A40: 41 | B40: Mechaniker/in für Reifen- und Vulkanisationstechnik | C40: 31 | D40: 191 | E40: 6 | F40: 29116 | G40: 152440
A41: V | B41: Lebensmittelgewerbe | C41: 230 | D41: 7556 | E41: 33 | F41: 474371 | G41: 62781
A42: 30 | B42: Bäcker/in | C42: 121 | D42: 5759 | E42: 48 | F42: 325515 | G42: 56523
A43: 31 | B43: Konditor/in | C43: 29 | D43: 349 | E43: 12 | F43: 18477 | G43: 52943
A44: 32 | B44: Fleischer/in | C44: 80 | D44: 1448 | E44: 18 | F44: 130379 | G44: 90041
A45: VI | B45: Gesundheitsgewerbe | C45: 335 | D45: 3222 | E45: 10 | F45: 290619 | G45: 90198
A46: 33 | B46: Augenoptiker/in | C46: 131 | D46: 903 | E46: 7 | F46: 85171 | G46: 94320
A47: 34 | B47: Hörakustiker/in | C47: 34 | D47: 154 | E47: 5 | F47: 16662 | G47: 108195
A48: 35 | B48: Orthopädietechniker/in | C48: 23 | D48: 812 | E48: 35 | F48: 85450 | G48: 105234
A49: 36 | B49: Orthopädieschuhmacher/in | C49: 30 | D49: 338 | E49: 11 | F49: 30787 | G49: 91086
A50: 37 | B50: Zahntechniker/in | C50: 117 | D50: 1015 | E50: 9 | F50: 72549 | G50: 71477
A51: VII | B51: Handwerke für den privaten Bedarf | C51: 1254 | D51: 5071 | E51: 4 | F51: 232938 | G51: 45935
B52: darunter
A53: 08 | B53: Steinmetz/in und Steinbildhauer/in | C53: 61 | D53: 278 | E53: 5 | F53: 23204 | G53: 83468
A54: 12 | B54: Schornsteinfeger/in | C54: 169 | D54: 533 | E54: 3 | F54: 41476 | G54: 77816
A55: 28 | B55: Boots- und Schiffbauer/in | C55: 55 | D55: 281 | E55: 5 | F55: 20639 | G55: 73448
A56: 38 | B56: Friseur/in | C56: 958 | D56: 3938 | E56: 4 | F56: 145537 | G56: 36957

Sheet 13.4.4
A1: Link zum Inhaltsverzeichnis
A2: 13.4 Handwerk
A3: 13.4.4 Handwerksunternehmen, tätige Personen im Jahresdurchschnitt und Umsatz 2024 im Ländervergleich 8)
A4: Land | B4: Handwerks­ unter- nehmen 9) | C4: Tätige Personen insgesamt 11) | D4: Tätige Personen je Handwerks- unternehmen | E4: Umsatz insge- samt 10) in 1.000 EUR | F4: Umsatz je tätige Person 10) in EUR | G4: Tätige Personen in % | H4: Umsatz in %
A5: Deutschland | B5: 564045 | C5: 5989229 | D5: 11 | E5: 761659354 | F5: 127172 | G5: 100 | H5: 100
A6: Baden-Württemberg | B6: 77072 | C6: 881633 | D6: 11 | E6: 119714046 | F6: 135787 | G6: 14.7 | H6: 15.7
A7: Bayern | B7: 105134 | C7: 1117348 | D7: 11 | E7: 152405028 | F7: 136399 | G7: 18.7 | H7: 20
A8: Berlin | B8: 17264 | C8: 196406 | D8: 11 | E8: 20105217 | F8: 102366 | G8: 3.3 | H8: 2.6
A9: Brandenburg | B9: 22318 | C9: 154316 | D9: 7 | E9: 17806261 | F9: 115388 | G9: 2.6 | H9: 2.3
A10: Bremen | B10: 3039 | C10: 38028 | D10: 13 | E10: 3752725 | F10: 98683 | G10: 0.6 | H10: 0.5
A11: Hamburg | B11: 8689 | C11: 113770 | D11: 13 | E11: 14889477 | F11: 130873 | G11: 1.9 | H11: 2
A12: Hessen | B12: 41809 | C12: 422753 | D12: 10 | E12: 48560437 | F12: 114867 | G12: 7.1 | H12: 6.4
A13: Mecklenburg-Vorpommern | B13: 11943 | C13: 92763 | D13: 8 | E13: 10632584 | F13: 114621 | G13: 1.5 | H13: 1.4
A14: Niedersachsen | B14: 46194 | C14: 578081 | D14: 13 | E14: 75507172 | F14: 130617 | G14: 9.7 | H14: 9.9
A15: Nordrhein-Westfalen | B15: 109023 | C15: 1281042 | D15: 12 | E15: 161491662 | F15: 126063 | G15: 21.4 | H15: 21.2
A16: Rheinland-Pfalz | B16: 28480 | C16: 283251 | D16: 10 | E16: 38129434 | F16: 134614 | G16: 4.7 | H16: 5
... A21: Thüringen | B21: 17323 | C21: 130635 | D21: 8 | E21: 15539017 | F21: 118950 | G21: 2.2 | H21: 2
A23: Grafik 13.11 | J23: Daten der Grafik 13.11 "Umsatz je tätige Person in Handwerksunternehmen 2024 im Ländervergleich"
J24: Bundesland | K24: Umsatz je tätige Person in EUR
J25: Baden-Württemberg | K25: =F6 -> 135787
J26: Bayern | K26: =F7 -> 136399
J27: Berlin | K27: =F8 -> 102366
J28: Brandenburg | K28: =F9 -> 115388
J29: Bremen | K29: =F10 -> 98683
J30: Hamburg | K30: =F11 -> 130873
J31: Hessen | K31: =F12 -> 114867
J32: Mecklenburg-Vorpommern | K32: =F13 -> 114621
J33: Niedersachsen | K33: =F14 -> 130617
J34: Nordrhein-Westfalen | K34: =F15 -> 126063
J35: Rheinland-Pfalz | K35: =F16 -> 134614
J36: Saarland | K36: =F17 -> 109964
... J40: Thüringen | K40: =F21 -> 118950
J41: Deutschland | K41: =F5 -> 127172

Sheet 13.4.5
A1: Link zum Inhaltsverzeichnis
A2: 13.4 Handwerk
A3: 13.4.5 Messzahlen Beschäftigte und Umsatz (ohne Umsatzsteuer) in zulassungspflichtigen Handwerksunternehmen 2024 und 2025
A4: nach ausgewählten Gewerbezweigen 12) 15)
A5: Nr. der Klassi­ fikation | B5: Gewerbegruppe Gewerbezweig | C5: Beschäftigte Messzahl 2024 30.09.2020 = 100 | D5: Beschäftigte Messzahl 2025 30.09.2020 = 100 | E5: Umsatz Messzahl 2024 2020 = 100 | F5: Umsatz Messzahl 2025 2020 = 100
A6: I - VII | B6: Insgesamt | C6: 92.8 | D6: 90.2 | E6: 110.4 | F6: 111.2
A7: I | B7: Bauhauptgewerbe | C7: 88.5 | D7: 85.1 | E7: 96.2 | F7: 98
B8: darunter
A9: 01, 05 | B9: Maurer/in und Betonbauer/in; Straßen- bauer/in | C9: 86.6 | D9: 82.5 | E9: 92.6 | F9: 93
A10: 03 | B10: Zimmerin und Zimmerer | C10: 92.8 | D10: 92.3 | E10: 104.2 | F10: 119.6
A11: 04 | B11: Dachdecker/in | C11: 94.6 | D11: 92.4 | E11: 107.8 | F11: 102.4
A12: II | B12: Ausbaugewerbe | C12: 95.6 | D12: 93.1 | E12: 115.4 | F12: 115.8
B13: darunter
A14: 09 | B14: Stuckateur/in | C14: 71.7 | D14: 53.6 | E14: 96.6 | F14: 144.8
A15: 10 | B15: Maler/in und Lackierer/in | C15: 90.4 | D15: 87.4 | E15: 107.5 | F15: 107.6
A16: 23, 24 | B16: Klempner/in; Installateur/in und Heizungs- bauer/in | C16: 97.3 | D16: 95.5 | E16: 112.9 | F16: 108.7
A17: 25 | B17: Elektrotechniker/in | C17: 100 | D17: 98.3 | E17: 131.3 | F17: 137.1
A18: 27 | B18: Tischler/in | C18: 91.5 | D18: 88.8 | E18: 95.7 | F18: 97.1
A19: 39 | B19: Glaser/in | C19: 89.8 | D19: 83.2 | E19: 96 | F19: 98.9
A20: III | B20: Handwerke für den gewerblichen Bedarf | C20: 92 | D20: 89.5 | E20: 119.7 | F20: 121.2
B21: darunter
A22: 13 | B22: Metallbauer/in | C22: 91.8 | D22: 88.6 | E22: 114.5 | F22: 109.9
A23: 16 | B23: Feinwerkmechaniker/in | C23: 94.5 | D23: 95.1 | E23: 110.2 | F23: 116
A24: 19 | B24: Informationstechniker/in | C24: 86.7 | D24: 84.2 | E24: 100.3 | F24: 93
A25: 21 | B25: Land- und Baumaschinenmechatroniker/in | C25: 99.5 | D25: 99.1 | E25: 127.3 | F25: 153.8
A26: IV | B26: Kraftfahrzeuggewerbe | C26: 96.3 | D26: 95.7 | E26: 107.6 | F26: 107.3
B27: darunter
A28: 20 | B28: Kraftfahrzeugtechniker/in | C28: 96.6 | D28: 96.1 | E28: 107.7 | F28: 107.3
A29: V | B29: Lebensmittelgewerbe | C29: 91.1 | D29: 85.9 | E29: 119.2 | F29: 121.4
B30: davon
A31: 30 | B31: Bäcker/in | C31: 94.3 | D31: 87.8 | E31: 128.7 | F31: 129.2
A32: 31 | B32: Konditor/in | C32: 84.5 | D32: 80.9 | E32: 70.9 | F32: 71.8
A33: 32 | B33: Fleischer/in | C33: 81.8 | D33: 80.9 | E33: 104 | F33: 109.2
A34: VI | B34: Gesundheitsgewerbe | C34: 102.3 | D34: 103.6 | E34: 122.5 | F34: 127.2
B35: darunter
A36: 33 | B36: Augenoptiker/in | C36: 100.2 | D36: 98.7 | E36: 119.7 | F36: 118.2
A37: 35 | B37: Orthopädietechniker/in | C37: 111.7 | D37: 114.5 | E37: 126.6 | F37: 133.3
A38: 37 | B38: Zahntechniker/in | C38: 96.2 | D38: 98.1 | E38: 119.8 | F38: 126.1
A39: VII | B39: Handwerke für den privaten Bedarf | C39: 83.3 | D39: 80.6 | E39: 118.3 | F39: 120.5
B40: darunter
A41: 08 | B41: Steinmetz/in und Steinbildhauer/in | C41: 88.5 | D41: 83.6 | E41: 102.9 | F41: 103.4
A42: 38 | B42: Friseur/in | C42: 80.9 | D42: 78.4 | E42: 120.3 | F42: 123

Sheet 13.4.6
A1: Link zum Inhaltsverzeichnis
A2: 13.4 Handwerk
A3: 13.4.6 Messzahlen Beschäftigte und Umsatz (ohne Umsatzsteuer) in zulassungspflichtigen Handwerksunternehmen 2024 und 2025
A4: nach Wirtschaftsgliederung 12) 15)
A5: Nr. der Klassi­ fikation | B5: Wirtschaftsgliederung | C5: Beschäftigte Messzahl 2024 30.09.2020 = 100 | D5: Beschäftigte Messzahl 2025 30.09.2020 = 100 | E5: Umsatz Messzahl 2024 2020 = 100 | F5: Umsatz Messzahl 2025 2020 = 100
B6: Zulassungspflichtiges Handwerk | C6: 92.8 | D6: 90.2 | E6: 110.4 | F6: 111.2
B7: darunter
A8: C | B8: Verarbeitendes Gewerbe | C8: 93.2 | D8: 90.1 | E8: 114.7 | F8: 115
B9: darunter
A10: 10 | B10: Herstellung von Nahrungs- und Futtermitteln | C10: 91.4 | D10: 86.1 | E10: 121.1 | F10: 123.3
A11: 23 | B11: Herstellung von Glas und Glaswaren, Keramik, Verarbeitung von Steinen und Erden | C11: 81.4 | D11: 78 | E11: 91.4 | F11: 97.7
A12: 25 | B12: Herstellung von Metallerzeugnissen | C12: 89.8 | D12: 85.5 | E12: 111.2 | F12: 105.7
B13: darunter
A14: 25.1 | B14: Stahl- und Leichtmetallbau | C14: 87.5 | D14: 84.5 | E14: 110.2 | F14: 105.5
A15: 28 | B15: Maschinenbau | C15: 77.2 | D15: 72.4 | E15: 146.7 | F15: 156.9
A16: 31 | B16: Herstellung von Möbeln | C16: 100.8 | D16: 96 | E16: 104.9 | F16: 104.1
A17: 32 | B17: Herstellung von sonstigen Waren | C17: 101.3 | D17: 104 | E17: 120.7 | F17: 126.7
A18: F | B18: Baugewerbe | C18: 91.9 | D18: 88.8 | E18: 106.1 | F18: 106.6
B19: darunter
B20: Bauhauptgewerbe insgesamt 16) | C20: 90.2 | D20: 86.8 | E20: 103 | F20: 107.5
A21: 43.2 | B21: Bauinstallation | C21: 95.7 | D21: 93.6 | E21: 112.4 | F21: 109
B22: darunter
A23: 43.21 | B23: Elektroinstallation | C23: 96.6 | D23: 94 | E23: 114.8 | F23: 112.1
A24: 43.22 | B24: Gas-, Wasser-, Heizungs- sowie Lüftungs- und Klimainstallation | C24: 96.5 | D24: 94.8 | E24: 112.8 | F24: 108.2
A25: 43.3 | B25: Sonstiger Ausbau | C25: 88.9 | D25: 85.2 | E25: 100.8 | F25: 100
B26: darunter
A27: 43.31 | B27: Anbringen von Stuckaturen, Gipserei und Verputzerei | C27: 84.5 | D27: 77.7 | E27: 101.9 | F27: 97.5
A28: 43.33 | B28: Fußboden-, Fliesen- und Plattenlegerei, Tapeziererei | C28: 89.4 | D28: 85.6 | E28: 97.2 | F28: 96.3
A29: 43.34 | B29: Malerei und Glaserei | C29: 89.2 | D29: 85.4 | E29: 102.1 | F29: 102
A30: G | B30: Handel; Instandhaltung und Reparatur von Kraftfahrzeugen | C30: 98.1 | D30: 97.6 | E30: 111.6 | F30: 112.9
A31: 96 | B31: Erbringung von sonstigen überwiegend persön- lichen Dienstleistungen | C31: 81.1 | D31: 78.6 | E31: 119.5 | F31: 122.4
B32: darunter
A33: 96.02 | B33: Friseur- und Kosmetiksalons | C33: 80.9 | D33: 78.4 | E33: 120.4 | F33: 123

Sheet Fußnotenerläuterungen
A1: Link zum Inhaltsverzeichnis
A2: Fußnotenerläuterungen
A3: 1) | B3: URS-Stand: 30.09.2024.
A4: 2) | B4: Rechtliche Einheiten mit Umsatzsteuervoranmeldungen und/oder abhängig Beschäftigten im Berichtsjahr 2024 sowie Sitz in Deutschland. (URS - Stand: 30.09.2025)
A5: 3) | B5: Niederlassungen von rechtlichen Einheiten mit Sitz in Deutschland, in denen im Berichtsjahr 2024 abhängig Beschäftigte tätig waren. (URS - Stand: 30.09.2025)
A6: 4) | B6: Ohne Automatenaufsteller und Reisegewerbe.
A7: 5) | B7: Ohne Verlagerung (Zuzug).
A8: 6) | B8: Aufgabe (ohne Verlagerung) und teilweise Aufgabe eines weiterhin bestehenden Betriebes.
A9: 7) | B9: Schuldnerinnen und Schuldner mit Sitz/Wohnort in Deutschland, aber außerhalb Mecklenburg-Vorpommerns bzw. mit Sitz/Wohnort außerhalb Deutschlands.
A10: 8) | B10: Ergebnisse der Handwerkszählung.
A11: 9) | B11: Nur Handwerksunternehmen (einschließlich der inzwischen inaktiven) mit steuerbarem Umsatz aus Lieferungen und Leistungen und/oder mit sozialversicherungspflichtig Beschäftigten oder geringfügig entlohnten Beschäftigten im Berichts- jahr.
A12: 10) | B12: Mit geschätzten Umsätzen bei Organschaftsmitgliedern; ohne Umsatzsteuer.
A13: 11) | B13: Einschließlich tätiger Unternehmerinnen und Unternehmer (geschätzt).
A14: 12) | B14: Gewerbe, die in der Anlage A der Handwerksordnung (HwO) aufgeführt sind.
... A18: 16) | B18: Folgende Wirtschaftszweige sind hier einbezogen: 41.2 Bau von Gebäuden, 42 Tiefbau, 43.1 Abbrucharbeiten und vorbereitende Baustellenarbeiten, 43.9 Sonstige spezialisierte Bautätigkeiten.

Sheet Methodik
A1: Link zum Inhaltsverzeichnis
A2: Methodik
A3: Das statistische Unternehmensregister (Unternehmensregister) ist eine regelmäßig aktualisierte Datenbank mit Informationen zu Unter- nehmen, rechtlichen Einheiten und Niederlassungen aus nahezu allen Wirtschaftsbereichen mit steuerbarem Umsatz aus Lieferungen und Leistungen und/oder Beschäftigten. In den hier veröffentlichten Tabellen bleiben rechtliche Einheiten ohne Umsatzsteuervoranmeldung und ohne Beschäftigte unberücksichtigt. Quellen zur Pflege des Unternehmensregisters sind zum einen Dateien aus Verwaltungsbereichen, wie die Bundesagentur für Arbeit oder die Finanzbehörden, und zum anderen Angaben aus einzelnen Bereichsstatistiken, wie z. B. aus Er- hebungen des Produzierenden Gewerbes, des Handels oder des Dienstleistungsbereichs. Das Unternehmensregister wird von den Statis- tischen Ämtern der Länder und dem Statistischen Bundesamt gemeinsam geführt. Das Register ermöglicht eigenständige Auswertungen und dient als wichtiges Instrument zur rationellen Unterstützung statistischer Erhebungen. Es trägt dadurch zur Entlastung der Wirtschaft bei.
A4: Aus dem Unternehmensregister wurden für diese Veröffentlichung Tabellen zu rechtlichen Einheiten und Niederlassungen erstellt (siehe unten Hinweis zu 13.1). Dabei werden Ergebnisse nahezu über alle Wirtschaftszweige hinweg ausgewiesen. Land- und Forstwirtschaft, Fischerei (Abschnitt A der WZ 2008) sowie öffentliche Verwaltungen, Verteidigung; Sozialversicherung (Abschnitt O der WZ 2008) sind derzeit ausgenommen.
A5: Besonderheiten bei der Veröffentlichung von Daten zu rechtlichen Einheiten: Bei rechtlichen Einheiten mit mehreren Niederlassungen ent- spricht die Wirtschaftszweigzuordnung dem Schwerpunkt der rechtlichen Einheit. Die Anzahl der abhängig Beschäftigten der zugehörigen Niederlassungen wird bei der rechtlichen Einheit summiert.
A6: Abweichungen von Angaben des Unternehmensregisters gegenüber einzelnen Fachstatistiken sind durch methodische Unterschiede be- dingt. Sie können unter anderem darauf zurückgeführt werden, dass bei den Tabellen der rechtlichen Einheiten zusätzlich rechtliche Einhei- ten ohne Umsatzsteuerpflicht, aber mit Beschäftigten berücksichtigt werden, während bei den Niederlassungstabellen auch rechtliche Ein- heiten mit nur einer Niederlassung ohne Beschäftigte, jedoch mit Umsatzsteuerpflicht gezählt werden. Dadurch weist das Unternehmens- register tendenziell mehr rechtliche Einheiten als die Umsatzsteuerstatistik und mehr Niederlassungen als die Bundesagentur für Arbeit aus.
A7: Hinweis zu 13.1 Ab dem Berichtsjahr 2018 gibt es bei den Auswertungen aus dem statistischen Unternehmensregister folgende Anpassungen:
A8: Tabellen zu "Unternehmen" werden als Tabellen zu "rechtlichen Einheiten" bezeichnet, Tabellen zu "Betrieben" werden in Tabellen zu "Niederlassungen" umbenannt.
A9: Hintergrund ist die Umsetzung des EU-Unternehmensbegriffs. Die EU-Einheitenverordnung definiert das Unternehmen als "kleinste Kom- bination rechtlicher Einheiten, die eine organisatorische Einheit zur Erzeugung von Waren und Dienstleistungen bildet und […] über eine gewisse Entscheidungsfreiheit verfügt". Somit kann ein Unternehmen auch aus mehreren rechtlichen Einheiten bestehen.
A10: Bis einschließlich Berichtsjahr 2017 wurde in der amtlichen Statistik die "rechtliche Einheit" mit dem Unternehmen gleichgesetzt und beide Begriffe synonym verwendet. Mit der Anwendung der EU-Unternehmensdefinition müssen diese Begriffe künftig klar voneinander unter- schieden werden. Aus dem Unternehmensregister werden (wie in der Vergangenheit auch) Tabellen zu "rechtlichen Einheiten" sowie Ta- bellen zu "Niederlassungen" veröffentlicht.
A11: Die Änderungen betreffen somit lediglich die Bezeichnungen und nicht das Datenangebot.
A12: EU-Einheitenverordnung (EU-Verordnung 696/93)
... A39: Die wirtschaftssystematische Zuordnung erfolgt nach der Klassifikation der Wirtschaftszweige, Ausgabe 2008 (WZ 2008).

Sheet Glossar
A1: Link zum Inhaltsverzeichnis
A2: Glossar
A3: Abhängig Beschäftigte: Die aus dem Unternehmensregister veröffentlichten abhängig Beschäftigten umfassen die sozialversicherungs- pflichtig Beschäftigten und die ausschließlich geringfügig entlohnt Beschäftigten. Kurzfristig Beschäftigte werden nicht nachgewiesen. Die Anzahl der abhängig Beschäftigten wird als Jahresdurchschnittswert abgebildet.
A4: Geringfügig entlohnt Beschäftigte: Eine geringfügig entlohnte Beschäftigung nach § 8 Absatz 1 Nummer 1 SGB IV liegt vor, wenn das Ar- beitsentgelt aus dieser Beschäftigung (§ 14 SGB IV) regelmäßig im Monat 450,- EUR nicht überschreitet. Geringfügig entlohnt Beschäftigte im Nebenjob sind bei Auswertungen aus dem Unternehmensregister nicht enthalten. Angaben über Niederlassungen mit geringfügig ent- lohnt Beschäftigten werden von der Bundesagentur für Arbeit aus dem Kontext der Beschäftigtenstatistik übermittelt.
A5: Gewerbeanmeldung: Die Anmeldung ist abzugeben bei Beginn eines Gewerbes durch Neugründung eines Betriebes, einer Zweigniederlas­ sung oder einer unselbstständigen Zweigstelle, der Übernahme eines bereits bestehenden Betriebes durch eine andere Gewerbetreibende bzw. einen anderen Gewerbetreibenden (z. B. durch Kauf, Pacht, Erbfolge), der Änderung der Rechtsform, einem Gesellschaftereintritt, der Wiedereröffnung nach Verlegung (Zuzug eines Gewerbebetriebes aus einem anderen Meldebezirk) oder der Gründung nach dem Um- wandlungsgesetz.
A6: Gewerbeabmeldung: Die Abmeldung ist abzugeben bei vollständiger Aufgabe eines Betriebes, einer Zweigniederlassung oder einer un­ selbstständigen Zweigstelle (z. B. Betriebsteil), der Verlegung in einen anderen Meldebezirk (Fortzug) oder der Gründung nach dem Um- wandlungsgesetz. Zu den Gewerbeabmeldungen zählt auch die Aufgabe eines weiterhin bestehenden Betriebes (z. B. Erbfolge, Verkauf, Verpachtung), die Änderung der Rechtsform lt. § 14 Absatz 1 Satz 3 GewO oder der Austritt als Gesellschafter.
A7: Allgemeiner Eröffnungsgrund für ein Insolvenzverfahren ist die Zahlungsunfähigkeit. Das Insolvenzverfahren dient dazu, die Gläubige- rinnen bzw. Gläubiger einer Schuldnerin bzw. eines Schuldners gemeinschaftlich zu befriedigen, indem das Vermögen der Schuldnerin bzw. des Schuldners verwertet und der Erlös verteilt oder in einem Insolvenzplan eine abweichende Regelung insbesondere zum Erhalt des Unternehmens getroffen wird.
A8: Handwerksunternehmen sind Unternehmen, die in die Handwerksrolle oder in das Verzeichnis der Gewerbe, die als zulassungsfreie Hand- werke betrieben werden können, eingetragen sind. Einbezogen in die Handwerkszählung sind ausschließlich die selbstständigen Hand- werksunternehmen. Handwerkliche Nebenbetriebe und innerbetriebliche handwerkliche Abteilungen sind nicht Bestandteil der Auswer- tungen.
A9: Niederlassung: Eine Niederlassung ist eine örtliche Einheit, die einer rechtlichen Einheit zugeordnet ist. Zur Niederlassung gehören auch örtlich und organisatorisch angegliederte Teile.
A10: Rechtliche Einheit: Eine rechtliche Einheit wird in der amtlichen Statistik als kleinste rechtlich selbstständige Einheit definiert, die aus han- dels- bzw. steuerrechtlichen Gründen Bücher führt und eine jährliche Feststellung des Vermögensbestandes bzw. des Erfolgs der wirt- schaftlichen Tätigkeit vornehmen muss. Die rechtliche Einheit umfasst alle zugehörigen Niederlassungen. Auch freiberuflich Tätige werden als eigenständige rechtliche Einheit registriert.
A11: Zu den sozialversicherungspflichtig Beschäftigten zählen alle Arbeitnehmerinnen und Arbeitnehmer einschließlich der Auszubildenden, die kranken-, renten-, pflegeversicherungspflichtig und/oder beitragspflichtig nach dem Recht der Arbeitsförderung sind oder für die von den Arbeitgeberinnen bzw. Arbeitgebern Beitragsanteile nach dem Recht der Arbeitsförderung zu entrichten sind.
A12: Tätige Personen in der Handwerkszählung: Tätige Personen umfassen die sozialversicherungspflichtig Beschäftigten, die geringfügig ent- lohnten Beschäftigten und die tätigen Unternehmerinnen und Unternehmer. Die Anzahl der tätigen Unternehmerinnen und Unternehmer wird geschätzt. Erfasst sind auch diejenigen Personen, die nicht im handwerklichen Bereich tätig sind (z. B. Verkaufs- und/oder Verwal­ tungspersonal).
... A14: Unternehmen: Ein Unternehmen wird nach der EU-Einheitenverordnung (EU-Verordnung 696/93) als kleinste Kombination rechtlicher Ein- heiten, die eine organisatorische Einheit zur Erzeugung von Waren und Dienstleistungen bildet und insbesondere in Bezug auf die Verwen- dung der ihr zufließenden laufenden Mittel über eine gewisse Entscheidungsfreiheit verfügt, definiert. Ein Unternehmen übt eine Tätigkeit oder mehrere Tätigkeiten an einem oder an mehreren Standorten aus. Ein Unternehmen kann einer einzigen rechtlichen Einheit ent- sprechen.

Sheet Mehr zum Thema
A1: Link zum Inhaltsverzeichnis – Inhalt dieser Seite sind interne und externe Links.
A2: Mehr zum Thema
A3: Weitere Informationen zum Thema finden Sie auf der Website des Statistischen Amtes Mecklenburg-Vorpommern
A4: > https://www.laiv-mv.de/statistik/
A5: Statistische Berichte Mecklenburg-Vorpommern
A6: > D123 | B6: Gewerbeanzeigen
A7: > D213 | B7: Rechtliche Einheiten und Niederlassungen – Unternehmensregister –
A8: > J113 | B8: Insolvenzen
A9: Qualitätsberichte Statistisches Bundesamt
A10: > Unternehmen
A11: > Handwerk
A12: Fachliche Informationen
A13: Unternehmensregister
A14: Martin Axnick, Telefon: 0385 588-56420, martin.axnick@statistik-mv.de
A15: Gewerbeanzeigen, Insolvenzen
A16: Steffen Schubert, Telefon: 0385 588-56041, steffen.schubert@statistik-mv.de
A17: Handwerk
A18: Frauke Kusenack, Telefon: 0385 588-56043, frauke.kusenack@statistik-mv.de
A19: Quellenangaben
A20: Tabelle 13.1.4: Statistische Ämter des Bundes und der Länder
... A23: Tabelle 13.4.4: Statistisches Bundesamt, GENESIS-Online, Code 53111-0011
